BEGIN:VCALENDAR
VERSION:2.0
PRODID:-//Out on the Town - ECPv6.15.19//NONSGML v1.0//EN
CALSCALE:GREGORIAN
METHOD:PUBLISH
X-WR-CALNAME:Out on the Town
X-ORIGINAL-URL:https://outonthetownli.com
X-WR-CALDESC:Events for Out on the Town
REFRESH-INTERVAL;VALUE=DURATION:PT1H
X-Robots-Tag:noindex
X-PUBLISHED-TTL:PT1H
BEGIN:VTIMEZONE
TZID:America/New_York
BEGIN:DAYLIGHT
TZOFFSETFROM:-0500
TZOFFSETTO:-0400
TZNAME:EDT
DTSTART:20250309T070000
END:DAYLIGHT
BEGIN:STANDARD
TZOFFSETFROM:-0400
TZOFFSETTO:-0500
TZNAME:EST
DTSTART:20251102T060000
END:STANDARD
BEGIN:DAYLIGHT
TZOFFSETFROM:-0500
TZOFFSETTO:-0400
TZNAME:EDT
DTSTART:20260308T070000
END:DAYLIGHT
BEGIN:STANDARD
TZOFFSETFROM:-0400
TZOFFSETTO:-0500
TZNAME:EST
DTSTART:20261101T060000
END:STANDARD
BEGIN:DAYLIGHT
TZOFFSETFROM:-0500
TZOFFSETTO:-0400
TZNAME:EDT
DTSTART:20270314T070000
END:DAYLIGHT
BEGIN:STANDARD
TZOFFSETFROM:-0400
TZOFFSETTO:-0500
TZNAME:EST
DTSTART:20271107T060000
END:STANDARD
END:VTIMEZONE
BEGIN:VEVENT
DTSTART;TZID=America/New_York:20260420T120000
DTEND;TZID=America/New_York:20260420T200000
DTSTAMP:20260420T030244
CREATED:20240919T122040Z
LAST-MODIFIED:20251221T183604Z
UID:10023030-1776686400-1776715200@outonthetownli.com
SUMMARY:Riverhead Ciderhouse
DESCRIPTION:Favorite0🎉 Get ready for a jam-packed calendar of entertainment at Riverhead Ciderhouse! From brain-bending Trivia Nights to the toe-tapping tunes of Dueling Pianos and amazing Live Music\, we’ve got it all. Check out our upcoming schedule and plan your nights out with us! 🍎🎶
URL:https://outonthetownli.com/event/riverhead-ciderhouse/2026-04-20/
LOCATION:Riverhead Ciderhouse\, 2711 Sound Ave\, Calverton\, 11933
CATEGORIES:Creative Activities,Game Night,Live Music,Night Life
ATTACH;FMTTYPE=image/png:https://outonthetownli.com/wp-content/uploads/2024/09/Capture-12.png
END:VEVENT
BEGIN:VEVENT
DTSTART;TZID=America/New_York:20260420T150000
DTEND;TZID=America/New_York:20260420T200000
DTSTAMP:20260420T030244
CREATED:20250426T035758Z
LAST-MODIFIED:20251221T184252Z
UID:10023238-1776697200-1776715200@outonthetownli.com
SUMMARY:🍹🎸 Happy Hour Just Got a Serious Upgrade!
DESCRIPTION:Favorite0\nJoin us at Lily’s Babylon\, Monday–Friday for your new favorite after-work hangout: \n✅ Drink + App Specials\n✅ Live Music from 5PM–8PM\n✅ Outdoor Patio Vibes\n✅ Starts TODAY! \nCome for the specials\, stay for the music 🎶\n📍 Lily’s Babylon
URL:https://outonthetownli.com/event/%f0%9f%8d%b9%f0%9f%8e%b8-happy-hour-just-got-a-serious-upgrade/2026-04-20/
LOCATION:LILY FLANAGAN’S PUB\, 345 DEER PARK AVE\, BABYLON\, 11702
CATEGORIES:Bands,Live Music,Night Life
ATTACH;FMTTYPE=image/png:https://outonthetownli.com/wp-content/uploads/2025/04/Live-music-mon-fri-5-8pm.png
END:VEVENT
BEGIN:VEVENT
DTSTART;TZID=America/New_York:20260420T170000
DTEND;TZID=America/New_York:20260420T230000
DTSTAMP:20260420T030244
CREATED:20250124T153524Z
LAST-MODIFIED:20251211T042700Z
UID:10023283-1776704400-1776726000@outonthetownli.com
SUMMARY:🔥 Latin Vibes Wednesdays at Kasey’s! 🔥
DESCRIPTION:Favorite0The party kicks off at 9pm with #Casamigos specials all night long! 🎉🍹 \nCome dance the night away! See you there! 💃🕺
URL:https://outonthetownli.com/event/%f0%9f%94%a5-latin-vibes-wednesdays-at-kaseys-%f0%9f%94%a5/2026-04-20/
LOCATION:Kasey’s Kitchen & Cocktails\, 23 N Park Ave\, Rockville Centre\, 11570
CATEGORIES:Live Music,Night Life
ATTACH;FMTTYPE=image/png:https://outonthetownli.com/wp-content/uploads/2025/01/Latin-Vibes-Wednesdays-january25.png
END:VEVENT
BEGIN:VEVENT
DTSTART;TZID=America/New_York:20260420T170000
DTEND;TZID=America/New_York:20260420T230000
DTSTAMP:20260420T030244
CREATED:20250124T153531Z
LAST-MODIFIED:20251207T203611Z
UID:10023344-1776704400-1776726000@outonthetownli.com
SUMMARY:🎉 Ladies Night EVERY Thursday at Kasey’s! 🎉-🎶 Vibes by @dj_mdw!
DESCRIPTION:Favorite0🍹 Enjoy $5 Patron Shots all night long!\n🎶 Vibes by @dj_mdw! \nGather the crew and let’s make it a night to remember! See you there! 💃✨
URL:https://outonthetownli.com/event/%f0%9f%8e%89-ladies-night-every-thursday-at-kaseys-%f0%9f%8e%89-%f0%9f%8e%b6-vibes-by-dj_mdw/2026-04-20/
LOCATION:Kasey’s Kitchen & Cocktails\, 23 N Park Ave\, Rockville Centre\, 11570
CATEGORIES:Live Music,Night Life
ATTACH;FMTTYPE=image/png:https://outonthetownli.com/wp-content/uploads/2025/01/ladies-night-thursdays-january-25.png
END:VEVENT
BEGIN:VEVENT
DTSTART;TZID=America/New_York:20260420T183000
DTEND;TZID=America/New_York:20260420T213000
DTSTAMP:20260420T030244
CREATED:20240627T115003Z
LAST-MODIFIED:20251223T022358Z
UID:10026192-1776709800-1776720600@outonthetownli.com
SUMMARY:Open Mic Mondays at The Harmony
DESCRIPTION:Favorite0🎤 Open Mic Mondays at The Harmony 🎤 \n📅 Every Monday 6:30pm- 9:30pm\n🕖 Hosted by Tom Reynolds \nExpress yourself on stage or enjoy local talent!
URL:https://outonthetownli.com/event/open-mic-mondays-at-the-harmony/2026-04-20/
LOCATION:The Harmony Bar\, 673 Newbridge Road\, Levittown\, 11756
CATEGORIES:Bands,Concert,Live Music,Night Life,Open Mic
ATTACH;FMTTYPE=image/png:https://outonthetownli.com/wp-content/uploads/2024/06/Capture-55.png
END:VEVENT
BEGIN:VEVENT
DTSTART;TZID=America/New_York:20260420T190000
DTEND;TZID=America/New_York:20260420T210000
DTSTAMP:20260420T030244
CREATED:20250529T044630Z
LAST-MODIFIED:20251224T174641Z
UID:10026264-1776711600-1776718800@outonthetownli.com
SUMMARY:🎤 Open Mic Mondays! 🎶
DESCRIPTION:Favorite0\nEvery Monday at 7 PM\n📍 Parsnip Lake House \nCalling all musicians\, poets\, comics\, and creatives—your spotlight is waiting!\nWhether you’re a first-timer or a seasoned performer\, come share your talent in a fun\, welcoming vibe. \nGreat drinks\, great crowd\, and even better vibes.\nSign up starts at 6:30—see you there!
URL:https://outonthetownli.com/event/%f0%9f%8e%a4-open-mic-mondays-%f0%9f%8e%b6/2026-04-20/
LOCATION:Parsnip Lake House\, 432 Smithtown Blvd\, Lake Ronkonkoma\, 11779
CATEGORIES:Live Music,Open Mic
ATTACH;FMTTYPE=image/png:https://outonthetownli.com/wp-content/uploads/2025/05/6-2-25-Open-Mic-Mondays.png
END:VEVENT
BEGIN:VEVENT
DTSTART;TZID=America/New_York:20260420T190000
DTEND;TZID=America/New_York:20260420T223000
DTSTAMP:20260420T030244
CREATED:20250324T021231Z
LAST-MODIFIED:20250324T021232Z
UID:10016703-1776711600-1776724200@outonthetownli.com
SUMMARY:Monday Night Karaoke
DESCRIPTION:Favorite0Monday Night Takeover! \nJoin us Monday nights from 7pm-10pm as Buddha’s Killa Karaoke takes over Monday nights! \nBig food & drink specials for our karaoke guests! \n$6 LITS\, Cosmos\, Mojitos. \n$10 Domestic Pitchers \n$10 Buddha Burger that changes every Monday! \nEvery Monday Night!
URL:https://outonthetownli.com/event/monday-night-karaoke/2026-04-20/
LOCATION:1683 Bar\, 401 Sunrise Hwy\, West Islip\, 11704
CATEGORIES:Karaoke,Night Life
ATTACH;FMTTYPE=image/png:https://outonthetownli.com/wp-content/uploads/2025/03/image0000001.png
END:VEVENT
BEGIN:VEVENT
DTSTART;TZID=America/New_York:20260420T190000
DTEND;TZID=America/New_York:20260420T230000
DTSTAMP:20260420T030244
CREATED:20240425T132439Z
LAST-MODIFIED:20251209T030941Z
UID:10023395-1776711600-1776726000@outonthetownli.com
SUMMARY:nspiredWordNYC Presents – EVERY Monday\, Open Mic – Music / Poetry / Comedy
DESCRIPTION:Favorite0EVERY Monday the independent and internationally known InspiredWordNYC presents an open mic for all art forms in our state-of-the-art venue right here in Clinton Hill Brooklyn! Just 25 slots\, 7 minutes apiece for anything spoken\, 8 minutes for singers/musicians (if you have backing tracks please bring them). There is a piano available onstage. \nNot your typical open mic. We attract non-performers\, a true crowd. Not your typical venue\, offering a big\, elevated stage\, state-of-the-art sound and lighting\, comfy seating\, an intimate vibe\, and absolutely INCREDIBLE YUMMY FOOD. \nGET TICKETS AND RESERVE YOUR SLOT HERE \nDoors open at 6:30\, but feel free to come a little early to eat some amazing food! \nCheck out the BMK 5 star Food and Cocktails Menu. \nShowtime : 7:00 pm – 11:00 pm
URL:https://outonthetownli.com/event/nspiredwordnyc-presents-every-monday-open-mic-music-poetry-comedy/2026-04-20/
LOCATION:Brooklyn Music Kitchen\, 177 Vanderbilt Ave\, Brooklyn\, 11205
CATEGORIES:Concert,Live Music
ATTACH;FMTTYPE=image/png:https://outonthetownli.com/wp-content/uploads/2024/04/Capture-2-1.png
END:VEVENT
BEGIN:VEVENT
DTSTART;TZID=America/New_York:20260420T193000
DTEND;TZID=America/New_York:20260420T230000
DTSTAMP:20260420T030244
CREATED:20241120T184325Z
LAST-MODIFIED:20251209T031019Z
UID:10023425-1776713400-1776726000@outonthetownli.com
SUMMARY:Open Mike with Dave Drew – Mondays at Bartini Bar
DESCRIPTION:Favorite0Join us every Monday at Bartini Bar for Open Mike night with Dave Drew! Sign up at 7:30 PM and the music kicks off at 8:30 PM. Come showcase your talent or enjoy the performances in a fun\, lively atmosphere. \nDate: Every Monday\nSign Up: 7:30 PM | Start: 8:30 PM\nSee you at Bartini Bar for a night of great music and good vibes! 🎤🎶
URL:https://outonthetownli.com/event/open-mike-with-dave-drew-mondays-at-bartini-bar/2026-04-20/
LOCATION:Bartini Bar\, 128 N Carll Ave\, Babylon\, 11702
CATEGORIES:Live Music,Night Life,Open Mic
ATTACH;FMTTYPE=image/png:https://outonthetownli.com/wp-content/uploads/2024/11/Capture-8.png
END:VEVENT
BEGIN:VEVENT
DTSTART;TZID=America/New_York:20260420T200000
DTEND;TZID=America/New_York:20260421T000000
DTSTAMP:20260420T030244
CREATED:20241113T184527Z
LAST-MODIFIED:20251221T183755Z
UID:10023455-1776715200-1776729600@outonthetownli.com
SUMMARY:🎤 Karaoke Mondays with Mundy-oke 🎤
DESCRIPTION:Favorite0Every Monday | 8:00 PM – 11:55 PM\n@ Mr. Beery’s \nJoin Kevin Mundy and pals for a night of fun\, music\, and your chance to shine on stage! Grab a mic\, grab a drink\, and get ready to belt out your favorite tunes. Don’t miss out on the best way to kick off your week! 🎶💥 \nSee you there!
URL:https://outonthetownli.com/event/%f0%9f%8e%a4-karaoke-mondays-with-mundy-oke-%f0%9f%8e%a4/2026-04-20/
LOCATION:MR BEERYS\, 4019 Hempstead Tpke\, Bethpage\, 11714
CATEGORIES:Karaoke,Live Music
ATTACH;FMTTYPE=image/png:https://outonthetownli.com/wp-content/uploads/2024/11/Capture-4.png
END:VEVENT
BEGIN:VEVENT
DTSTART;TZID=America/New_York:20260420T200000
DTEND;TZID=America/New_York:20260421T000000
DTSTAMP:20260420T030244
CREATED:20251011T235232Z
LAST-MODIFIED:20251209T031225Z
UID:10023485-1776715200-1776729600@outonthetownli.com
SUMMARY:🎤 MONDAY NIGHT KARAOKE! 🎶
DESCRIPTION:Favorite0Every Monday @ Beau’s Bar – Greenlawn \nKick off your week with good vibes\, strong drinks\, and even stronger vocals at our weekly Karaoke Night! \n🕗 Starts at 8 PM\n🍻 Goes ’til y’all stop drinking!\n🎉 No cover – Just bring your voice (and maybe some courage) \nStart your week the right way — with us at Beau’s Bar.\nGrab a mic\, grab a drink\, and let’s make Mondays fun again! 🎤🍺
URL:https://outonthetownli.com/event/%f0%9f%8e%a4-monday-night-karaoke-%f0%9f%8e%b6/2026-04-20/
LOCATION:Beau’s Bar\, 54 Broadway\, Greenlawn\, 11740-1333
CATEGORIES:Karaoke,Night Life
ATTACH;FMTTYPE=image/png:https://outonthetownli.com/wp-content/uploads/2025/10/10-13-25-MONDAY-NIGHT-Karaoke.png
END:VEVENT
END:VCALENDAR