BEGIN:VCALENDAR
VERSION:2.0
PRODID:-//Out on the Town - ECPv6.15.19//NONSGML v1.0//EN
CALSCALE:GREGORIAN
METHOD:PUBLISH
X-ORIGINAL-URL:https://outonthetownli.com
X-WR-CALDESC:Events for Out on the Town
REFRESH-INTERVAL;VALUE=DURATION:PT1H
X-Robots-Tag:noindex
X-PUBLISHED-TTL:PT1H
BEGIN:VTIMEZONE
TZID:America/New_York
BEGIN:DAYLIGHT
TZOFFSETFROM:-0500
TZOFFSETTO:-0400
TZNAME:EDT
DTSTART:20260308T070000
END:DAYLIGHT
BEGIN:STANDARD
TZOFFSETFROM:-0400
TZOFFSETTO:-0500
TZNAME:EST
DTSTART:20261101T060000
END:STANDARD
BEGIN:DAYLIGHT
TZOFFSETFROM:-0500
TZOFFSETTO:-0400
TZNAME:EDT
DTSTART:20270314T070000
END:DAYLIGHT
BEGIN:STANDARD
TZOFFSETFROM:-0400
TZOFFSETTO:-0500
TZNAME:EST
DTSTART:20271107T060000
END:STANDARD
BEGIN:DAYLIGHT
TZOFFSETFROM:-0500
TZOFFSETTO:-0400
TZNAME:EDT
DTSTART:20280312T070000
END:DAYLIGHT
BEGIN:STANDARD
TZOFFSETFROM:-0400
TZOFFSETTO:-0500
TZNAME:EST
DTSTART:20281105T060000
END:STANDARD
END:VTIMEZONE
BEGIN:VEVENT
DTSTART;TZID=America/New_York:20270416T210000
DTEND;TZID=America/New_York:20270417T010000
DTSTAMP:20260423T124947
CREATED:20240710T232540Z
LAST-MODIFIED:20250707T161501Z
UID:10027020-1807909200-1807923600@outonthetownli.com
SUMMARY:Kara Okee Every Friday at Finnish Line Sports Bar
DESCRIPTION:Favorite0Karaoke Fun at Finnish Line Levittown 9pm.\n4 Hours of a Karaoke Party.\nNo Pool or Darts during Karaoke
URL:https://outonthetownli.com/event/kara-okee-every-friday-at-finnish-line-sports-bar/2027-04-16/
LOCATION:Finnish Line Sports Bar\, 644 Wantagh Ave\, Levittown\, NY\, 11756
CATEGORIES:Karaoke,Live Music,Night Life
ATTACH;FMTTYPE=image/jpeg:https://outonthetownli.com/wp-content/uploads/2024/07/417485430_2202565150099213_5476002304167319919_n-8.jpg
ORGANIZER;CN="Out on the Town":MAILTO:WENDYLEE.PRESTIGE@GMAIL.COM
END:VEVENT
BEGIN:VEVENT
DTSTART;TZID=America/New_York:20270417T200000
DTEND;TZID=America/New_York:20270417T220000
DTSTAMP:20260423T124947
CREATED:20240803T153152Z
LAST-MODIFIED:20240803T153152Z
UID:10027021-1807992000-1807999200@outonthetownli.com
SUMMARY:Glow in the Dark Hip Hop Skate
DESCRIPTION:Favorite0Get ready to groove and skate the night away at the United Skates of America Roller Skating Center! It’s time to put on your coolest glow-in-the-dark gear and show off your moves on the rink. This epic event combines the best of hip hop music and roller skating for a night you won’t forget. \nWith the lights turned down low and the neon lights shining bright\, you’ll feel like you’re skating in a whole new world. The DJ will be spinning the hottest hip hop tracks\, keeping the energy high and the party going. Whether you’re a seasoned skater or a beginner\, this event is for everyone. \nGrab your friends and join us for a night filled with laughter\, good vibes\, and awesome music. Don’t forget to bring your own skates or rent a pair at the venue. So mark your calendars and get ready for a night of glowing fun at the Glow in The Dark Hip Hop Skate Night! \n$15 admission $7 skate Rental $6 Non Skating Adults \nTickets Must Be Purchased in Advance\nAll Guests MUST Have a Waiver whether skating or not to enter the Facility. Waivers are found at www.unitedskates.com/seaford
URL:https://outonthetownli.com/event/glow-in-the-dark-hip-hop-skate/2027-04-17/
LOCATION:United Skates of America\, 1276 Hicksville Rd.\, Seaford\, 11783
ATTACH;FMTTYPE=image/jpeg:https://outonthetownli.com/wp-content/uploads/2024/08/hip-hop-glow-skate.jpg
ORGANIZER;CN="United Skates of America":MAILTO:unitedskates25@usa-skating.com
END:VEVENT
BEGIN:VEVENT
DTSTART;TZID=America/New_York:20270418T200000
DTEND;TZID=America/New_York:20270419T003000
DTSTAMP:20260423T124947
CREATED:20240729T095752Z
LAST-MODIFIED:20240729T095752Z
UID:10027025-1808078400-1808094600@outonthetownli.com
SUMMARY:Karaoke @ 1683!
DESCRIPTION:Favorite0EVERY SUNDAY! KARAOKE WITH JEFF REID! \nLIKE TO SING? COME SING KARAOKE WITH JEFF! \nALWAYS A GREAT TIME HERE! STARTS AT 8:30PM. \nNO FEE OR COVER! JUST COME SING\, RAP\, HUM ETC. SOME OF YOUR FAVORITE TUNES! \nDANCE PARTY & KARAOKE! START YOUR WEEK OFF RIGHT! \nPITCHER SPECIALS!
URL:https://outonthetownli.com/event/karaoke-1683/2027-04-18/
LOCATION:1683 Bar\, 401 Sunrise Hwy\, West Islip\, 11704
ATTACH;FMTTYPE=image/png:https://outonthetownli.com/wp-content/uploads/2024/07/Screenshot-2024-07-28-3.48.50-PM-1.png
END:VEVENT
END:VCALENDAR