BEGIN:VCALENDAR
VERSION:2.0
PRODID:-//Out on the Town - ECPv6.15.19//NONSGML v1.0//EN
CALSCALE:GREGORIAN
METHOD:PUBLISH
X-WR-CALNAME:Out on the Town
X-ORIGINAL-URL:https://outonthetownli.com
X-WR-CALDESC:Events for Out on the Town
REFRESH-INTERVAL;VALUE=DURATION:PT1H
X-Robots-Tag:noindex
X-PUBLISHED-TTL:PT1H
BEGIN:VTIMEZONE
TZID:America/New_York
BEGIN:DAYLIGHT
TZOFFSETFROM:-0500
TZOFFSETTO:-0400
TZNAME:EDT
DTSTART:20250309T070000
END:DAYLIGHT
BEGIN:STANDARD
TZOFFSETFROM:-0400
TZOFFSETTO:-0500
TZNAME:EST
DTSTART:20251102T060000
END:STANDARD
BEGIN:DAYLIGHT
TZOFFSETFROM:-0500
TZOFFSETTO:-0400
TZNAME:EDT
DTSTART:20260308T070000
END:DAYLIGHT
BEGIN:STANDARD
TZOFFSETFROM:-0400
TZOFFSETTO:-0500
TZNAME:EST
DTSTART:20261101T060000
END:STANDARD
BEGIN:DAYLIGHT
TZOFFSETFROM:-0500
TZOFFSETTO:-0400
TZNAME:EDT
DTSTART:20270314T070000
END:DAYLIGHT
BEGIN:STANDARD
TZOFFSETFROM:-0400
TZOFFSETTO:-0500
TZNAME:EST
DTSTART:20271107T060000
END:STANDARD
END:VTIMEZONE
BEGIN:VEVENT
DTSTART;TZID=America/New_York:20260710T180000
DTEND;TZID=America/New_York:20260710T210000
DTSTAMP:20260423T183743
CREATED:20260421T123355Z
LAST-MODIFIED:20260421T123407Z
UID:10027011-1783706400-1783717200@outonthetownli.com
SUMMARY:A Toast to Art & Oyster
DESCRIPTION:Favorite0Join us at Hoshyla Farms Lavender Farm for an intimate\, elevated evening where wine\, art\, and oysters come together. A Toast to Art & Oysters is a one-of-a-kind experience featuring local wine and beer\, fresh oysters\, artisanal bites\, live music\, and a guided opportunity to paint your own wine glass to take home. \nThroughout the evening\, guests will have the opportunity to bid in a curated silent art auction showcasing unique works from talented artists to benefit local charity. \n​Your ticket includes (with additional options available): \n🍷 Choice of one glass of wine or beer \n🦪 Half dozen fresh oysters \n🥖 Berry bruschetta \n🍪 Lavender doodle cookie \n🎶 Live music \n🥂 A beautifully curated evening at the farm
URL:https://outonthetownli.com/event/a-toast-to-art-oyster/2026-07-10/
LOCATION:Hoshyla Farms\, 132 Ryerson Ave\, Manorville\, 11949
CATEGORIES:Night Life
ATTACH;FMTTYPE=image/png:https://outonthetownli.com/wp-content/uploads/2026/04/ToastArtOysterFlyer-1.png
ORGANIZER;CN="Hoshyla Farms":MAILTO:info@hoshylafarms.com
END:VEVENT
BEGIN:VEVENT
DTSTART;TZID=America/New_York:20260711T180000
DTEND;TZID=America/New_York:20260711T210000
DTSTAMP:20260423T183744
CREATED:20260421T123355Z
LAST-MODIFIED:20260421T123407Z
UID:10027012-1783792800-1783803600@outonthetownli.com
SUMMARY:A Toast to Art & Oyster
DESCRIPTION:Favorite0Join us at Hoshyla Farms Lavender Farm for an intimate\, elevated evening where wine\, art\, and oysters come together. A Toast to Art & Oysters is a one-of-a-kind experience featuring local wine and beer\, fresh oysters\, artisanal bites\, live music\, and a guided opportunity to paint your own wine glass to take home. \nThroughout the evening\, guests will have the opportunity to bid in a curated silent art auction showcasing unique works from talented artists to benefit local charity. \n​Your ticket includes (with additional options available): \n🍷 Choice of one glass of wine or beer \n🦪 Half dozen fresh oysters \n🥖 Berry bruschetta \n🍪 Lavender doodle cookie \n🎶 Live music \n🥂 A beautifully curated evening at the farm
URL:https://outonthetownli.com/event/a-toast-to-art-oyster/2026-07-11/
LOCATION:Hoshyla Farms\, 132 Ryerson Ave\, Manorville\, 11949
CATEGORIES:Night Life
ATTACH;FMTTYPE=image/png:https://outonthetownli.com/wp-content/uploads/2026/04/ToastArtOysterFlyer-1.png
ORGANIZER;CN="Hoshyla Farms":MAILTO:info@hoshylafarms.com
END:VEVENT
END:VCALENDAR