BEGIN:VCALENDAR
VERSION:2.0
PRODID:-//Out on the Town - ECPv6.15.20//NONSGML v1.0//EN
CALSCALE:GREGORIAN
METHOD:PUBLISH
X-WR-CALNAME:Out on the Town
X-ORIGINAL-URL:https://outonthetownli.com
X-WR-CALDESC:Events for Out on the Town
REFRESH-INTERVAL;VALUE=DURATION:PT1H
X-Robots-Tag:noindex
X-PUBLISHED-TTL:PT1H
BEGIN:VTIMEZONE
TZID:America/New_York
BEGIN:DAYLIGHT
TZOFFSETFROM:-0500
TZOFFSETTO:-0400
TZNAME:EDT
DTSTART:20250309T070000
END:DAYLIGHT
BEGIN:STANDARD
TZOFFSETFROM:-0400
TZOFFSETTO:-0500
TZNAME:EST
DTSTART:20251102T060000
END:STANDARD
BEGIN:DAYLIGHT
TZOFFSETFROM:-0500
TZOFFSETTO:-0400
TZNAME:EDT
DTSTART:20260308T070000
END:DAYLIGHT
BEGIN:STANDARD
TZOFFSETFROM:-0400
TZOFFSETTO:-0500
TZNAME:EST
DTSTART:20261101T060000
END:STANDARD
BEGIN:DAYLIGHT
TZOFFSETFROM:-0500
TZOFFSETTO:-0400
TZNAME:EDT
DTSTART:20270314T070000
END:DAYLIGHT
BEGIN:STANDARD
TZOFFSETFROM:-0400
TZOFFSETTO:-0500
TZNAME:EST
DTSTART:20271107T060000
END:STANDARD
END:VTIMEZONE
BEGIN:VEVENT
DTSTART;TZID=America/New_York:20260506T183000
DTEND;TZID=America/New_York:20260506T220000
DTSTAMP:20260424T170356
CREATED:20260424T124527Z
LAST-MODIFIED:20260424T124527Z
UID:10027029-1778092200-1778104800@outonthetownli.com
SUMMARY:🎤✨ Open Mic Night ✨🎤
DESCRIPTION:Favorite0Looking for your new midweek tradition? Join us EVERY WEDNESDAY at Garden Grill for Open Mic Night! 🎶 \nBring your instrument\, grab the mic\, and share your sound—or just sit back\, relax\, and enjoy great music\, food\, and drinks. \n📅 Wednesdays\n📍 Garden Grill\, Smithtown \nMake it your new weekly ritual—we’ll see you there!
URL:https://outonthetownli.com/event/%f0%9f%8e%a4%e2%9c%a8-open-mic-night-%e2%9c%a8%f0%9f%8e%a4/2026-05-06/
LOCATION:Garden Grill\, 64 N.Country Rd.\, Smithtown\, 11787
CATEGORIES:Bands,Live Music
ATTACH;FMTTYPE=image/png:https://outonthetownli.com/wp-content/uploads/2026/04/5-6-26-Open-Mic-Night.png
END:VEVENT
BEGIN:VEVENT
DTSTART;TZID=America/New_York:20260513T183000
DTEND;TZID=America/New_York:20260513T220000
DTSTAMP:20260424T170356
CREATED:20260424T124527Z
LAST-MODIFIED:20260424T124527Z
UID:10027030-1778697000-1778709600@outonthetownli.com
SUMMARY:🎤✨ Open Mic Night ✨🎤
DESCRIPTION:Favorite0Looking for your new midweek tradition? Join us EVERY WEDNESDAY at Garden Grill for Open Mic Night! 🎶 \nBring your instrument\, grab the mic\, and share your sound—or just sit back\, relax\, and enjoy great music\, food\, and drinks. \n📅 Wednesdays\n📍 Garden Grill\, Smithtown \nMake it your new weekly ritual—we’ll see you there!
URL:https://outonthetownli.com/event/%f0%9f%8e%a4%e2%9c%a8-open-mic-night-%e2%9c%a8%f0%9f%8e%a4/2026-05-13/
LOCATION:Garden Grill\, 64 N.Country Rd.\, Smithtown\, 11787
CATEGORIES:Bands,Live Music
ATTACH;FMTTYPE=image/png:https://outonthetownli.com/wp-content/uploads/2026/04/5-6-26-Open-Mic-Night.png
END:VEVENT
BEGIN:VEVENT
DTSTART;TZID=America/New_York:20260520T183000
DTEND;TZID=America/New_York:20260520T220000
DTSTAMP:20260424T170356
CREATED:20260424T124527Z
LAST-MODIFIED:20260424T124527Z
UID:10027031-1779301800-1779314400@outonthetownli.com
SUMMARY:🎤✨ Open Mic Night ✨🎤
DESCRIPTION:Favorite0Looking for your new midweek tradition? Join us EVERY WEDNESDAY at Garden Grill for Open Mic Night! 🎶 \nBring your instrument\, grab the mic\, and share your sound—or just sit back\, relax\, and enjoy great music\, food\, and drinks. \n📅 Wednesdays\n📍 Garden Grill\, Smithtown \nMake it your new weekly ritual—we’ll see you there!
URL:https://outonthetownli.com/event/%f0%9f%8e%a4%e2%9c%a8-open-mic-night-%e2%9c%a8%f0%9f%8e%a4/2026-05-20/
LOCATION:Garden Grill\, 64 N.Country Rd.\, Smithtown\, 11787
CATEGORIES:Bands,Live Music
ATTACH;FMTTYPE=image/png:https://outonthetownli.com/wp-content/uploads/2026/04/5-6-26-Open-Mic-Night.png
END:VEVENT
BEGIN:VEVENT
DTSTART;TZID=America/New_York:20260527T183000
DTEND;TZID=America/New_York:20260527T220000
DTSTAMP:20260424T170356
CREATED:20260424T124527Z
LAST-MODIFIED:20260424T124527Z
UID:10027032-1779906600-1779919200@outonthetownli.com
SUMMARY:🎤✨ Open Mic Night ✨🎤
DESCRIPTION:Favorite0Looking for your new midweek tradition? Join us EVERY WEDNESDAY at Garden Grill for Open Mic Night! 🎶 \nBring your instrument\, grab the mic\, and share your sound—or just sit back\, relax\, and enjoy great music\, food\, and drinks. \n📅 Wednesdays\n📍 Garden Grill\, Smithtown \nMake it your new weekly ritual—we’ll see you there!
URL:https://outonthetownli.com/event/%f0%9f%8e%a4%e2%9c%a8-open-mic-night-%e2%9c%a8%f0%9f%8e%a4/2026-05-27/
LOCATION:Garden Grill\, 64 N.Country Rd.\, Smithtown\, 11787
CATEGORIES:Bands,Live Music
ATTACH;FMTTYPE=image/png:https://outonthetownli.com/wp-content/uploads/2026/04/5-6-26-Open-Mic-Night.png
END:VEVENT
BEGIN:VEVENT
DTSTART;TZID=America/New_York:20260603T183000
DTEND;TZID=America/New_York:20260603T220000
DTSTAMP:20260424T170356
CREATED:20260424T124527Z
LAST-MODIFIED:20260424T124527Z
UID:10027033-1780511400-1780524000@outonthetownli.com
SUMMARY:🎤✨ Open Mic Night ✨🎤
DESCRIPTION:Favorite0Looking for your new midweek tradition? Join us EVERY WEDNESDAY at Garden Grill for Open Mic Night! 🎶 \nBring your instrument\, grab the mic\, and share your sound—or just sit back\, relax\, and enjoy great music\, food\, and drinks. \n📅 Wednesdays\n📍 Garden Grill\, Smithtown \nMake it your new weekly ritual—we’ll see you there!
URL:https://outonthetownli.com/event/%f0%9f%8e%a4%e2%9c%a8-open-mic-night-%e2%9c%a8%f0%9f%8e%a4/2026-06-03/
LOCATION:Garden Grill\, 64 N.Country Rd.\, Smithtown\, 11787
CATEGORIES:Bands,Live Music
ATTACH;FMTTYPE=image/png:https://outonthetownli.com/wp-content/uploads/2026/04/5-6-26-Open-Mic-Night.png
END:VEVENT
BEGIN:VEVENT
DTSTART;TZID=America/New_York:20260610T183000
DTEND;TZID=America/New_York:20260610T220000
DTSTAMP:20260424T170356
CREATED:20260424T124527Z
LAST-MODIFIED:20260424T124527Z
UID:10027034-1781116200-1781128800@outonthetownli.com
SUMMARY:🎤✨ Open Mic Night ✨🎤
DESCRIPTION:Favorite0Looking for your new midweek tradition? Join us EVERY WEDNESDAY at Garden Grill for Open Mic Night! 🎶 \nBring your instrument\, grab the mic\, and share your sound—or just sit back\, relax\, and enjoy great music\, food\, and drinks. \n📅 Wednesdays\n📍 Garden Grill\, Smithtown \nMake it your new weekly ritual—we’ll see you there!
URL:https://outonthetownli.com/event/%f0%9f%8e%a4%e2%9c%a8-open-mic-night-%e2%9c%a8%f0%9f%8e%a4/2026-06-10/
LOCATION:Garden Grill\, 64 N.Country Rd.\, Smithtown\, 11787
CATEGORIES:Bands,Live Music
ATTACH;FMTTYPE=image/png:https://outonthetownli.com/wp-content/uploads/2026/04/5-6-26-Open-Mic-Night.png
END:VEVENT
BEGIN:VEVENT
DTSTART;TZID=America/New_York:20260617T183000
DTEND;TZID=America/New_York:20260617T220000
DTSTAMP:20260424T170356
CREATED:20260424T124527Z
LAST-MODIFIED:20260424T124527Z
UID:10027035-1781721000-1781733600@outonthetownli.com
SUMMARY:🎤✨ Open Mic Night ✨🎤
DESCRIPTION:Favorite0Looking for your new midweek tradition? Join us EVERY WEDNESDAY at Garden Grill for Open Mic Night! 🎶 \nBring your instrument\, grab the mic\, and share your sound—or just sit back\, relax\, and enjoy great music\, food\, and drinks. \n📅 Wednesdays\n📍 Garden Grill\, Smithtown \nMake it your new weekly ritual—we’ll see you there!
URL:https://outonthetownli.com/event/%f0%9f%8e%a4%e2%9c%a8-open-mic-night-%e2%9c%a8%f0%9f%8e%a4/2026-06-17/
LOCATION:Garden Grill\, 64 N.Country Rd.\, Smithtown\, 11787
CATEGORIES:Bands,Live Music
ATTACH;FMTTYPE=image/png:https://outonthetownli.com/wp-content/uploads/2026/04/5-6-26-Open-Mic-Night.png
END:VEVENT
BEGIN:VEVENT
DTSTART;TZID=America/New_York:20260624T183000
DTEND;TZID=America/New_York:20260624T220000
DTSTAMP:20260424T170356
CREATED:20260424T124527Z
LAST-MODIFIED:20260424T124527Z
UID:10027036-1782325800-1782338400@outonthetownli.com
SUMMARY:🎤✨ Open Mic Night ✨🎤
DESCRIPTION:Favorite0Looking for your new midweek tradition? Join us EVERY WEDNESDAY at Garden Grill for Open Mic Night! 🎶 \nBring your instrument\, grab the mic\, and share your sound—or just sit back\, relax\, and enjoy great music\, food\, and drinks. \n📅 Wednesdays\n📍 Garden Grill\, Smithtown \nMake it your new weekly ritual—we’ll see you there!
URL:https://outonthetownli.com/event/%f0%9f%8e%a4%e2%9c%a8-open-mic-night-%e2%9c%a8%f0%9f%8e%a4/2026-06-24/
LOCATION:Garden Grill\, 64 N.Country Rd.\, Smithtown\, 11787
CATEGORIES:Bands,Live Music
ATTACH;FMTTYPE=image/png:https://outonthetownli.com/wp-content/uploads/2026/04/5-6-26-Open-Mic-Night.png
END:VEVENT
BEGIN:VEVENT
DTSTART;TZID=America/New_York:20260701T183000
DTEND;TZID=America/New_York:20260701T220000
DTSTAMP:20260424T170356
CREATED:20260424T124527Z
LAST-MODIFIED:20260424T124527Z
UID:10027037-1782930600-1782943200@outonthetownli.com
SUMMARY:🎤✨ Open Mic Night ✨🎤
DESCRIPTION:Favorite0Looking for your new midweek tradition? Join us EVERY WEDNESDAY at Garden Grill for Open Mic Night! 🎶 \nBring your instrument\, grab the mic\, and share your sound—or just sit back\, relax\, and enjoy great music\, food\, and drinks. \n📅 Wednesdays\n📍 Garden Grill\, Smithtown \nMake it your new weekly ritual—we’ll see you there!
URL:https://outonthetownli.com/event/%f0%9f%8e%a4%e2%9c%a8-open-mic-night-%e2%9c%a8%f0%9f%8e%a4/2026-07-01/
LOCATION:Garden Grill\, 64 N.Country Rd.\, Smithtown\, 11787
CATEGORIES:Bands,Live Music
ATTACH;FMTTYPE=image/png:https://outonthetownli.com/wp-content/uploads/2026/04/5-6-26-Open-Mic-Night.png
END:VEVENT
BEGIN:VEVENT
DTSTART;TZID=America/New_York:20260708T183000
DTEND;TZID=America/New_York:20260708T220000
DTSTAMP:20260424T170356
CREATED:20260424T124527Z
LAST-MODIFIED:20260424T124527Z
UID:10027038-1783535400-1783548000@outonthetownli.com
SUMMARY:🎤✨ Open Mic Night ✨🎤
DESCRIPTION:Favorite0Looking for your new midweek tradition? Join us EVERY WEDNESDAY at Garden Grill for Open Mic Night! 🎶 \nBring your instrument\, grab the mic\, and share your sound—or just sit back\, relax\, and enjoy great music\, food\, and drinks. \n📅 Wednesdays\n📍 Garden Grill\, Smithtown \nMake it your new weekly ritual—we’ll see you there!
URL:https://outonthetownli.com/event/%f0%9f%8e%a4%e2%9c%a8-open-mic-night-%e2%9c%a8%f0%9f%8e%a4/2026-07-08/
LOCATION:Garden Grill\, 64 N.Country Rd.\, Smithtown\, 11787
CATEGORIES:Bands,Live Music
ATTACH;FMTTYPE=image/png:https://outonthetownli.com/wp-content/uploads/2026/04/5-6-26-Open-Mic-Night.png
END:VEVENT
BEGIN:VEVENT
DTSTART;TZID=America/New_York:20260715T183000
DTEND;TZID=America/New_York:20260715T220000
DTSTAMP:20260424T170356
CREATED:20260424T124527Z
LAST-MODIFIED:20260424T124527Z
UID:10027039-1784140200-1784152800@outonthetownli.com
SUMMARY:🎤✨ Open Mic Night ✨🎤
DESCRIPTION:Favorite0Looking for your new midweek tradition? Join us EVERY WEDNESDAY at Garden Grill for Open Mic Night! 🎶 \nBring your instrument\, grab the mic\, and share your sound—or just sit back\, relax\, and enjoy great music\, food\, and drinks. \n📅 Wednesdays\n📍 Garden Grill\, Smithtown \nMake it your new weekly ritual—we’ll see you there!
URL:https://outonthetownli.com/event/%f0%9f%8e%a4%e2%9c%a8-open-mic-night-%e2%9c%a8%f0%9f%8e%a4/2026-07-15/
LOCATION:Garden Grill\, 64 N.Country Rd.\, Smithtown\, 11787
CATEGORIES:Bands,Live Music
ATTACH;FMTTYPE=image/png:https://outonthetownli.com/wp-content/uploads/2026/04/5-6-26-Open-Mic-Night.png
END:VEVENT
BEGIN:VEVENT
DTSTART;TZID=America/New_York:20260722T183000
DTEND;TZID=America/New_York:20260722T220000
DTSTAMP:20260424T170356
CREATED:20260424T124527Z
LAST-MODIFIED:20260424T124527Z
UID:10027040-1784745000-1784757600@outonthetownli.com
SUMMARY:🎤✨ Open Mic Night ✨🎤
DESCRIPTION:Favorite0Looking for your new midweek tradition? Join us EVERY WEDNESDAY at Garden Grill for Open Mic Night! 🎶 \nBring your instrument\, grab the mic\, and share your sound—or just sit back\, relax\, and enjoy great music\, food\, and drinks. \n📅 Wednesdays\n📍 Garden Grill\, Smithtown \nMake it your new weekly ritual—we’ll see you there!
URL:https://outonthetownli.com/event/%f0%9f%8e%a4%e2%9c%a8-open-mic-night-%e2%9c%a8%f0%9f%8e%a4/2026-07-22/
LOCATION:Garden Grill\, 64 N.Country Rd.\, Smithtown\, 11787
CATEGORIES:Bands,Live Music
ATTACH;FMTTYPE=image/png:https://outonthetownli.com/wp-content/uploads/2026/04/5-6-26-Open-Mic-Night.png
END:VEVENT
BEGIN:VEVENT
DTSTART;TZID=America/New_York:20260729T183000
DTEND;TZID=America/New_York:20260729T220000
DTSTAMP:20260424T170356
CREATED:20260424T124527Z
LAST-MODIFIED:20260424T124527Z
UID:10027041-1785349800-1785362400@outonthetownli.com
SUMMARY:🎤✨ Open Mic Night ✨🎤
DESCRIPTION:Favorite0Looking for your new midweek tradition? Join us EVERY WEDNESDAY at Garden Grill for Open Mic Night! 🎶 \nBring your instrument\, grab the mic\, and share your sound—or just sit back\, relax\, and enjoy great music\, food\, and drinks. \n📅 Wednesdays\n📍 Garden Grill\, Smithtown \nMake it your new weekly ritual—we’ll see you there!
URL:https://outonthetownli.com/event/%f0%9f%8e%a4%e2%9c%a8-open-mic-night-%e2%9c%a8%f0%9f%8e%a4/2026-07-29/
LOCATION:Garden Grill\, 64 N.Country Rd.\, Smithtown\, 11787
CATEGORIES:Bands,Live Music
ATTACH;FMTTYPE=image/png:https://outonthetownli.com/wp-content/uploads/2026/04/5-6-26-Open-Mic-Night.png
END:VEVENT
BEGIN:VEVENT
DTSTART;TZID=America/New_York:20260805T183000
DTEND;TZID=America/New_York:20260805T220000
DTSTAMP:20260424T170356
CREATED:20260424T124527Z
LAST-MODIFIED:20260424T124527Z
UID:10027042-1785954600-1785967200@outonthetownli.com
SUMMARY:🎤✨ Open Mic Night ✨🎤
DESCRIPTION:Favorite0Looking for your new midweek tradition? Join us EVERY WEDNESDAY at Garden Grill for Open Mic Night! 🎶 \nBring your instrument\, grab the mic\, and share your sound—or just sit back\, relax\, and enjoy great music\, food\, and drinks. \n📅 Wednesdays\n📍 Garden Grill\, Smithtown \nMake it your new weekly ritual—we’ll see you there!
URL:https://outonthetownli.com/event/%f0%9f%8e%a4%e2%9c%a8-open-mic-night-%e2%9c%a8%f0%9f%8e%a4/2026-08-05/
LOCATION:Garden Grill\, 64 N.Country Rd.\, Smithtown\, 11787
CATEGORIES:Bands,Live Music
ATTACH;FMTTYPE=image/png:https://outonthetownli.com/wp-content/uploads/2026/04/5-6-26-Open-Mic-Night.png
END:VEVENT
BEGIN:VEVENT
DTSTART;TZID=America/New_York:20260812T183000
DTEND;TZID=America/New_York:20260812T220000
DTSTAMP:20260424T170356
CREATED:20260424T124527Z
LAST-MODIFIED:20260424T124527Z
UID:10027043-1786559400-1786572000@outonthetownli.com
SUMMARY:🎤✨ Open Mic Night ✨🎤
DESCRIPTION:Favorite0Looking for your new midweek tradition? Join us EVERY WEDNESDAY at Garden Grill for Open Mic Night! 🎶 \nBring your instrument\, grab the mic\, and share your sound—or just sit back\, relax\, and enjoy great music\, food\, and drinks. \n📅 Wednesdays\n📍 Garden Grill\, Smithtown \nMake it your new weekly ritual—we’ll see you there!
URL:https://outonthetownli.com/event/%f0%9f%8e%a4%e2%9c%a8-open-mic-night-%e2%9c%a8%f0%9f%8e%a4/2026-08-12/
LOCATION:Garden Grill\, 64 N.Country Rd.\, Smithtown\, 11787
CATEGORIES:Bands,Live Music
ATTACH;FMTTYPE=image/png:https://outonthetownli.com/wp-content/uploads/2026/04/5-6-26-Open-Mic-Night.png
END:VEVENT
BEGIN:VEVENT
DTSTART;TZID=America/New_York:20260819T183000
DTEND;TZID=America/New_York:20260819T220000
DTSTAMP:20260424T170356
CREATED:20260424T124527Z
LAST-MODIFIED:20260424T124527Z
UID:10027044-1787164200-1787176800@outonthetownli.com
SUMMARY:🎤✨ Open Mic Night ✨🎤
DESCRIPTION:Favorite0Looking for your new midweek tradition? Join us EVERY WEDNESDAY at Garden Grill for Open Mic Night! 🎶 \nBring your instrument\, grab the mic\, and share your sound—or just sit back\, relax\, and enjoy great music\, food\, and drinks. \n📅 Wednesdays\n📍 Garden Grill\, Smithtown \nMake it your new weekly ritual—we’ll see you there!
URL:https://outonthetownli.com/event/%f0%9f%8e%a4%e2%9c%a8-open-mic-night-%e2%9c%a8%f0%9f%8e%a4/2026-08-19/
LOCATION:Garden Grill\, 64 N.Country Rd.\, Smithtown\, 11787
CATEGORIES:Bands,Live Music
ATTACH;FMTTYPE=image/png:https://outonthetownli.com/wp-content/uploads/2026/04/5-6-26-Open-Mic-Night.png
END:VEVENT
BEGIN:VEVENT
DTSTART;TZID=America/New_York:20260826T183000
DTEND;TZID=America/New_York:20260826T220000
DTSTAMP:20260424T170356
CREATED:20260424T124527Z
LAST-MODIFIED:20260424T124527Z
UID:10027045-1787769000-1787781600@outonthetownli.com
SUMMARY:🎤✨ Open Mic Night ✨🎤
DESCRIPTION:Favorite0Looking for your new midweek tradition? Join us EVERY WEDNESDAY at Garden Grill for Open Mic Night! 🎶 \nBring your instrument\, grab the mic\, and share your sound—or just sit back\, relax\, and enjoy great music\, food\, and drinks. \n📅 Wednesdays\n📍 Garden Grill\, Smithtown \nMake it your new weekly ritual—we’ll see you there!
URL:https://outonthetownli.com/event/%f0%9f%8e%a4%e2%9c%a8-open-mic-night-%e2%9c%a8%f0%9f%8e%a4/2026-08-26/
LOCATION:Garden Grill\, 64 N.Country Rd.\, Smithtown\, 11787
CATEGORIES:Bands,Live Music
ATTACH;FMTTYPE=image/png:https://outonthetownli.com/wp-content/uploads/2026/04/5-6-26-Open-Mic-Night.png
END:VEVENT
BEGIN:VEVENT
DTSTART;TZID=America/New_York:20260902T183000
DTEND;TZID=America/New_York:20260902T220000
DTSTAMP:20260424T170356
CREATED:20260424T124527Z
LAST-MODIFIED:20260424T124527Z
UID:10027046-1788373800-1788386400@outonthetownli.com
SUMMARY:🎤✨ Open Mic Night ✨🎤
DESCRIPTION:Favorite0Looking for your new midweek tradition? Join us EVERY WEDNESDAY at Garden Grill for Open Mic Night! 🎶 \nBring your instrument\, grab the mic\, and share your sound—or just sit back\, relax\, and enjoy great music\, food\, and drinks. \n📅 Wednesdays\n📍 Garden Grill\, Smithtown \nMake it your new weekly ritual—we’ll see you there!
URL:https://outonthetownli.com/event/%f0%9f%8e%a4%e2%9c%a8-open-mic-night-%e2%9c%a8%f0%9f%8e%a4/2026-09-02/
LOCATION:Garden Grill\, 64 N.Country Rd.\, Smithtown\, 11787
CATEGORIES:Bands,Live Music
ATTACH;FMTTYPE=image/png:https://outonthetownli.com/wp-content/uploads/2026/04/5-6-26-Open-Mic-Night.png
END:VEVENT
BEGIN:VEVENT
DTSTART;TZID=America/New_York:20260909T183000
DTEND;TZID=America/New_York:20260909T220000
DTSTAMP:20260424T170356
CREATED:20260424T124527Z
LAST-MODIFIED:20260424T124527Z
UID:10027047-1788978600-1788991200@outonthetownli.com
SUMMARY:🎤✨ Open Mic Night ✨🎤
DESCRIPTION:Favorite0Looking for your new midweek tradition? Join us EVERY WEDNESDAY at Garden Grill for Open Mic Night! 🎶 \nBring your instrument\, grab the mic\, and share your sound—or just sit back\, relax\, and enjoy great music\, food\, and drinks. \n📅 Wednesdays\n📍 Garden Grill\, Smithtown \nMake it your new weekly ritual—we’ll see you there!
URL:https://outonthetownli.com/event/%f0%9f%8e%a4%e2%9c%a8-open-mic-night-%e2%9c%a8%f0%9f%8e%a4/2026-09-09/
LOCATION:Garden Grill\, 64 N.Country Rd.\, Smithtown\, 11787
CATEGORIES:Bands,Live Music
ATTACH;FMTTYPE=image/png:https://outonthetownli.com/wp-content/uploads/2026/04/5-6-26-Open-Mic-Night.png
END:VEVENT
BEGIN:VEVENT
DTSTART;TZID=America/New_York:20260916T183000
DTEND;TZID=America/New_York:20260916T220000
DTSTAMP:20260424T170356
CREATED:20260424T124527Z
LAST-MODIFIED:20260424T124527Z
UID:10027048-1789583400-1789596000@outonthetownli.com
SUMMARY:🎤✨ Open Mic Night ✨🎤
DESCRIPTION:Favorite0Looking for your new midweek tradition? Join us EVERY WEDNESDAY at Garden Grill for Open Mic Night! 🎶 \nBring your instrument\, grab the mic\, and share your sound—or just sit back\, relax\, and enjoy great music\, food\, and drinks. \n📅 Wednesdays\n📍 Garden Grill\, Smithtown \nMake it your new weekly ritual—we’ll see you there!
URL:https://outonthetownli.com/event/%f0%9f%8e%a4%e2%9c%a8-open-mic-night-%e2%9c%a8%f0%9f%8e%a4/2026-09-16/
LOCATION:Garden Grill\, 64 N.Country Rd.\, Smithtown\, 11787
CATEGORIES:Bands,Live Music
ATTACH;FMTTYPE=image/png:https://outonthetownli.com/wp-content/uploads/2026/04/5-6-26-Open-Mic-Night.png
END:VEVENT
BEGIN:VEVENT
DTSTART;TZID=America/New_York:20260923T183000
DTEND;TZID=America/New_York:20260923T220000
DTSTAMP:20260424T170356
CREATED:20260424T124527Z
LAST-MODIFIED:20260424T124527Z
UID:10027049-1790188200-1790200800@outonthetownli.com
SUMMARY:🎤✨ Open Mic Night ✨🎤
DESCRIPTION:Favorite0Looking for your new midweek tradition? Join us EVERY WEDNESDAY at Garden Grill for Open Mic Night! 🎶 \nBring your instrument\, grab the mic\, and share your sound—or just sit back\, relax\, and enjoy great music\, food\, and drinks. \n📅 Wednesdays\n📍 Garden Grill\, Smithtown \nMake it your new weekly ritual—we’ll see you there!
URL:https://outonthetownli.com/event/%f0%9f%8e%a4%e2%9c%a8-open-mic-night-%e2%9c%a8%f0%9f%8e%a4/2026-09-23/
LOCATION:Garden Grill\, 64 N.Country Rd.\, Smithtown\, 11787
CATEGORIES:Bands,Live Music
ATTACH;FMTTYPE=image/png:https://outonthetownli.com/wp-content/uploads/2026/04/5-6-26-Open-Mic-Night.png
END:VEVENT
BEGIN:VEVENT
DTSTART;TZID=America/New_York:20260930T183000
DTEND;TZID=America/New_York:20260930T220000
DTSTAMP:20260424T170356
CREATED:20260424T124527Z
LAST-MODIFIED:20260424T124527Z
UID:10027050-1790793000-1790805600@outonthetownli.com
SUMMARY:🎤✨ Open Mic Night ✨🎤
DESCRIPTION:Favorite0Looking for your new midweek tradition? Join us EVERY WEDNESDAY at Garden Grill for Open Mic Night! 🎶 \nBring your instrument\, grab the mic\, and share your sound—or just sit back\, relax\, and enjoy great music\, food\, and drinks. \n📅 Wednesdays\n📍 Garden Grill\, Smithtown \nMake it your new weekly ritual—we’ll see you there!
URL:https://outonthetownli.com/event/%f0%9f%8e%a4%e2%9c%a8-open-mic-night-%e2%9c%a8%f0%9f%8e%a4/2026-09-30/
LOCATION:Garden Grill\, 64 N.Country Rd.\, Smithtown\, 11787
CATEGORIES:Bands,Live Music
ATTACH;FMTTYPE=image/png:https://outonthetownli.com/wp-content/uploads/2026/04/5-6-26-Open-Mic-Night.png
END:VEVENT
BEGIN:VEVENT
DTSTART;TZID=America/New_York:20261007T183000
DTEND;TZID=America/New_York:20261007T220000
DTSTAMP:20260424T170357
CREATED:20260424T124527Z
LAST-MODIFIED:20260424T124527Z
UID:10027051-1791397800-1791410400@outonthetownli.com
SUMMARY:🎤✨ Open Mic Night ✨🎤
DESCRIPTION:Favorite0Looking for your new midweek tradition? Join us EVERY WEDNESDAY at Garden Grill for Open Mic Night! 🎶 \nBring your instrument\, grab the mic\, and share your sound—or just sit back\, relax\, and enjoy great music\, food\, and drinks. \n📅 Wednesdays\n📍 Garden Grill\, Smithtown \nMake it your new weekly ritual—we’ll see you there!
URL:https://outonthetownli.com/event/%f0%9f%8e%a4%e2%9c%a8-open-mic-night-%e2%9c%a8%f0%9f%8e%a4/2026-10-07/
LOCATION:Garden Grill\, 64 N.Country Rd.\, Smithtown\, 11787
CATEGORIES:Bands,Live Music
ATTACH;FMTTYPE=image/png:https://outonthetownli.com/wp-content/uploads/2026/04/5-6-26-Open-Mic-Night.png
END:VEVENT
BEGIN:VEVENT
DTSTART;TZID=America/New_York:20261014T183000
DTEND;TZID=America/New_York:20261014T220000
DTSTAMP:20260424T170357
CREATED:20260424T124527Z
LAST-MODIFIED:20260424T124527Z
UID:10027052-1792002600-1792015200@outonthetownli.com
SUMMARY:🎤✨ Open Mic Night ✨🎤
DESCRIPTION:Favorite0Looking for your new midweek tradition? Join us EVERY WEDNESDAY at Garden Grill for Open Mic Night! 🎶 \nBring your instrument\, grab the mic\, and share your sound—or just sit back\, relax\, and enjoy great music\, food\, and drinks. \n📅 Wednesdays\n📍 Garden Grill\, Smithtown \nMake it your new weekly ritual—we’ll see you there!
URL:https://outonthetownli.com/event/%f0%9f%8e%a4%e2%9c%a8-open-mic-night-%e2%9c%a8%f0%9f%8e%a4/2026-10-14/
LOCATION:Garden Grill\, 64 N.Country Rd.\, Smithtown\, 11787
CATEGORIES:Bands,Live Music
ATTACH;FMTTYPE=image/png:https://outonthetownli.com/wp-content/uploads/2026/04/5-6-26-Open-Mic-Night.png
END:VEVENT
BEGIN:VEVENT
DTSTART;TZID=America/New_York:20261021T183000
DTEND;TZID=America/New_York:20261021T220000
DTSTAMP:20260424T170357
CREATED:20260424T124527Z
LAST-MODIFIED:20260424T124527Z
UID:10027053-1792607400-1792620000@outonthetownli.com
SUMMARY:🎤✨ Open Mic Night ✨🎤
DESCRIPTION:Favorite0Looking for your new midweek tradition? Join us EVERY WEDNESDAY at Garden Grill for Open Mic Night! 🎶 \nBring your instrument\, grab the mic\, and share your sound—or just sit back\, relax\, and enjoy great music\, food\, and drinks. \n📅 Wednesdays\n📍 Garden Grill\, Smithtown \nMake it your new weekly ritual—we’ll see you there!
URL:https://outonthetownli.com/event/%f0%9f%8e%a4%e2%9c%a8-open-mic-night-%e2%9c%a8%f0%9f%8e%a4/2026-10-21/
LOCATION:Garden Grill\, 64 N.Country Rd.\, Smithtown\, 11787
CATEGORIES:Bands,Live Music
ATTACH;FMTTYPE=image/png:https://outonthetownli.com/wp-content/uploads/2026/04/5-6-26-Open-Mic-Night.png
END:VEVENT
BEGIN:VEVENT
DTSTART;TZID=America/New_York:20261028T183000
DTEND;TZID=America/New_York:20261028T220000
DTSTAMP:20260424T170357
CREATED:20260424T124527Z
LAST-MODIFIED:20260424T124527Z
UID:10027054-1793212200-1793224800@outonthetownli.com
SUMMARY:🎤✨ Open Mic Night ✨🎤
DESCRIPTION:Favorite0Looking for your new midweek tradition? Join us EVERY WEDNESDAY at Garden Grill for Open Mic Night! 🎶 \nBring your instrument\, grab the mic\, and share your sound—or just sit back\, relax\, and enjoy great music\, food\, and drinks. \n📅 Wednesdays\n📍 Garden Grill\, Smithtown \nMake it your new weekly ritual—we’ll see you there!
URL:https://outonthetownli.com/event/%f0%9f%8e%a4%e2%9c%a8-open-mic-night-%e2%9c%a8%f0%9f%8e%a4/2026-10-28/
LOCATION:Garden Grill\, 64 N.Country Rd.\, Smithtown\, 11787
CATEGORIES:Bands,Live Music
ATTACH;FMTTYPE=image/png:https://outonthetownli.com/wp-content/uploads/2026/04/5-6-26-Open-Mic-Night.png
END:VEVENT
BEGIN:VEVENT
DTSTART;TZID=America/New_York:20261104T183000
DTEND;TZID=America/New_York:20261104T220000
DTSTAMP:20260424T170357
CREATED:20260424T124527Z
LAST-MODIFIED:20260424T124527Z
UID:10027055-1793817000-1793829600@outonthetownli.com
SUMMARY:🎤✨ Open Mic Night ✨🎤
DESCRIPTION:Favorite0Looking for your new midweek tradition? Join us EVERY WEDNESDAY at Garden Grill for Open Mic Night! 🎶 \nBring your instrument\, grab the mic\, and share your sound—or just sit back\, relax\, and enjoy great music\, food\, and drinks. \n📅 Wednesdays\n📍 Garden Grill\, Smithtown \nMake it your new weekly ritual—we’ll see you there!
URL:https://outonthetownli.com/event/%f0%9f%8e%a4%e2%9c%a8-open-mic-night-%e2%9c%a8%f0%9f%8e%a4/2026-11-04/
LOCATION:Garden Grill\, 64 N.Country Rd.\, Smithtown\, 11787
CATEGORIES:Bands,Live Music
ATTACH;FMTTYPE=image/png:https://outonthetownli.com/wp-content/uploads/2026/04/5-6-26-Open-Mic-Night.png
END:VEVENT
BEGIN:VEVENT
DTSTART;TZID=America/New_York:20261111T183000
DTEND;TZID=America/New_York:20261111T220000
DTSTAMP:20260424T170357
CREATED:20260424T124527Z
LAST-MODIFIED:20260424T124527Z
UID:10027056-1794421800-1794434400@outonthetownli.com
SUMMARY:🎤✨ Open Mic Night ✨🎤
DESCRIPTION:Favorite0Looking for your new midweek tradition? Join us EVERY WEDNESDAY at Garden Grill for Open Mic Night! 🎶 \nBring your instrument\, grab the mic\, and share your sound—or just sit back\, relax\, and enjoy great music\, food\, and drinks. \n📅 Wednesdays\n📍 Garden Grill\, Smithtown \nMake it your new weekly ritual—we’ll see you there!
URL:https://outonthetownli.com/event/%f0%9f%8e%a4%e2%9c%a8-open-mic-night-%e2%9c%a8%f0%9f%8e%a4/2026-11-11/
LOCATION:Garden Grill\, 64 N.Country Rd.\, Smithtown\, 11787
CATEGORIES:Bands,Live Music
ATTACH;FMTTYPE=image/png:https://outonthetownli.com/wp-content/uploads/2026/04/5-6-26-Open-Mic-Night.png
END:VEVENT
BEGIN:VEVENT
DTSTART;TZID=America/New_York:20261118T183000
DTEND;TZID=America/New_York:20261118T220000
DTSTAMP:20260424T170357
CREATED:20260424T124527Z
LAST-MODIFIED:20260424T124527Z
UID:10027057-1795026600-1795039200@outonthetownli.com
SUMMARY:🎤✨ Open Mic Night ✨🎤
DESCRIPTION:Favorite0Looking for your new midweek tradition? Join us EVERY WEDNESDAY at Garden Grill for Open Mic Night! 🎶 \nBring your instrument\, grab the mic\, and share your sound—or just sit back\, relax\, and enjoy great music\, food\, and drinks. \n📅 Wednesdays\n📍 Garden Grill\, Smithtown \nMake it your new weekly ritual—we’ll see you there!
URL:https://outonthetownli.com/event/%f0%9f%8e%a4%e2%9c%a8-open-mic-night-%e2%9c%a8%f0%9f%8e%a4/2026-11-18/
LOCATION:Garden Grill\, 64 N.Country Rd.\, Smithtown\, 11787
CATEGORIES:Bands,Live Music
ATTACH;FMTTYPE=image/png:https://outonthetownli.com/wp-content/uploads/2026/04/5-6-26-Open-Mic-Night.png
END:VEVENT
BEGIN:VEVENT
DTSTART;TZID=America/New_York:20261125T183000
DTEND;TZID=America/New_York:20261125T220000
DTSTAMP:20260424T170357
CREATED:20260424T124527Z
LAST-MODIFIED:20260424T124527Z
UID:10027058-1795631400-1795644000@outonthetownli.com
SUMMARY:🎤✨ Open Mic Night ✨🎤
DESCRIPTION:Favorite0Looking for your new midweek tradition? Join us EVERY WEDNESDAY at Garden Grill for Open Mic Night! 🎶 \nBring your instrument\, grab the mic\, and share your sound—or just sit back\, relax\, and enjoy great music\, food\, and drinks. \n📅 Wednesdays\n📍 Garden Grill\, Smithtown \nMake it your new weekly ritual—we’ll see you there!
URL:https://outonthetownli.com/event/%f0%9f%8e%a4%e2%9c%a8-open-mic-night-%e2%9c%a8%f0%9f%8e%a4/2026-11-25/
LOCATION:Garden Grill\, 64 N.Country Rd.\, Smithtown\, 11787
CATEGORIES:Bands,Live Music
ATTACH;FMTTYPE=image/png:https://outonthetownli.com/wp-content/uploads/2026/04/5-6-26-Open-Mic-Night.png
END:VEVENT
END:VCALENDAR