BEGIN:VCALENDAR
VERSION:2.0
PRODID:-//Out on the Town - ECPv6.15.20//NONSGML v1.0//EN
CALSCALE:GREGORIAN
METHOD:PUBLISH
X-WR-CALNAME:Out on the Town
X-ORIGINAL-URL:https://outonthetownli.com
X-WR-CALDESC:Events for Out on the Town
REFRESH-INTERVAL;VALUE=DURATION:PT1H
X-Robots-Tag:noindex
X-PUBLISHED-TTL:PT1H
BEGIN:VTIMEZONE
TZID:America/New_York
BEGIN:DAYLIGHT
TZOFFSETFROM:-0500
TZOFFSETTO:-0400
TZNAME:EDT
DTSTART:20250309T070000
END:DAYLIGHT
BEGIN:STANDARD
TZOFFSETFROM:-0400
TZOFFSETTO:-0500
TZNAME:EST
DTSTART:20251102T060000
END:STANDARD
BEGIN:DAYLIGHT
TZOFFSETFROM:-0500
TZOFFSETTO:-0400
TZNAME:EDT
DTSTART:20260308T070000
END:DAYLIGHT
BEGIN:STANDARD
TZOFFSETFROM:-0400
TZOFFSETTO:-0500
TZNAME:EST
DTSTART:20261101T060000
END:STANDARD
BEGIN:DAYLIGHT
TZOFFSETFROM:-0500
TZOFFSETTO:-0400
TZNAME:EDT
DTSTART:20270314T070000
END:DAYLIGHT
BEGIN:STANDARD
TZOFFSETFROM:-0400
TZOFFSETTO:-0500
TZNAME:EST
DTSTART:20271107T060000
END:STANDARD
END:VTIMEZONE
BEGIN:VEVENT
DTSTART;TZID=America/New_York:20260701T120000
DTEND;TZID=America/New_York:20260701T200000
DTSTAMP:20260424T151715
CREATED:20240919T122040Z
LAST-MODIFIED:20251221T183604Z
UID:10023102-1782907200-1782936000@outonthetownli.com
SUMMARY:Riverhead Ciderhouse
DESCRIPTION:Favorite0🎉 Get ready for a jam-packed calendar of entertainment at Riverhead Ciderhouse! From brain-bending Trivia Nights to the toe-tapping tunes of Dueling Pianos and amazing Live Music\, we’ve got it all. Check out our upcoming schedule and plan your nights out with us! 🍎🎶
URL:https://outonthetownli.com/event/riverhead-ciderhouse/2026-07-01/
LOCATION:Riverhead Ciderhouse\, 2711 Sound Ave\, Calverton\, 11933
CATEGORIES:Creative Activities,Game Night,Live Music,Night Life
ATTACH;FMTTYPE=image/png:https://outonthetownli.com/wp-content/uploads/2024/09/Capture-12.png
END:VEVENT
BEGIN:VEVENT
DTSTART;TZID=America/New_York:20260701T190000
DTEND;TZID=America/New_York:20260701T210000
DTSTAMP:20260424T151715
CREATED:20241206T213110Z
LAST-MODIFIED:20251211T041848Z
UID:10024610-1782932400-1782939600@outonthetownli.com
SUMMARY:BINGO NIGHT
DESCRIPTION:Favorite0BINGO NIGHT\nEvery Wednesday – December 11th\nJoin us for Bingo Night! \nTime:\n7:00 PM – 9:00 PM \nSpecials: \n$5 Select Apps for Players\nPrizes include Free Drinks\, Free Apps\, Gift Cards\, and more!\nDon’t miss your chance to win big while enjoying great food and drinks. See you there!
URL:https://outonthetownli.com/event/bingo-night/2026-07-01/
LOCATION:The Village Idiot Pub- Lake Grove\, 2811 Middle Country Rd\, Lake Grove\, 11755
CATEGORIES:Game Night,Night Life
ATTACH;FMTTYPE=image/png:https://outonthetownli.com/wp-content/uploads/2024/12/lake-grove-bingo-night.png
END:VEVENT
BEGIN:VEVENT
DTSTART;TZID=America/New_York:20260701T190000
DTEND;TZID=America/New_York:20260701T210000
DTSTAMP:20260424T151715
CREATED:20250415T191231Z
LAST-MODIFIED:20251211T041440Z
UID:10024460-1782932400-1782939600@outonthetownli.com
SUMMARY:🎉 Bingo Wednesdays at Great South Bay Brewery! 🍻
DESCRIPTION:Favorite0\nJoin us every Wednesday at 7 PM for a night of classic fun\, cold brews\, and good vibes! \n🎱 Free to play\n🏆 Prizes every round\n🍺 Delicious craft beer\n🌮 Food trucks on site \n📍 Great South Bay Brewery – Bay Shore\nBring your friends\, grab a pint\, and let the good times roll!
URL:https://outonthetownli.com/event/%f0%9f%8e%89-bingo-wednesdays-at-great-south-bay-brewery-%f0%9f%8d%bb/2026-07-01/
LOCATION:Great South Bay Brewery\, 25 Drexel Drive\, Bay Shore\, 11706
CATEGORIES:Game Night
ATTACH;FMTTYPE=image/png:https://outonthetownli.com/wp-content/uploads/2025/04/4-16-25-Bingo-Wednesdays.png
END:VEVENT
BEGIN:VEVENT
DTSTART;TZID=America/New_York:20260701T190000
DTEND;TZID=America/New_York:20260701T220000
DTSTAMP:20260424T151715
CREATED:20250207T022624Z
LAST-MODIFIED:20251211T041520Z
UID:10024490-1782932400-1782943200@outonthetownli.com
SUMMARY:Boozy Bingo and Live Music at Harp & Hound!
DESCRIPTION:Favorite0Need a midweek pick-me-up? Join us every Wednesday at 7 PM for Boozy Bingo! 🎉 Enjoy fun\, prizes\, drink specials\, live music\, and a chance to win our Liquor Basket Giveaway! 🍸 \nDon’t miss the good vibes – see you there!
URL:https://outonthetownli.com/event/boozy-bingo-and-live-music-at-harp-hound/2026-07-01/
LOCATION:Harp & Hound\, 528 main street\, Islip\, 11751
CATEGORIES:Live Music,Night Life
ATTACH;FMTTYPE=image/png:https://outonthetownli.com/wp-content/uploads/2025/02/2-12-25-Boozy-Bingo.png
END:VEVENT
BEGIN:VEVENT
DTSTART;TZID=America/New_York:20260701T200000
DTEND;TZID=America/New_York:20260701T220000
DTSTAMP:20260424T151715
CREATED:20240604T140635Z
LAST-MODIFIED:20251211T041145Z
UID:10024370-1782936000-1782943200@outonthetownli.com
SUMMARY:Music Bingo
DESCRIPTION:Favorite0🎶 Exciting News! 🎶 \nJoin us every Wednesday night at Shore House Bar & Grill for an unforgettable evening of Music Bingo! 🎉🎵 Bring your friends and family for a fun-filled night of great music\, delicious food\, and fantastic prizes! Don’t miss out on the chance to test your music knowledge and win big! See you there! 🎉🎶 #MusicBingo #ShoreHouseFun
URL:https://outonthetownli.com/event/music-bingo/2026-07-01/
LOCATION:Shore House Bar & Grill\, 22 East Park Avenue\, Long Beach\, NY\, 11561
CATEGORIES:Creative Activities,Game Night,Night Life
ATTACH;FMTTYPE=image/png:https://outonthetownli.com/wp-content/uploads/2024/06/Capture-1.png
END:VEVENT
BEGIN:VEVENT
DTSTART;TZID=America/New_York:20260701T200000
DTEND;TZID=America/New_York:20260701T220000
DTSTAMP:20260424T151715
CREATED:20250416T143841Z
LAST-MODIFIED:20251211T041022Z
UID:10024310-1782936000-1782943200@outonthetownli.com
SUMMARY:🎶 It’s Country Music Bingo Night!
DESCRIPTION:Favorite0\nJoin us at Daisy’s Nashville Lounge – Patchogue for a night of music\, prizes & Southern charm! \n🗓️ Country Music Bingo\n📍 At Daisy’s Patchogue\n🎁 Win awesome prizes all night long!\n🌟 BONUS: Book a reservation for 4 & get FREE Skillet Nachos! 🧀🔥 \nDon’t miss your shot at a boot-stompin’ good time — it’s bingo like you’ve never played before! \n📞 Call now to reserve your table: 631-403-2900\nSee y’all there! 🎸🍻
URL:https://outonthetownli.com/event/%f0%9f%8e%b6-its-country-music-bingo-night/2026-07-01/
LOCATION:Daisy’s Nashville Lounge\, 22 W Main St Ste #11\, Patchogue\, 11772
CATEGORIES:Game Night
ATTACH;FMTTYPE=image/png:https://outonthetownli.com/wp-content/uploads/2025/04/Country-Music-Bingo-wednesdays.png
END:VEVENT
BEGIN:VEVENT
DTSTART;TZID=America/New_York:20260702T120000
DTEND;TZID=America/New_York:20260702T200000
DTSTAMP:20260424T151715
CREATED:20240919T122040Z
LAST-MODIFIED:20251221T183604Z
UID:10023103-1782993600-1783022400@outonthetownli.com
SUMMARY:Riverhead Ciderhouse
DESCRIPTION:Favorite0🎉 Get ready for a jam-packed calendar of entertainment at Riverhead Ciderhouse! From brain-bending Trivia Nights to the toe-tapping tunes of Dueling Pianos and amazing Live Music\, we’ve got it all. Check out our upcoming schedule and plan your nights out with us! 🍎🎶
URL:https://outonthetownli.com/event/riverhead-ciderhouse/2026-07-02/
LOCATION:Riverhead Ciderhouse\, 2711 Sound Ave\, Calverton\, 11933
CATEGORIES:Creative Activities,Game Night,Live Music,Night Life
ATTACH;FMTTYPE=image/png:https://outonthetownli.com/wp-content/uploads/2024/09/Capture-12.png
END:VEVENT
BEGIN:VEVENT
DTSTART;TZID=America/New_York:20260702T190000
DTEND;TZID=America/New_York:20260702T220000
DTSTAMP:20260424T151715
CREATED:20241218T024304Z
LAST-MODIFIED:20251212T033435Z
UID:10024984-1783018800-1783029600@outonthetownli.com
SUMMARY:🎉 BINGO AT THE BREWERY! 🎉
DESCRIPTION:Favorite0Join us every Thursday at 7 PM for a fun-filled night of Bingo! 🍺\nBuy a pint\, get a Bingo card and play for fabulous prizes! 🏆 \n📍 Where: @PortJeffBrewing\, 22 Mill Creek Rd\n🕖 When: Thursdays at 7 PM \nDon’t miss out on the fun – BINGO and pints await! 🍻
URL:https://outonthetownli.com/event/%f0%9f%8e%89-bingo-at-the-brewery-%f0%9f%8e%89/2026-07-02/
LOCATION:PORT JEFF BREWING COMPANY\, 22 Mill Creek Rd\, Port Jefferson\, 11777
CATEGORIES:Game Night,Night Life
ATTACH;FMTTYPE=image/png:https://outonthetownli.com/wp-content/uploads/2024/12/𝘽𝙄𝙉𝙂𝙊-𝘼𝙩-𝙏𝙝𝙚-𝘽𝙧𝙚𝙬𝙚𝙧𝙮-thursdays.png
END:VEVENT
BEGIN:VEVENT
DTSTART;TZID=America/New_York:20260702T190000
DTEND;TZID=America/New_York:20260702T230000
DTSTAMP:20260424T151715
CREATED:20241025T113507Z
LAST-MODIFIED:20251212T034149Z
UID:10025170-1783018800-1783033200@outonthetownli.com
SUMMARY:🎉 It’s Thursday! 🎉
DESCRIPTION:Favorite0\n\n\n\n\n\n🎉 It’s Thursday! 🎉\n\nKick off the weekend with Steak Day all day and Music Bingo at 7 PM!\n\nJoin us for great food\, fun\, and a head start on the weekend festivities!
URL:https://outonthetownli.com/event/%f0%9f%8e%89-its-thursday-%f0%9f%8e%89/2026-07-02/
LOCATION:Shennanigans Cafe\, 228 Hawkins Ave\, Lake Ronkonkoma\, 11779
CATEGORIES:Game Night
ATTACH;FMTTYPE=image/png:https://outonthetownli.com/wp-content/uploads/2024/10/music-bingo.png
END:VEVENT
BEGIN:VEVENT
DTSTART;TZID=America/New_York:20260703T120000
DTEND;TZID=America/New_York:20260703T200000
DTSTAMP:20260424T151715
CREATED:20240919T122040Z
LAST-MODIFIED:20251221T183604Z
UID:10023104-1783080000-1783108800@outonthetownli.com
SUMMARY:Riverhead Ciderhouse
DESCRIPTION:Favorite0🎉 Get ready for a jam-packed calendar of entertainment at Riverhead Ciderhouse! From brain-bending Trivia Nights to the toe-tapping tunes of Dueling Pianos and amazing Live Music\, we’ve got it all. Check out our upcoming schedule and plan your nights out with us! 🍎🎶
URL:https://outonthetownli.com/event/riverhead-ciderhouse/2026-07-03/
LOCATION:Riverhead Ciderhouse\, 2711 Sound Ave\, Calverton\, 11933
CATEGORIES:Creative Activities,Game Night,Live Music,Night Life
ATTACH;FMTTYPE=image/png:https://outonthetownli.com/wp-content/uploads/2024/09/Capture-12.png
END:VEVENT
BEGIN:VEVENT
DTSTART;TZID=America/New_York:20260704T120000
DTEND;TZID=America/New_York:20260704T200000
DTSTAMP:20260424T151715
CREATED:20240919T122040Z
LAST-MODIFIED:20251221T183604Z
UID:10023105-1783166400-1783195200@outonthetownli.com
SUMMARY:Riverhead Ciderhouse
DESCRIPTION:Favorite0🎉 Get ready for a jam-packed calendar of entertainment at Riverhead Ciderhouse! From brain-bending Trivia Nights to the toe-tapping tunes of Dueling Pianos and amazing Live Music\, we’ve got it all. Check out our upcoming schedule and plan your nights out with us! 🍎🎶
URL:https://outonthetownli.com/event/riverhead-ciderhouse/2026-07-04/
LOCATION:Riverhead Ciderhouse\, 2711 Sound Ave\, Calverton\, 11933
CATEGORIES:Creative Activities,Game Night,Live Music,Night Life
ATTACH;FMTTYPE=image/png:https://outonthetownli.com/wp-content/uploads/2024/09/Capture-12.png
END:VEVENT
BEGIN:VEVENT
DTSTART;TZID=America/New_York:20260705T120000
DTEND;TZID=America/New_York:20260705T200000
DTSTAMP:20260424T151715
CREATED:20240919T122040Z
LAST-MODIFIED:20251221T183604Z
UID:10023106-1783252800-1783281600@outonthetownli.com
SUMMARY:Riverhead Ciderhouse
DESCRIPTION:Favorite0🎉 Get ready for a jam-packed calendar of entertainment at Riverhead Ciderhouse! From brain-bending Trivia Nights to the toe-tapping tunes of Dueling Pianos and amazing Live Music\, we’ve got it all. Check out our upcoming schedule and plan your nights out with us! 🍎🎶
URL:https://outonthetownli.com/event/riverhead-ciderhouse/2026-07-05/
LOCATION:Riverhead Ciderhouse\, 2711 Sound Ave\, Calverton\, 11933
CATEGORIES:Creative Activities,Game Night,Live Music,Night Life
ATTACH;FMTTYPE=image/png:https://outonthetownli.com/wp-content/uploads/2024/09/Capture-12.png
END:VEVENT
BEGIN:VEVENT
DTSTART;TZID=America/New_York:20260706T120000
DTEND;TZID=America/New_York:20260706T200000
DTSTAMP:20260424T151715
CREATED:20240919T122040Z
LAST-MODIFIED:20251221T183604Z
UID:10023107-1783339200-1783368000@outonthetownli.com
SUMMARY:Riverhead Ciderhouse
DESCRIPTION:Favorite0🎉 Get ready for a jam-packed calendar of entertainment at Riverhead Ciderhouse! From brain-bending Trivia Nights to the toe-tapping tunes of Dueling Pianos and amazing Live Music\, we’ve got it all. Check out our upcoming schedule and plan your nights out with us! 🍎🎶
URL:https://outonthetownli.com/event/riverhead-ciderhouse/2026-07-06/
LOCATION:Riverhead Ciderhouse\, 2711 Sound Ave\, Calverton\, 11933
CATEGORIES:Creative Activities,Game Night,Live Music,Night Life
ATTACH;FMTTYPE=image/png:https://outonthetownli.com/wp-content/uploads/2024/09/Capture-12.png
END:VEVENT
BEGIN:VEVENT
DTSTART;TZID=America/New_York:20260707T120000
DTEND;TZID=America/New_York:20260707T200000
DTSTAMP:20260424T151715
CREATED:20240919T122040Z
LAST-MODIFIED:20251221T183604Z
UID:10023108-1783425600-1783454400@outonthetownli.com
SUMMARY:Riverhead Ciderhouse
DESCRIPTION:Favorite0🎉 Get ready for a jam-packed calendar of entertainment at Riverhead Ciderhouse! From brain-bending Trivia Nights to the toe-tapping tunes of Dueling Pianos and amazing Live Music\, we’ve got it all. Check out our upcoming schedule and plan your nights out with us! 🍎🎶
URL:https://outonthetownli.com/event/riverhead-ciderhouse/2026-07-07/
LOCATION:Riverhead Ciderhouse\, 2711 Sound Ave\, Calverton\, 11933
CATEGORIES:Creative Activities,Game Night,Live Music,Night Life
ATTACH;FMTTYPE=image/png:https://outonthetownli.com/wp-content/uploads/2024/09/Capture-12.png
END:VEVENT
BEGIN:VEVENT
DTSTART;TZID=America/New_York:20260707T190000
DTEND;TZID=America/New_York:20260707T200000
DTSTAMP:20260424T151715
CREATED:20250515T055921Z
LAST-MODIFIED:20251224T163536Z
UID:10026241-1783450800-1783454400@outonthetownli.com
SUMMARY:Not Your Grandma’s Bingo Night!
DESCRIPTION:Favorite0 🎉 Join us every Tuesday at 7PM for Boozy Bingo at Flanagan’s! 🍻 \nWe’re talking:\n✨ Liquor basket giveaways\n🍹 Killer drink specials\n🎶 Live music starting at 7:30PM \nYour midweek party starts here — come for the bingo\, stay for the booze and beats!
URL:https://outonthetownli.com/event/not-your-grandmas-bingo-night/2026-07-07/
LOCATION:Flanagan’s Pub\, 451 Hawkins Ave\, Ronkonkoma\, 11779
CATEGORIES:Game Night,Night Life
ATTACH;FMTTYPE=image/png:https://outonthetownli.com/wp-content/uploads/2025/05/Boozy-Bingo-Tuesdays.png
END:VEVENT
BEGIN:VEVENT
DTSTART;TZID=America/New_York:20260707T190000
DTEND;TZID=America/New_York:20260707T230000
DTSTAMP:20260424T151715
CREATED:20241104T141954Z
LAST-MODIFIED:20251210T014032Z
UID:10023707-1783450800-1783465200@outonthetownli.com
SUMMARY:🎉 Bingo Night at The Villager Farmingdale! 🎉
DESCRIPTION:Favorite0Join us this Tuesday for a fun-filled evening of Bingo! Enjoy great specials while you play: \n✨ Drink Specials: \n2-for-1 Domestics\n50% off all Wings\nPlus\, you could win amazing prizes like 40-inch TVs\, AirPods\, and Cornhole Sets! \nDon’t miss out on a night of fun\, food\, and fantastic prizes! See you at The Villager! 🥳🎟️
URL:https://outonthetownli.com/event/%f0%9f%8e%89-bingo-night-at-the-villager-farmingdale-%f0%9f%8e%89/2026-07-07/
LOCATION:The Villager\, 306 Main St\, Farmingdale\, 11735
CATEGORIES:Game Night
ATTACH;FMTTYPE=image/png:https://outonthetownli.com/wp-content/uploads/2024/11/bingo-tuesdays-november.png
END:VEVENT
BEGIN:VEVENT
DTSTART;TZID=America/New_York:20260707T193000
DTEND;TZID=America/New_York:20260707T220000
DTSTAMP:20260424T151715
CREATED:20240919T122330Z
LAST-MODIFIED:20251210T014245Z
UID:10023797-1783452600-1783461600@outonthetownli.com
SUMMARY:🎉  Bingo  🎉
DESCRIPTION:Favorite0Join us this Tuesday for an exciting night of Bingo at 7:30 PM! Enjoy a fun evening filled with great music and fantastic prizes! Don’t miss out—check the poster for more details. See you there!
URL:https://outonthetownli.com/event/%f0%9f%8e%89-bingo-%f0%9f%8e%89/2026-07-07/
LOCATION:Eleanor’s Lounge\, 4103 Sunrise Hwy\, Bohemia\, 11716
CATEGORIES:Game Night,Night Life
ATTACH;FMTTYPE=image/png:https://outonthetownli.com/wp-content/uploads/2024/09/Bingo-tuesdays.png
END:VEVENT
BEGIN:VEVENT
DTSTART;TZID=America/New_York:20260707T200000
DTEND;TZID=America/New_York:20260707T230000
DTSTAMP:20260424T151715
CREATED:20250207T162626Z
LAST-MODIFIED:20251211T043011Z
UID:10024080-1783454400-1783465200@outonthetownli.com
SUMMARY:🎉 Bingo Tuesdays! 🎉
DESCRIPTION:Favorite0Join us every Tuesday at 8 PM at Village Pub Lindenhurst for a night of fun\, prizes\, and good times! 🏆🍻 \nSee you there!
URL:https://outonthetownli.com/event/%f0%9f%8e%89-bingo-tuesdays-%f0%9f%8e%89/2026-07-07/
LOCATION:Village Pub Of Lindenhurst\, 174 N Wellwood Ave\, Lindenhurst\, 11757
CATEGORIES:Game Night
ATTACH;FMTTYPE=image/png:https://outonthetownli.com/wp-content/uploads/2025/02/6-14-25-bingo-tuesdays.png
END:VEVENT
BEGIN:VEVENT
DTSTART;TZID=America/New_York:20260708T120000
DTEND;TZID=America/New_York:20260708T200000
DTSTAMP:20260424T151715
CREATED:20240919T122040Z
LAST-MODIFIED:20251221T183604Z
UID:10023109-1783512000-1783540800@outonthetownli.com
SUMMARY:Riverhead Ciderhouse
DESCRIPTION:Favorite0🎉 Get ready for a jam-packed calendar of entertainment at Riverhead Ciderhouse! From brain-bending Trivia Nights to the toe-tapping tunes of Dueling Pianos and amazing Live Music\, we’ve got it all. Check out our upcoming schedule and plan your nights out with us! 🍎🎶
URL:https://outonthetownli.com/event/riverhead-ciderhouse/2026-07-08/
LOCATION:Riverhead Ciderhouse\, 2711 Sound Ave\, Calverton\, 11933
CATEGORIES:Creative Activities,Game Night,Live Music,Night Life
ATTACH;FMTTYPE=image/png:https://outonthetownli.com/wp-content/uploads/2024/09/Capture-12.png
END:VEVENT
BEGIN:VEVENT
DTSTART;TZID=America/New_York:20260708T190000
DTEND;TZID=America/New_York:20260708T210000
DTSTAMP:20260424T151715
CREATED:20241206T213110Z
LAST-MODIFIED:20251211T041848Z
UID:10024611-1783537200-1783544400@outonthetownli.com
SUMMARY:BINGO NIGHT
DESCRIPTION:Favorite0BINGO NIGHT\nEvery Wednesday – December 11th\nJoin us for Bingo Night! \nTime:\n7:00 PM – 9:00 PM \nSpecials: \n$5 Select Apps for Players\nPrizes include Free Drinks\, Free Apps\, Gift Cards\, and more!\nDon’t miss your chance to win big while enjoying great food and drinks. See you there!
URL:https://outonthetownli.com/event/bingo-night/2026-07-08/
LOCATION:The Village Idiot Pub- Lake Grove\, 2811 Middle Country Rd\, Lake Grove\, 11755
CATEGORIES:Game Night,Night Life
ATTACH;FMTTYPE=image/png:https://outonthetownli.com/wp-content/uploads/2024/12/lake-grove-bingo-night.png
END:VEVENT
BEGIN:VEVENT
DTSTART;TZID=America/New_York:20260708T190000
DTEND;TZID=America/New_York:20260708T210000
DTSTAMP:20260424T151715
CREATED:20250415T191231Z
LAST-MODIFIED:20251211T041440Z
UID:10024461-1783537200-1783544400@outonthetownli.com
SUMMARY:🎉 Bingo Wednesdays at Great South Bay Brewery! 🍻
DESCRIPTION:Favorite0\nJoin us every Wednesday at 7 PM for a night of classic fun\, cold brews\, and good vibes! \n🎱 Free to play\n🏆 Prizes every round\n🍺 Delicious craft beer\n🌮 Food trucks on site \n📍 Great South Bay Brewery – Bay Shore\nBring your friends\, grab a pint\, and let the good times roll!
URL:https://outonthetownli.com/event/%f0%9f%8e%89-bingo-wednesdays-at-great-south-bay-brewery-%f0%9f%8d%bb/2026-07-08/
LOCATION:Great South Bay Brewery\, 25 Drexel Drive\, Bay Shore\, 11706
CATEGORIES:Game Night
ATTACH;FMTTYPE=image/png:https://outonthetownli.com/wp-content/uploads/2025/04/4-16-25-Bingo-Wednesdays.png
END:VEVENT
BEGIN:VEVENT
DTSTART;TZID=America/New_York:20260708T190000
DTEND;TZID=America/New_York:20260708T220000
DTSTAMP:20260424T151715
CREATED:20250207T022624Z
LAST-MODIFIED:20251211T041520Z
UID:10024491-1783537200-1783548000@outonthetownli.com
SUMMARY:Boozy Bingo and Live Music at Harp & Hound!
DESCRIPTION:Favorite0Need a midweek pick-me-up? Join us every Wednesday at 7 PM for Boozy Bingo! 🎉 Enjoy fun\, prizes\, drink specials\, live music\, and a chance to win our Liquor Basket Giveaway! 🍸 \nDon’t miss the good vibes – see you there!
URL:https://outonthetownli.com/event/boozy-bingo-and-live-music-at-harp-hound/2026-07-08/
LOCATION:Harp & Hound\, 528 main street\, Islip\, 11751
CATEGORIES:Live Music,Night Life
ATTACH;FMTTYPE=image/png:https://outonthetownli.com/wp-content/uploads/2025/02/2-12-25-Boozy-Bingo.png
END:VEVENT
BEGIN:VEVENT
DTSTART;TZID=America/New_York:20260708T200000
DTEND;TZID=America/New_York:20260708T220000
DTSTAMP:20260424T151715
CREATED:20240604T140635Z
LAST-MODIFIED:20251211T041145Z
UID:10024371-1783540800-1783548000@outonthetownli.com
SUMMARY:Music Bingo
DESCRIPTION:Favorite0🎶 Exciting News! 🎶 \nJoin us every Wednesday night at Shore House Bar & Grill for an unforgettable evening of Music Bingo! 🎉🎵 Bring your friends and family for a fun-filled night of great music\, delicious food\, and fantastic prizes! Don’t miss out on the chance to test your music knowledge and win big! See you there! 🎉🎶 #MusicBingo #ShoreHouseFun
URL:https://outonthetownli.com/event/music-bingo/2026-07-08/
LOCATION:Shore House Bar & Grill\, 22 East Park Avenue\, Long Beach\, NY\, 11561
CATEGORIES:Creative Activities,Game Night,Night Life
ATTACH;FMTTYPE=image/png:https://outonthetownli.com/wp-content/uploads/2024/06/Capture-1.png
END:VEVENT
BEGIN:VEVENT
DTSTART;TZID=America/New_York:20260708T200000
DTEND;TZID=America/New_York:20260708T220000
DTSTAMP:20260424T151715
CREATED:20250416T143841Z
LAST-MODIFIED:20251211T041022Z
UID:10024311-1783540800-1783548000@outonthetownli.com
SUMMARY:🎶 It’s Country Music Bingo Night!
DESCRIPTION:Favorite0\nJoin us at Daisy’s Nashville Lounge – Patchogue for a night of music\, prizes & Southern charm! \n🗓️ Country Music Bingo\n📍 At Daisy’s Patchogue\n🎁 Win awesome prizes all night long!\n🌟 BONUS: Book a reservation for 4 & get FREE Skillet Nachos! 🧀🔥 \nDon’t miss your shot at a boot-stompin’ good time — it’s bingo like you’ve never played before! \n📞 Call now to reserve your table: 631-403-2900\nSee y’all there! 🎸🍻
URL:https://outonthetownli.com/event/%f0%9f%8e%b6-its-country-music-bingo-night/2026-07-08/
LOCATION:Daisy’s Nashville Lounge\, 22 W Main St Ste #11\, Patchogue\, 11772
CATEGORIES:Game Night
ATTACH;FMTTYPE=image/png:https://outonthetownli.com/wp-content/uploads/2025/04/Country-Music-Bingo-wednesdays.png
END:VEVENT
BEGIN:VEVENT
DTSTART;TZID=America/New_York:20260709T120000
DTEND;TZID=America/New_York:20260709T200000
DTSTAMP:20260424T151715
CREATED:20240919T122040Z
LAST-MODIFIED:20251221T183604Z
UID:10023110-1783598400-1783627200@outonthetownli.com
SUMMARY:Riverhead Ciderhouse
DESCRIPTION:Favorite0🎉 Get ready for a jam-packed calendar of entertainment at Riverhead Ciderhouse! From brain-bending Trivia Nights to the toe-tapping tunes of Dueling Pianos and amazing Live Music\, we’ve got it all. Check out our upcoming schedule and plan your nights out with us! 🍎🎶
URL:https://outonthetownli.com/event/riverhead-ciderhouse/2026-07-09/
LOCATION:Riverhead Ciderhouse\, 2711 Sound Ave\, Calverton\, 11933
CATEGORIES:Creative Activities,Game Night,Live Music,Night Life
ATTACH;FMTTYPE=image/png:https://outonthetownli.com/wp-content/uploads/2024/09/Capture-12.png
END:VEVENT
BEGIN:VEVENT
DTSTART;TZID=America/New_York:20260709T190000
DTEND;TZID=America/New_York:20260709T220000
DTSTAMP:20260424T151715
CREATED:20241218T024304Z
LAST-MODIFIED:20251212T033435Z
UID:10024985-1783623600-1783634400@outonthetownli.com
SUMMARY:🎉 BINGO AT THE BREWERY! 🎉
DESCRIPTION:Favorite0Join us every Thursday at 7 PM for a fun-filled night of Bingo! 🍺\nBuy a pint\, get a Bingo card and play for fabulous prizes! 🏆 \n📍 Where: @PortJeffBrewing\, 22 Mill Creek Rd\n🕖 When: Thursdays at 7 PM \nDon’t miss out on the fun – BINGO and pints await! 🍻
URL:https://outonthetownli.com/event/%f0%9f%8e%89-bingo-at-the-brewery-%f0%9f%8e%89/2026-07-09/
LOCATION:PORT JEFF BREWING COMPANY\, 22 Mill Creek Rd\, Port Jefferson\, 11777
CATEGORIES:Game Night,Night Life
ATTACH;FMTTYPE=image/png:https://outonthetownli.com/wp-content/uploads/2024/12/𝘽𝙄𝙉𝙂𝙊-𝘼𝙩-𝙏𝙝𝙚-𝘽𝙧𝙚𝙬𝙚𝙧𝙮-thursdays.png
END:VEVENT
BEGIN:VEVENT
DTSTART;TZID=America/New_York:20260709T190000
DTEND;TZID=America/New_York:20260709T230000
DTSTAMP:20260424T151715
CREATED:20241025T113507Z
LAST-MODIFIED:20251212T034149Z
UID:10025171-1783623600-1783638000@outonthetownli.com
SUMMARY:🎉 It’s Thursday! 🎉
DESCRIPTION:Favorite0\n\n\n\n\n\n🎉 It’s Thursday! 🎉\n\nKick off the weekend with Steak Day all day and Music Bingo at 7 PM!\n\nJoin us for great food\, fun\, and a head start on the weekend festivities!
URL:https://outonthetownli.com/event/%f0%9f%8e%89-its-thursday-%f0%9f%8e%89/2026-07-09/
LOCATION:Shennanigans Cafe\, 228 Hawkins Ave\, Lake Ronkonkoma\, 11779
CATEGORIES:Game Night
ATTACH;FMTTYPE=image/png:https://outonthetownli.com/wp-content/uploads/2024/10/music-bingo.png
END:VEVENT
BEGIN:VEVENT
DTSTART;TZID=America/New_York:20260710T120000
DTEND;TZID=America/New_York:20260710T200000
DTSTAMP:20260424T151715
CREATED:20240919T122040Z
LAST-MODIFIED:20251221T183604Z
UID:10023111-1783684800-1783713600@outonthetownli.com
SUMMARY:Riverhead Ciderhouse
DESCRIPTION:Favorite0🎉 Get ready for a jam-packed calendar of entertainment at Riverhead Ciderhouse! From brain-bending Trivia Nights to the toe-tapping tunes of Dueling Pianos and amazing Live Music\, we’ve got it all. Check out our upcoming schedule and plan your nights out with us! 🍎🎶
URL:https://outonthetownli.com/event/riverhead-ciderhouse/2026-07-10/
LOCATION:Riverhead Ciderhouse\, 2711 Sound Ave\, Calverton\, 11933
CATEGORIES:Creative Activities,Game Night,Live Music,Night Life
ATTACH;FMTTYPE=image/png:https://outonthetownli.com/wp-content/uploads/2024/09/Capture-12.png
END:VEVENT
BEGIN:VEVENT
DTSTART;TZID=America/New_York:20260711T120000
DTEND;TZID=America/New_York:20260711T200000
DTSTAMP:20260424T151715
CREATED:20240919T122040Z
LAST-MODIFIED:20251221T183604Z
UID:10023112-1783771200-1783800000@outonthetownli.com
SUMMARY:Riverhead Ciderhouse
DESCRIPTION:Favorite0🎉 Get ready for a jam-packed calendar of entertainment at Riverhead Ciderhouse! From brain-bending Trivia Nights to the toe-tapping tunes of Dueling Pianos and amazing Live Music\, we’ve got it all. Check out our upcoming schedule and plan your nights out with us! 🍎🎶
URL:https://outonthetownli.com/event/riverhead-ciderhouse/2026-07-11/
LOCATION:Riverhead Ciderhouse\, 2711 Sound Ave\, Calverton\, 11933
CATEGORIES:Creative Activities,Game Night,Live Music,Night Life
ATTACH;FMTTYPE=image/png:https://outonthetownli.com/wp-content/uploads/2024/09/Capture-12.png
END:VEVENT
BEGIN:VEVENT
DTSTART;TZID=America/New_York:20260712T120000
DTEND;TZID=America/New_York:20260712T200000
DTSTAMP:20260424T151715
CREATED:20240919T122040Z
LAST-MODIFIED:20251221T183604Z
UID:10023113-1783857600-1783886400@outonthetownli.com
SUMMARY:Riverhead Ciderhouse
DESCRIPTION:Favorite0🎉 Get ready for a jam-packed calendar of entertainment at Riverhead Ciderhouse! From brain-bending Trivia Nights to the toe-tapping tunes of Dueling Pianos and amazing Live Music\, we’ve got it all. Check out our upcoming schedule and plan your nights out with us! 🍎🎶
URL:https://outonthetownli.com/event/riverhead-ciderhouse/2026-07-12/
LOCATION:Riverhead Ciderhouse\, 2711 Sound Ave\, Calverton\, 11933
CATEGORIES:Creative Activities,Game Night,Live Music,Night Life
ATTACH;FMTTYPE=image/png:https://outonthetownli.com/wp-content/uploads/2024/09/Capture-12.png
END:VEVENT
END:VCALENDAR