BEGIN:VCALENDAR
VERSION:2.0
PRODID:-//Out on the Town - ECPv6.15.20//NONSGML v1.0//EN
CALSCALE:GREGORIAN
METHOD:PUBLISH
X-WR-CALNAME:Out on the Town
X-ORIGINAL-URL:https://outonthetownli.com
X-WR-CALDESC:Events for Out on the Town
REFRESH-INTERVAL;VALUE=DURATION:PT1H
X-Robots-Tag:noindex
X-PUBLISHED-TTL:PT1H
BEGIN:VTIMEZONE
TZID:America/New_York
BEGIN:DAYLIGHT
TZOFFSETFROM:-0500
TZOFFSETTO:-0400
TZNAME:EDT
DTSTART:20250309T070000
END:DAYLIGHT
BEGIN:STANDARD
TZOFFSETFROM:-0400
TZOFFSETTO:-0500
TZNAME:EST
DTSTART:20251102T060000
END:STANDARD
BEGIN:DAYLIGHT
TZOFFSETFROM:-0500
TZOFFSETTO:-0400
TZNAME:EDT
DTSTART:20260308T070000
END:DAYLIGHT
BEGIN:STANDARD
TZOFFSETFROM:-0400
TZOFFSETTO:-0500
TZNAME:EST
DTSTART:20261101T060000
END:STANDARD
BEGIN:DAYLIGHT
TZOFFSETFROM:-0500
TZOFFSETTO:-0400
TZNAME:EDT
DTSTART:20270314T070000
END:DAYLIGHT
BEGIN:STANDARD
TZOFFSETFROM:-0400
TZOFFSETTO:-0500
TZNAME:EST
DTSTART:20271107T060000
END:STANDARD
END:VTIMEZONE
BEGIN:VEVENT
DTSTART;TZID=America/New_York:20260804T190000
DTEND;TZID=America/New_York:20260804T200000
DTSTAMP:20260424T165103
CREATED:20250515T055921Z
LAST-MODIFIED:20251224T163536Z
UID:10026245-1785870000-1785873600@outonthetownli.com
SUMMARY:Not Your Grandma’s Bingo Night!
DESCRIPTION:Favorite0 🎉 Join us every Tuesday at 7PM for Boozy Bingo at Flanagan’s! 🍻 \nWe’re talking:\n✨ Liquor basket giveaways\n🍹 Killer drink specials\n🎶 Live music starting at 7:30PM \nYour midweek party starts here — come for the bingo\, stay for the booze and beats!
URL:https://outonthetownli.com/event/not-your-grandmas-bingo-night/2026-08-04/
LOCATION:Flanagan’s Pub\, 451 Hawkins Ave\, Ronkonkoma\, 11779
CATEGORIES:Game Night,Night Life
ATTACH;FMTTYPE=image/png:https://outonthetownli.com/wp-content/uploads/2025/05/Boozy-Bingo-Tuesdays.png
END:VEVENT
BEGIN:VEVENT
DTSTART;TZID=America/New_York:20260811T190000
DTEND;TZID=America/New_York:20260811T200000
DTSTAMP:20260424T165103
CREATED:20250515T055921Z
LAST-MODIFIED:20251224T163536Z
UID:10026246-1786474800-1786478400@outonthetownli.com
SUMMARY:Not Your Grandma’s Bingo Night!
DESCRIPTION:Favorite0 🎉 Join us every Tuesday at 7PM for Boozy Bingo at Flanagan’s! 🍻 \nWe’re talking:\n✨ Liquor basket giveaways\n🍹 Killer drink specials\n🎶 Live music starting at 7:30PM \nYour midweek party starts here — come for the bingo\, stay for the booze and beats!
URL:https://outonthetownli.com/event/not-your-grandmas-bingo-night/2026-08-11/
LOCATION:Flanagan’s Pub\, 451 Hawkins Ave\, Ronkonkoma\, 11779
CATEGORIES:Game Night,Night Life
ATTACH;FMTTYPE=image/png:https://outonthetownli.com/wp-content/uploads/2025/05/Boozy-Bingo-Tuesdays.png
END:VEVENT
BEGIN:VEVENT
DTSTART;TZID=America/New_York:20260818T190000
DTEND;TZID=America/New_York:20260818T200000
DTSTAMP:20260424T165103
CREATED:20250515T055921Z
LAST-MODIFIED:20251224T163536Z
UID:10026247-1787079600-1787083200@outonthetownli.com
SUMMARY:Not Your Grandma’s Bingo Night!
DESCRIPTION:Favorite0 🎉 Join us every Tuesday at 7PM for Boozy Bingo at Flanagan’s! 🍻 \nWe’re talking:\n✨ Liquor basket giveaways\n🍹 Killer drink specials\n🎶 Live music starting at 7:30PM \nYour midweek party starts here — come for the bingo\, stay for the booze and beats!
URL:https://outonthetownli.com/event/not-your-grandmas-bingo-night/2026-08-18/
LOCATION:Flanagan’s Pub\, 451 Hawkins Ave\, Ronkonkoma\, 11779
CATEGORIES:Game Night,Night Life
ATTACH;FMTTYPE=image/png:https://outonthetownli.com/wp-content/uploads/2025/05/Boozy-Bingo-Tuesdays.png
END:VEVENT
BEGIN:VEVENT
DTSTART;TZID=America/New_York:20260825T190000
DTEND;TZID=America/New_York:20260825T200000
DTSTAMP:20260424T165103
CREATED:20250515T055921Z
LAST-MODIFIED:20251224T163536Z
UID:10026248-1787684400-1787688000@outonthetownli.com
SUMMARY:Not Your Grandma’s Bingo Night!
DESCRIPTION:Favorite0 🎉 Join us every Tuesday at 7PM for Boozy Bingo at Flanagan’s! 🍻 \nWe’re talking:\n✨ Liquor basket giveaways\n🍹 Killer drink specials\n🎶 Live music starting at 7:30PM \nYour midweek party starts here — come for the bingo\, stay for the booze and beats!
URL:https://outonthetownli.com/event/not-your-grandmas-bingo-night/2026-08-25/
LOCATION:Flanagan’s Pub\, 451 Hawkins Ave\, Ronkonkoma\, 11779
CATEGORIES:Game Night,Night Life
ATTACH;FMTTYPE=image/png:https://outonthetownli.com/wp-content/uploads/2025/05/Boozy-Bingo-Tuesdays.png
END:VEVENT
END:VCALENDAR