BEGIN:VCALENDAR
VERSION:2.0
PRODID:-//Out on the Town - ECPv6.15.19//NONSGML v1.0//EN
CALSCALE:GREGORIAN
METHOD:PUBLISH
X-ORIGINAL-URL:https://outonthetownli.com
X-WR-CALDESC:Events for Out on the Town
REFRESH-INTERVAL;VALUE=DURATION:PT1H
X-Robots-Tag:noindex
X-PUBLISHED-TTL:PT1H
BEGIN:VTIMEZONE
TZID:America/New_York
BEGIN:DAYLIGHT
TZOFFSETFROM:-0500
TZOFFSETTO:-0400
TZNAME:EDT
DTSTART:20250309T070000
END:DAYLIGHT
BEGIN:STANDARD
TZOFFSETFROM:-0400
TZOFFSETTO:-0500
TZNAME:EST
DTSTART:20251102T060000
END:STANDARD
BEGIN:DAYLIGHT
TZOFFSETFROM:-0500
TZOFFSETTO:-0400
TZNAME:EDT
DTSTART:20260308T070000
END:DAYLIGHT
BEGIN:STANDARD
TZOFFSETFROM:-0400
TZOFFSETTO:-0500
TZNAME:EST
DTSTART:20261101T060000
END:STANDARD
BEGIN:DAYLIGHT
TZOFFSETFROM:-0500
TZOFFSETTO:-0400
TZNAME:EDT
DTSTART:20270314T070000
END:DAYLIGHT
BEGIN:STANDARD
TZOFFSETFROM:-0400
TZOFFSETTO:-0500
TZNAME:EST
DTSTART:20271107T060000
END:STANDARD
END:VTIMEZONE
BEGIN:VEVENT
DTSTART;TZID=America/New_York:20260501T120000
DTEND;TZID=America/New_York:20260501T200000
DTSTAMP:20260424T075440
CREATED:20240919T122040Z
LAST-MODIFIED:20251221T183604Z
UID:10023041-1777636800-1777665600@outonthetownli.com
SUMMARY:Riverhead Ciderhouse
DESCRIPTION:Favorite0🎉 Get ready for a jam-packed calendar of entertainment at Riverhead Ciderhouse! From brain-bending Trivia Nights to the toe-tapping tunes of Dueling Pianos and amazing Live Music\, we’ve got it all. Check out our upcoming schedule and plan your nights out with us! 🍎🎶
URL:https://outonthetownli.com/event/riverhead-ciderhouse/2026-05-01/
LOCATION:Riverhead Ciderhouse\, 2711 Sound Ave\, Calverton\, 11933
CATEGORIES:Creative Activities,Game Night,Live Music,Night Life
ATTACH;FMTTYPE=image/png:https://outonthetownli.com/wp-content/uploads/2024/09/Capture-12.png
END:VEVENT
BEGIN:VEVENT
DTSTART;TZID=America/New_York:20260502T120000
DTEND;TZID=America/New_York:20260502T200000
DTSTAMP:20260424T075440
CREATED:20240919T122040Z
LAST-MODIFIED:20251221T183604Z
UID:10023042-1777723200-1777752000@outonthetownli.com
SUMMARY:Riverhead Ciderhouse
DESCRIPTION:Favorite0🎉 Get ready for a jam-packed calendar of entertainment at Riverhead Ciderhouse! From brain-bending Trivia Nights to the toe-tapping tunes of Dueling Pianos and amazing Live Music\, we’ve got it all. Check out our upcoming schedule and plan your nights out with us! 🍎🎶
URL:https://outonthetownli.com/event/riverhead-ciderhouse/2026-05-02/
LOCATION:Riverhead Ciderhouse\, 2711 Sound Ave\, Calverton\, 11933
CATEGORIES:Creative Activities,Game Night,Live Music,Night Life
ATTACH;FMTTYPE=image/png:https://outonthetownli.com/wp-content/uploads/2024/09/Capture-12.png
END:VEVENT
BEGIN:VEVENT
DTSTART;TZID=America/New_York:20260503T120000
DTEND;TZID=America/New_York:20260503T200000
DTSTAMP:20260424T075440
CREATED:20240919T122040Z
LAST-MODIFIED:20251221T183604Z
UID:10023043-1777809600-1777838400@outonthetownli.com
SUMMARY:Riverhead Ciderhouse
DESCRIPTION:Favorite0🎉 Get ready for a jam-packed calendar of entertainment at Riverhead Ciderhouse! From brain-bending Trivia Nights to the toe-tapping tunes of Dueling Pianos and amazing Live Music\, we’ve got it all. Check out our upcoming schedule and plan your nights out with us! 🍎🎶
URL:https://outonthetownli.com/event/riverhead-ciderhouse/2026-05-03/
LOCATION:Riverhead Ciderhouse\, 2711 Sound Ave\, Calverton\, 11933
CATEGORIES:Creative Activities,Game Night,Live Music,Night Life
ATTACH;FMTTYPE=image/png:https://outonthetownli.com/wp-content/uploads/2024/09/Capture-12.png
END:VEVENT
BEGIN:VEVENT
DTSTART;TZID=America/New_York:20260504T120000
DTEND;TZID=America/New_York:20260504T200000
DTSTAMP:20260424T075440
CREATED:20240919T122040Z
LAST-MODIFIED:20251221T183604Z
UID:10023044-1777896000-1777924800@outonthetownli.com
SUMMARY:Riverhead Ciderhouse
DESCRIPTION:Favorite0🎉 Get ready for a jam-packed calendar of entertainment at Riverhead Ciderhouse! From brain-bending Trivia Nights to the toe-tapping tunes of Dueling Pianos and amazing Live Music\, we’ve got it all. Check out our upcoming schedule and plan your nights out with us! 🍎🎶
URL:https://outonthetownli.com/event/riverhead-ciderhouse/2026-05-04/
LOCATION:Riverhead Ciderhouse\, 2711 Sound Ave\, Calverton\, 11933
CATEGORIES:Creative Activities,Game Night,Live Music,Night Life
ATTACH;FMTTYPE=image/png:https://outonthetownli.com/wp-content/uploads/2024/09/Capture-12.png
END:VEVENT
BEGIN:VEVENT
DTSTART;TZID=America/New_York:20260505T120000
DTEND;TZID=America/New_York:20260505T200000
DTSTAMP:20260424T075440
CREATED:20240919T122040Z
LAST-MODIFIED:20251221T183604Z
UID:10023045-1777982400-1778011200@outonthetownli.com
SUMMARY:Riverhead Ciderhouse
DESCRIPTION:Favorite0🎉 Get ready for a jam-packed calendar of entertainment at Riverhead Ciderhouse! From brain-bending Trivia Nights to the toe-tapping tunes of Dueling Pianos and amazing Live Music\, we’ve got it all. Check out our upcoming schedule and plan your nights out with us! 🍎🎶
URL:https://outonthetownli.com/event/riverhead-ciderhouse/2026-05-05/
LOCATION:Riverhead Ciderhouse\, 2711 Sound Ave\, Calverton\, 11933
CATEGORIES:Creative Activities,Game Night,Live Music,Night Life
ATTACH;FMTTYPE=image/png:https://outonthetownli.com/wp-content/uploads/2024/09/Capture-12.png
END:VEVENT
BEGIN:VEVENT
DTSTART;TZID=America/New_York:20260505T190000
DTEND;TZID=America/New_York:20260505T220000
DTSTAMP:20260424T075440
CREATED:20250415T191233Z
LAST-MODIFIED:20251210T014119Z
UID:10023728-1778007600-1778018400@outonthetownli.com
SUMMARY:Trivia Tuesdays at Great South Bay Brewery! 🍻
DESCRIPTION:Favorite0\nGrab your team and join us every Tuesday at 7 PM for a night of brain-busting fun\, cold beers\, and great vibes. \n🏆 Prizes for top teams\n🍺 Craft beer on tap\n🌮 Rotating food vendors \n📍 Great South Bay Brewery – Bay Shore\nBring your A-game and let’s get quizzical!
URL:https://outonthetownli.com/event/trivia-tuesdays-at-great-south-bay-brewery-%f0%9f%8d%bb/2026-05-05/
LOCATION:Great South Bay Brewery\, 25 Drexel Drive\, Bay Shore\, 11706
CATEGORIES:Game Night
ATTACH;FMTTYPE=image/png:https://outonthetownli.com/wp-content/uploads/2025/04/4-15-25-Trivia-Tuesdays.png
END:VEVENT
BEGIN:VEVENT
DTSTART;TZID=America/New_York:20260506T120000
DTEND;TZID=America/New_York:20260506T200000
DTSTAMP:20260424T075440
CREATED:20240919T122040Z
LAST-MODIFIED:20251221T183604Z
UID:10023046-1778068800-1778097600@outonthetownli.com
SUMMARY:Riverhead Ciderhouse
DESCRIPTION:Favorite0🎉 Get ready for a jam-packed calendar of entertainment at Riverhead Ciderhouse! From brain-bending Trivia Nights to the toe-tapping tunes of Dueling Pianos and amazing Live Music\, we’ve got it all. Check out our upcoming schedule and plan your nights out with us! 🍎🎶
URL:https://outonthetownli.com/event/riverhead-ciderhouse/2026-05-06/
LOCATION:Riverhead Ciderhouse\, 2711 Sound Ave\, Calverton\, 11933
CATEGORIES:Creative Activities,Game Night,Live Music,Night Life
ATTACH;FMTTYPE=image/png:https://outonthetownli.com/wp-content/uploads/2024/09/Capture-12.png
END:VEVENT
BEGIN:VEVENT
DTSTART;TZID=America/New_York:20260507T120000
DTEND;TZID=America/New_York:20260507T200000
DTSTAMP:20260424T075440
CREATED:20240919T122040Z
LAST-MODIFIED:20251221T183604Z
UID:10023047-1778155200-1778184000@outonthetownli.com
SUMMARY:Riverhead Ciderhouse
DESCRIPTION:Favorite0🎉 Get ready for a jam-packed calendar of entertainment at Riverhead Ciderhouse! From brain-bending Trivia Nights to the toe-tapping tunes of Dueling Pianos and amazing Live Music\, we’ve got it all. Check out our upcoming schedule and plan your nights out with us! 🍎🎶
URL:https://outonthetownli.com/event/riverhead-ciderhouse/2026-05-07/
LOCATION:Riverhead Ciderhouse\, 2711 Sound Ave\, Calverton\, 11933
CATEGORIES:Creative Activities,Game Night,Live Music,Night Life
ATTACH;FMTTYPE=image/png:https://outonthetownli.com/wp-content/uploads/2024/09/Capture-12.png
END:VEVENT
BEGIN:VEVENT
DTSTART;TZID=America/New_York:20260507T190000
DTEND;TZID=America/New_York:20260507T220000
DTSTAMP:20260424T075440
CREATED:20241218T024304Z
LAST-MODIFIED:20251212T033435Z
UID:10024976-1778180400-1778191200@outonthetownli.com
SUMMARY:🎉 BINGO AT THE BREWERY! 🎉
DESCRIPTION:Favorite0Join us every Thursday at 7 PM for a fun-filled night of Bingo! 🍺\nBuy a pint\, get a Bingo card and play for fabulous prizes! 🏆 \n📍 Where: @PortJeffBrewing\, 22 Mill Creek Rd\n🕖 When: Thursdays at 7 PM \nDon’t miss out on the fun – BINGO and pints await! 🍻
URL:https://outonthetownli.com/event/%f0%9f%8e%89-bingo-at-the-brewery-%f0%9f%8e%89/2026-05-07/
LOCATION:PORT JEFF BREWING COMPANY\, 22 Mill Creek Rd\, Port Jefferson\, 11777
CATEGORIES:Game Night,Night Life
ATTACH;FMTTYPE=image/png:https://outonthetownli.com/wp-content/uploads/2024/12/𝘽𝙄𝙉𝙂𝙊-𝘼𝙩-𝙏𝙝𝙚-𝘽𝙧𝙚𝙬𝙚𝙧𝙮-thursdays.png
END:VEVENT
BEGIN:VEVENT
DTSTART;TZID=America/New_York:20260508T120000
DTEND;TZID=America/New_York:20260508T200000
DTSTAMP:20260424T075440
CREATED:20240919T122040Z
LAST-MODIFIED:20251221T183604Z
UID:10023048-1778241600-1778270400@outonthetownli.com
SUMMARY:Riverhead Ciderhouse
DESCRIPTION:Favorite0🎉 Get ready for a jam-packed calendar of entertainment at Riverhead Ciderhouse! From brain-bending Trivia Nights to the toe-tapping tunes of Dueling Pianos and amazing Live Music\, we’ve got it all. Check out our upcoming schedule and plan your nights out with us! 🍎🎶
URL:https://outonthetownli.com/event/riverhead-ciderhouse/2026-05-08/
LOCATION:Riverhead Ciderhouse\, 2711 Sound Ave\, Calverton\, 11933
CATEGORIES:Creative Activities,Game Night,Live Music,Night Life
ATTACH;FMTTYPE=image/png:https://outonthetownli.com/wp-content/uploads/2024/09/Capture-12.png
END:VEVENT
BEGIN:VEVENT
DTSTART;TZID=America/New_York:20260509T120000
DTEND;TZID=America/New_York:20260509T200000
DTSTAMP:20260424T075440
CREATED:20240919T122040Z
LAST-MODIFIED:20251221T183604Z
UID:10023049-1778328000-1778356800@outonthetownli.com
SUMMARY:Riverhead Ciderhouse
DESCRIPTION:Favorite0🎉 Get ready for a jam-packed calendar of entertainment at Riverhead Ciderhouse! From brain-bending Trivia Nights to the toe-tapping tunes of Dueling Pianos and amazing Live Music\, we’ve got it all. Check out our upcoming schedule and plan your nights out with us! 🍎🎶
URL:https://outonthetownli.com/event/riverhead-ciderhouse/2026-05-09/
LOCATION:Riverhead Ciderhouse\, 2711 Sound Ave\, Calverton\, 11933
CATEGORIES:Creative Activities,Game Night,Live Music,Night Life
ATTACH;FMTTYPE=image/png:https://outonthetownli.com/wp-content/uploads/2024/09/Capture-12.png
END:VEVENT
BEGIN:VEVENT
DTSTART;TZID=America/New_York:20260510T120000
DTEND;TZID=America/New_York:20260510T200000
DTSTAMP:20260424T075440
CREATED:20240919T122040Z
LAST-MODIFIED:20251221T183604Z
UID:10023050-1778414400-1778443200@outonthetownli.com
SUMMARY:Riverhead Ciderhouse
DESCRIPTION:Favorite0🎉 Get ready for a jam-packed calendar of entertainment at Riverhead Ciderhouse! From brain-bending Trivia Nights to the toe-tapping tunes of Dueling Pianos and amazing Live Music\, we’ve got it all. Check out our upcoming schedule and plan your nights out with us! 🍎🎶
URL:https://outonthetownli.com/event/riverhead-ciderhouse/2026-05-10/
LOCATION:Riverhead Ciderhouse\, 2711 Sound Ave\, Calverton\, 11933
CATEGORIES:Creative Activities,Game Night,Live Music,Night Life
ATTACH;FMTTYPE=image/png:https://outonthetownli.com/wp-content/uploads/2024/09/Capture-12.png
END:VEVENT
BEGIN:VEVENT
DTSTART;TZID=America/New_York:20260511T120000
DTEND;TZID=America/New_York:20260511T200000
DTSTAMP:20260424T075440
CREATED:20240919T122040Z
LAST-MODIFIED:20251221T183604Z
UID:10023051-1778500800-1778529600@outonthetownli.com
SUMMARY:Riverhead Ciderhouse
DESCRIPTION:Favorite0🎉 Get ready for a jam-packed calendar of entertainment at Riverhead Ciderhouse! From brain-bending Trivia Nights to the toe-tapping tunes of Dueling Pianos and amazing Live Music\, we’ve got it all. Check out our upcoming schedule and plan your nights out with us! 🍎🎶
URL:https://outonthetownli.com/event/riverhead-ciderhouse/2026-05-11/
LOCATION:Riverhead Ciderhouse\, 2711 Sound Ave\, Calverton\, 11933
CATEGORIES:Creative Activities,Game Night,Live Music,Night Life
ATTACH;FMTTYPE=image/png:https://outonthetownli.com/wp-content/uploads/2024/09/Capture-12.png
END:VEVENT
BEGIN:VEVENT
DTSTART;TZID=America/New_York:20260512T120000
DTEND;TZID=America/New_York:20260512T200000
DTSTAMP:20260424T075440
CREATED:20240919T122040Z
LAST-MODIFIED:20251221T183604Z
UID:10023052-1778587200-1778616000@outonthetownli.com
SUMMARY:Riverhead Ciderhouse
DESCRIPTION:Favorite0🎉 Get ready for a jam-packed calendar of entertainment at Riverhead Ciderhouse! From brain-bending Trivia Nights to the toe-tapping tunes of Dueling Pianos and amazing Live Music\, we’ve got it all. Check out our upcoming schedule and plan your nights out with us! 🍎🎶
URL:https://outonthetownli.com/event/riverhead-ciderhouse/2026-05-12/
LOCATION:Riverhead Ciderhouse\, 2711 Sound Ave\, Calverton\, 11933
CATEGORIES:Creative Activities,Game Night,Live Music,Night Life
ATTACH;FMTTYPE=image/png:https://outonthetownli.com/wp-content/uploads/2024/09/Capture-12.png
END:VEVENT
BEGIN:VEVENT
DTSTART;TZID=America/New_York:20260512T190000
DTEND;TZID=America/New_York:20260512T220000
DTSTAMP:20260424T075440
CREATED:20250415T191233Z
LAST-MODIFIED:20251210T014119Z
UID:10023729-1778612400-1778623200@outonthetownli.com
SUMMARY:Trivia Tuesdays at Great South Bay Brewery! 🍻
DESCRIPTION:Favorite0\nGrab your team and join us every Tuesday at 7 PM for a night of brain-busting fun\, cold beers\, and great vibes. \n🏆 Prizes for top teams\n🍺 Craft beer on tap\n🌮 Rotating food vendors \n📍 Great South Bay Brewery – Bay Shore\nBring your A-game and let’s get quizzical!
URL:https://outonthetownli.com/event/trivia-tuesdays-at-great-south-bay-brewery-%f0%9f%8d%bb/2026-05-12/
LOCATION:Great South Bay Brewery\, 25 Drexel Drive\, Bay Shore\, 11706
CATEGORIES:Game Night
ATTACH;FMTTYPE=image/png:https://outonthetownli.com/wp-content/uploads/2025/04/4-15-25-Trivia-Tuesdays.png
END:VEVENT
BEGIN:VEVENT
DTSTART;TZID=America/New_York:20260513T120000
DTEND;TZID=America/New_York:20260513T200000
DTSTAMP:20260424T075440
CREATED:20240919T122040Z
LAST-MODIFIED:20251221T183604Z
UID:10023053-1778673600-1778702400@outonthetownli.com
SUMMARY:Riverhead Ciderhouse
DESCRIPTION:Favorite0🎉 Get ready for a jam-packed calendar of entertainment at Riverhead Ciderhouse! From brain-bending Trivia Nights to the toe-tapping tunes of Dueling Pianos and amazing Live Music\, we’ve got it all. Check out our upcoming schedule and plan your nights out with us! 🍎🎶
URL:https://outonthetownli.com/event/riverhead-ciderhouse/2026-05-13/
LOCATION:Riverhead Ciderhouse\, 2711 Sound Ave\, Calverton\, 11933
CATEGORIES:Creative Activities,Game Night,Live Music,Night Life
ATTACH;FMTTYPE=image/png:https://outonthetownli.com/wp-content/uploads/2024/09/Capture-12.png
END:VEVENT
BEGIN:VEVENT
DTSTART;TZID=America/New_York:20260514T120000
DTEND;TZID=America/New_York:20260514T200000
DTSTAMP:20260424T075440
CREATED:20240919T122040Z
LAST-MODIFIED:20251221T183604Z
UID:10023054-1778760000-1778788800@outonthetownli.com
SUMMARY:Riverhead Ciderhouse
DESCRIPTION:Favorite0🎉 Get ready for a jam-packed calendar of entertainment at Riverhead Ciderhouse! From brain-bending Trivia Nights to the toe-tapping tunes of Dueling Pianos and amazing Live Music\, we’ve got it all. Check out our upcoming schedule and plan your nights out with us! 🍎🎶
URL:https://outonthetownli.com/event/riverhead-ciderhouse/2026-05-14/
LOCATION:Riverhead Ciderhouse\, 2711 Sound Ave\, Calverton\, 11933
CATEGORIES:Creative Activities,Game Night,Live Music,Night Life
ATTACH;FMTTYPE=image/png:https://outonthetownli.com/wp-content/uploads/2024/09/Capture-12.png
END:VEVENT
BEGIN:VEVENT
DTSTART;TZID=America/New_York:20260514T190000
DTEND;TZID=America/New_York:20260514T220000
DTSTAMP:20260424T075440
CREATED:20241218T024304Z
LAST-MODIFIED:20251212T033435Z
UID:10024977-1778785200-1778796000@outonthetownli.com
SUMMARY:🎉 BINGO AT THE BREWERY! 🎉
DESCRIPTION:Favorite0Join us every Thursday at 7 PM for a fun-filled night of Bingo! 🍺\nBuy a pint\, get a Bingo card and play for fabulous prizes! 🏆 \n📍 Where: @PortJeffBrewing\, 22 Mill Creek Rd\n🕖 When: Thursdays at 7 PM \nDon’t miss out on the fun – BINGO and pints await! 🍻
URL:https://outonthetownli.com/event/%f0%9f%8e%89-bingo-at-the-brewery-%f0%9f%8e%89/2026-05-14/
LOCATION:PORT JEFF BREWING COMPANY\, 22 Mill Creek Rd\, Port Jefferson\, 11777
CATEGORIES:Game Night,Night Life
ATTACH;FMTTYPE=image/png:https://outonthetownli.com/wp-content/uploads/2024/12/𝘽𝙄𝙉𝙂𝙊-𝘼𝙩-𝙏𝙝𝙚-𝘽𝙧𝙚𝙬𝙚𝙧𝙮-thursdays.png
END:VEVENT
BEGIN:VEVENT
DTSTART;TZID=America/New_York:20260515T120000
DTEND;TZID=America/New_York:20260515T200000
DTSTAMP:20260424T075440
CREATED:20240919T122040Z
LAST-MODIFIED:20251221T183604Z
UID:10023055-1778846400-1778875200@outonthetownli.com
SUMMARY:Riverhead Ciderhouse
DESCRIPTION:Favorite0🎉 Get ready for a jam-packed calendar of entertainment at Riverhead Ciderhouse! From brain-bending Trivia Nights to the toe-tapping tunes of Dueling Pianos and amazing Live Music\, we’ve got it all. Check out our upcoming schedule and plan your nights out with us! 🍎🎶
URL:https://outonthetownli.com/event/riverhead-ciderhouse/2026-05-15/
LOCATION:Riverhead Ciderhouse\, 2711 Sound Ave\, Calverton\, 11933
CATEGORIES:Creative Activities,Game Night,Live Music,Night Life
ATTACH;FMTTYPE=image/png:https://outonthetownli.com/wp-content/uploads/2024/09/Capture-12.png
END:VEVENT
BEGIN:VEVENT
DTSTART;TZID=America/New_York:20260516T120000
DTEND;TZID=America/New_York:20260516T200000
DTSTAMP:20260424T075440
CREATED:20240919T122040Z
LAST-MODIFIED:20251221T183604Z
UID:10023056-1778932800-1778961600@outonthetownli.com
SUMMARY:Riverhead Ciderhouse
DESCRIPTION:Favorite0🎉 Get ready for a jam-packed calendar of entertainment at Riverhead Ciderhouse! From brain-bending Trivia Nights to the toe-tapping tunes of Dueling Pianos and amazing Live Music\, we’ve got it all. Check out our upcoming schedule and plan your nights out with us! 🍎🎶
URL:https://outonthetownli.com/event/riverhead-ciderhouse/2026-05-16/
LOCATION:Riverhead Ciderhouse\, 2711 Sound Ave\, Calverton\, 11933
CATEGORIES:Creative Activities,Game Night,Live Music,Night Life
ATTACH;FMTTYPE=image/png:https://outonthetownli.com/wp-content/uploads/2024/09/Capture-12.png
END:VEVENT
BEGIN:VEVENT
DTSTART;TZID=America/New_York:20260517T120000
DTEND;TZID=America/New_York:20260517T200000
DTSTAMP:20260424T075440
CREATED:20240919T122040Z
LAST-MODIFIED:20251221T183604Z
UID:10023057-1779019200-1779048000@outonthetownli.com
SUMMARY:Riverhead Ciderhouse
DESCRIPTION:Favorite0🎉 Get ready for a jam-packed calendar of entertainment at Riverhead Ciderhouse! From brain-bending Trivia Nights to the toe-tapping tunes of Dueling Pianos and amazing Live Music\, we’ve got it all. Check out our upcoming schedule and plan your nights out with us! 🍎🎶
URL:https://outonthetownli.com/event/riverhead-ciderhouse/2026-05-17/
LOCATION:Riverhead Ciderhouse\, 2711 Sound Ave\, Calverton\, 11933
CATEGORIES:Creative Activities,Game Night,Live Music,Night Life
ATTACH;FMTTYPE=image/png:https://outonthetownli.com/wp-content/uploads/2024/09/Capture-12.png
END:VEVENT
BEGIN:VEVENT
DTSTART;TZID=America/New_York:20260518T120000
DTEND;TZID=America/New_York:20260518T200000
DTSTAMP:20260424T075440
CREATED:20240919T122040Z
LAST-MODIFIED:20251221T183604Z
UID:10023058-1779105600-1779134400@outonthetownli.com
SUMMARY:Riverhead Ciderhouse
DESCRIPTION:Favorite0🎉 Get ready for a jam-packed calendar of entertainment at Riverhead Ciderhouse! From brain-bending Trivia Nights to the toe-tapping tunes of Dueling Pianos and amazing Live Music\, we’ve got it all. Check out our upcoming schedule and plan your nights out with us! 🍎🎶
URL:https://outonthetownli.com/event/riverhead-ciderhouse/2026-05-18/
LOCATION:Riverhead Ciderhouse\, 2711 Sound Ave\, Calverton\, 11933
CATEGORIES:Creative Activities,Game Night,Live Music,Night Life
ATTACH;FMTTYPE=image/png:https://outonthetownli.com/wp-content/uploads/2024/09/Capture-12.png
END:VEVENT
BEGIN:VEVENT
DTSTART;TZID=America/New_York:20260519T120000
DTEND;TZID=America/New_York:20260519T200000
DTSTAMP:20260424T075440
CREATED:20240919T122040Z
LAST-MODIFIED:20251221T183604Z
UID:10023059-1779192000-1779220800@outonthetownli.com
SUMMARY:Riverhead Ciderhouse
DESCRIPTION:Favorite0🎉 Get ready for a jam-packed calendar of entertainment at Riverhead Ciderhouse! From brain-bending Trivia Nights to the toe-tapping tunes of Dueling Pianos and amazing Live Music\, we’ve got it all. Check out our upcoming schedule and plan your nights out with us! 🍎🎶
URL:https://outonthetownli.com/event/riverhead-ciderhouse/2026-05-19/
LOCATION:Riverhead Ciderhouse\, 2711 Sound Ave\, Calverton\, 11933
CATEGORIES:Creative Activities,Game Night,Live Music,Night Life
ATTACH;FMTTYPE=image/png:https://outonthetownli.com/wp-content/uploads/2024/09/Capture-12.png
END:VEVENT
BEGIN:VEVENT
DTSTART;TZID=America/New_York:20260519T190000
DTEND;TZID=America/New_York:20260519T220000
DTSTAMP:20260424T075440
CREATED:20250415T191233Z
LAST-MODIFIED:20251210T014119Z
UID:10023730-1779217200-1779228000@outonthetownli.com
SUMMARY:Trivia Tuesdays at Great South Bay Brewery! 🍻
DESCRIPTION:Favorite0\nGrab your team and join us every Tuesday at 7 PM for a night of brain-busting fun\, cold beers\, and great vibes. \n🏆 Prizes for top teams\n🍺 Craft beer on tap\n🌮 Rotating food vendors \n📍 Great South Bay Brewery – Bay Shore\nBring your A-game and let’s get quizzical!
URL:https://outonthetownli.com/event/trivia-tuesdays-at-great-south-bay-brewery-%f0%9f%8d%bb/2026-05-19/
LOCATION:Great South Bay Brewery\, 25 Drexel Drive\, Bay Shore\, 11706
CATEGORIES:Game Night
ATTACH;FMTTYPE=image/png:https://outonthetownli.com/wp-content/uploads/2025/04/4-15-25-Trivia-Tuesdays.png
END:VEVENT
BEGIN:VEVENT
DTSTART;TZID=America/New_York:20260520T120000
DTEND;TZID=America/New_York:20260520T200000
DTSTAMP:20260424T075440
CREATED:20240919T122040Z
LAST-MODIFIED:20251221T183604Z
UID:10023060-1779278400-1779307200@outonthetownli.com
SUMMARY:Riverhead Ciderhouse
DESCRIPTION:Favorite0🎉 Get ready for a jam-packed calendar of entertainment at Riverhead Ciderhouse! From brain-bending Trivia Nights to the toe-tapping tunes of Dueling Pianos and amazing Live Music\, we’ve got it all. Check out our upcoming schedule and plan your nights out with us! 🍎🎶
URL:https://outonthetownli.com/event/riverhead-ciderhouse/2026-05-20/
LOCATION:Riverhead Ciderhouse\, 2711 Sound Ave\, Calverton\, 11933
CATEGORIES:Creative Activities,Game Night,Live Music,Night Life
ATTACH;FMTTYPE=image/png:https://outonthetownli.com/wp-content/uploads/2024/09/Capture-12.png
END:VEVENT
BEGIN:VEVENT
DTSTART;TZID=America/New_York:20260521T120000
DTEND;TZID=America/New_York:20260521T200000
DTSTAMP:20260424T075440
CREATED:20240919T122040Z
LAST-MODIFIED:20251221T183604Z
UID:10023061-1779364800-1779393600@outonthetownli.com
SUMMARY:Riverhead Ciderhouse
DESCRIPTION:Favorite0🎉 Get ready for a jam-packed calendar of entertainment at Riverhead Ciderhouse! From brain-bending Trivia Nights to the toe-tapping tunes of Dueling Pianos and amazing Live Music\, we’ve got it all. Check out our upcoming schedule and plan your nights out with us! 🍎🎶
URL:https://outonthetownli.com/event/riverhead-ciderhouse/2026-05-21/
LOCATION:Riverhead Ciderhouse\, 2711 Sound Ave\, Calverton\, 11933
CATEGORIES:Creative Activities,Game Night,Live Music,Night Life
ATTACH;FMTTYPE=image/png:https://outonthetownli.com/wp-content/uploads/2024/09/Capture-12.png
END:VEVENT
BEGIN:VEVENT
DTSTART;TZID=America/New_York:20260521T190000
DTEND;TZID=America/New_York:20260521T220000
DTSTAMP:20260424T075440
CREATED:20241218T024304Z
LAST-MODIFIED:20251212T033435Z
UID:10024978-1779390000-1779400800@outonthetownli.com
SUMMARY:🎉 BINGO AT THE BREWERY! 🎉
DESCRIPTION:Favorite0Join us every Thursday at 7 PM for a fun-filled night of Bingo! 🍺\nBuy a pint\, get a Bingo card and play for fabulous prizes! 🏆 \n📍 Where: @PortJeffBrewing\, 22 Mill Creek Rd\n🕖 When: Thursdays at 7 PM \nDon’t miss out on the fun – BINGO and pints await! 🍻
URL:https://outonthetownli.com/event/%f0%9f%8e%89-bingo-at-the-brewery-%f0%9f%8e%89/2026-05-21/
LOCATION:PORT JEFF BREWING COMPANY\, 22 Mill Creek Rd\, Port Jefferson\, 11777
CATEGORIES:Game Night,Night Life
ATTACH;FMTTYPE=image/png:https://outonthetownli.com/wp-content/uploads/2024/12/𝘽𝙄𝙉𝙂𝙊-𝘼𝙩-𝙏𝙝𝙚-𝘽𝙧𝙚𝙬𝙚𝙧𝙮-thursdays.png
END:VEVENT
BEGIN:VEVENT
DTSTART;TZID=America/New_York:20260522T120000
DTEND;TZID=America/New_York:20260522T200000
DTSTAMP:20260424T075440
CREATED:20240919T122040Z
LAST-MODIFIED:20251221T183604Z
UID:10023062-1779451200-1779480000@outonthetownli.com
SUMMARY:Riverhead Ciderhouse
DESCRIPTION:Favorite0🎉 Get ready for a jam-packed calendar of entertainment at Riverhead Ciderhouse! From brain-bending Trivia Nights to the toe-tapping tunes of Dueling Pianos and amazing Live Music\, we’ve got it all. Check out our upcoming schedule and plan your nights out with us! 🍎🎶
URL:https://outonthetownli.com/event/riverhead-ciderhouse/2026-05-22/
LOCATION:Riverhead Ciderhouse\, 2711 Sound Ave\, Calverton\, 11933
CATEGORIES:Creative Activities,Game Night,Live Music,Night Life
ATTACH;FMTTYPE=image/png:https://outonthetownli.com/wp-content/uploads/2024/09/Capture-12.png
END:VEVENT
BEGIN:VEVENT
DTSTART;TZID=America/New_York:20260523T120000
DTEND;TZID=America/New_York:20260523T200000
DTSTAMP:20260424T075440
CREATED:20240919T122040Z
LAST-MODIFIED:20251221T183604Z
UID:10023063-1779537600-1779566400@outonthetownli.com
SUMMARY:Riverhead Ciderhouse
DESCRIPTION:Favorite0🎉 Get ready for a jam-packed calendar of entertainment at Riverhead Ciderhouse! From brain-bending Trivia Nights to the toe-tapping tunes of Dueling Pianos and amazing Live Music\, we’ve got it all. Check out our upcoming schedule and plan your nights out with us! 🍎🎶
URL:https://outonthetownli.com/event/riverhead-ciderhouse/2026-05-23/
LOCATION:Riverhead Ciderhouse\, 2711 Sound Ave\, Calverton\, 11933
CATEGORIES:Creative Activities,Game Night,Live Music,Night Life
ATTACH;FMTTYPE=image/png:https://outonthetownli.com/wp-content/uploads/2024/09/Capture-12.png
END:VEVENT
BEGIN:VEVENT
DTSTART;TZID=America/New_York:20260524T120000
DTEND;TZID=America/New_York:20260524T200000
DTSTAMP:20260424T075440
CREATED:20240919T122040Z
LAST-MODIFIED:20251221T183604Z
UID:10023064-1779624000-1779652800@outonthetownli.com
SUMMARY:Riverhead Ciderhouse
DESCRIPTION:Favorite0🎉 Get ready for a jam-packed calendar of entertainment at Riverhead Ciderhouse! From brain-bending Trivia Nights to the toe-tapping tunes of Dueling Pianos and amazing Live Music\, we’ve got it all. Check out our upcoming schedule and plan your nights out with us! 🍎🎶
URL:https://outonthetownli.com/event/riverhead-ciderhouse/2026-05-24/
LOCATION:Riverhead Ciderhouse\, 2711 Sound Ave\, Calverton\, 11933
CATEGORIES:Creative Activities,Game Night,Live Music,Night Life
ATTACH;FMTTYPE=image/png:https://outonthetownli.com/wp-content/uploads/2024/09/Capture-12.png
END:VEVENT
END:VCALENDAR