BEGIN:VCALENDAR
VERSION:2.0
PRODID:-//Out on the Town - ECPv6.15.20//NONSGML v1.0//EN
CALSCALE:GREGORIAN
METHOD:PUBLISH
X-WR-CALNAME:Out on the Town
X-ORIGINAL-URL:https://outonthetownli.com
X-WR-CALDESC:Events for Out on the Town
REFRESH-INTERVAL;VALUE=DURATION:PT1H
X-Robots-Tag:noindex
X-PUBLISHED-TTL:PT1H
BEGIN:VTIMEZONE
TZID:America/New_York
BEGIN:DAYLIGHT
TZOFFSETFROM:-0500
TZOFFSETTO:-0400
TZNAME:EDT
DTSTART:20250309T070000
END:DAYLIGHT
BEGIN:STANDARD
TZOFFSETFROM:-0400
TZOFFSETTO:-0500
TZNAME:EST
DTSTART:20251102T060000
END:STANDARD
BEGIN:DAYLIGHT
TZOFFSETFROM:-0500
TZOFFSETTO:-0400
TZNAME:EDT
DTSTART:20260308T070000
END:DAYLIGHT
BEGIN:STANDARD
TZOFFSETFROM:-0400
TZOFFSETTO:-0500
TZNAME:EST
DTSTART:20261101T060000
END:STANDARD
BEGIN:DAYLIGHT
TZOFFSETFROM:-0500
TZOFFSETTO:-0400
TZNAME:EDT
DTSTART:20270314T070000
END:DAYLIGHT
BEGIN:STANDARD
TZOFFSETFROM:-0400
TZOFFSETTO:-0500
TZNAME:EST
DTSTART:20271107T060000
END:STANDARD
END:VTIMEZONE
BEGIN:VEVENT
DTSTART;TZID=America/New_York:20260601T120000
DTEND;TZID=America/New_York:20260601T200000
DTSTAMP:20260424T094449
CREATED:20240919T122040Z
LAST-MODIFIED:20251221T183604Z
UID:10023072-1780315200-1780344000@outonthetownli.com
SUMMARY:Riverhead Ciderhouse
DESCRIPTION:Favorite0🎉 Get ready for a jam-packed calendar of entertainment at Riverhead Ciderhouse! From brain-bending Trivia Nights to the toe-tapping tunes of Dueling Pianos and amazing Live Music\, we’ve got it all. Check out our upcoming schedule and plan your nights out with us! 🍎🎶
URL:https://outonthetownli.com/event/riverhead-ciderhouse/2026-06-01/
LOCATION:Riverhead Ciderhouse\, 2711 Sound Ave\, Calverton\, 11933
CATEGORIES:Creative Activities,Game Night,Live Music,Night Life
ATTACH;FMTTYPE=image/png:https://outonthetownli.com/wp-content/uploads/2024/09/Capture-12.png
END:VEVENT
BEGIN:VEVENT
DTSTART;TZID=America/New_York:20260602T120000
DTEND;TZID=America/New_York:20260602T200000
DTSTAMP:20260424T094449
CREATED:20240919T122040Z
LAST-MODIFIED:20251221T183604Z
UID:10023073-1780401600-1780430400@outonthetownli.com
SUMMARY:Riverhead Ciderhouse
DESCRIPTION:Favorite0🎉 Get ready for a jam-packed calendar of entertainment at Riverhead Ciderhouse! From brain-bending Trivia Nights to the toe-tapping tunes of Dueling Pianos and amazing Live Music\, we’ve got it all. Check out our upcoming schedule and plan your nights out with us! 🍎🎶
URL:https://outonthetownli.com/event/riverhead-ciderhouse/2026-06-02/
LOCATION:Riverhead Ciderhouse\, 2711 Sound Ave\, Calverton\, 11933
CATEGORIES:Creative Activities,Game Night,Live Music,Night Life
ATTACH;FMTTYPE=image/png:https://outonthetownli.com/wp-content/uploads/2024/09/Capture-12.png
END:VEVENT
BEGIN:VEVENT
DTSTART;TZID=America/New_York:20260602T190000
DTEND;TZID=America/New_York:20260602T220000
DTSTAMP:20260424T094449
CREATED:20250415T191233Z
LAST-MODIFIED:20251210T014119Z
UID:10023732-1780426800-1780437600@outonthetownli.com
SUMMARY:Trivia Tuesdays at Great South Bay Brewery! 🍻
DESCRIPTION:Favorite0\nGrab your team and join us every Tuesday at 7 PM for a night of brain-busting fun\, cold beers\, and great vibes. \n🏆 Prizes for top teams\n🍺 Craft beer on tap\n🌮 Rotating food vendors \n📍 Great South Bay Brewery – Bay Shore\nBring your A-game and let’s get quizzical!
URL:https://outonthetownli.com/event/trivia-tuesdays-at-great-south-bay-brewery-%f0%9f%8d%bb/2026-06-02/
LOCATION:Great South Bay Brewery\, 25 Drexel Drive\, Bay Shore\, 11706
CATEGORIES:Game Night
ATTACH;FMTTYPE=image/png:https://outonthetownli.com/wp-content/uploads/2025/04/4-15-25-Trivia-Tuesdays.png
END:VEVENT
BEGIN:VEVENT
DTSTART;TZID=America/New_York:20260603T120000
DTEND;TZID=America/New_York:20260603T200000
DTSTAMP:20260424T094449
CREATED:20240919T122040Z
LAST-MODIFIED:20251221T183604Z
UID:10023074-1780488000-1780516800@outonthetownli.com
SUMMARY:Riverhead Ciderhouse
DESCRIPTION:Favorite0🎉 Get ready for a jam-packed calendar of entertainment at Riverhead Ciderhouse! From brain-bending Trivia Nights to the toe-tapping tunes of Dueling Pianos and amazing Live Music\, we’ve got it all. Check out our upcoming schedule and plan your nights out with us! 🍎🎶
URL:https://outonthetownli.com/event/riverhead-ciderhouse/2026-06-03/
LOCATION:Riverhead Ciderhouse\, 2711 Sound Ave\, Calverton\, 11933
CATEGORIES:Creative Activities,Game Night,Live Music,Night Life
ATTACH;FMTTYPE=image/png:https://outonthetownli.com/wp-content/uploads/2024/09/Capture-12.png
END:VEVENT
BEGIN:VEVENT
DTSTART;TZID=America/New_York:20260604T120000
DTEND;TZID=America/New_York:20260604T200000
DTSTAMP:20260424T094449
CREATED:20240919T122040Z
LAST-MODIFIED:20251221T183604Z
UID:10023075-1780574400-1780603200@outonthetownli.com
SUMMARY:Riverhead Ciderhouse
DESCRIPTION:Favorite0🎉 Get ready for a jam-packed calendar of entertainment at Riverhead Ciderhouse! From brain-bending Trivia Nights to the toe-tapping tunes of Dueling Pianos and amazing Live Music\, we’ve got it all. Check out our upcoming schedule and plan your nights out with us! 🍎🎶
URL:https://outonthetownli.com/event/riverhead-ciderhouse/2026-06-04/
LOCATION:Riverhead Ciderhouse\, 2711 Sound Ave\, Calverton\, 11933
CATEGORIES:Creative Activities,Game Night,Live Music,Night Life
ATTACH;FMTTYPE=image/png:https://outonthetownli.com/wp-content/uploads/2024/09/Capture-12.png
END:VEVENT
BEGIN:VEVENT
DTSTART;TZID=America/New_York:20260604T190000
DTEND;TZID=America/New_York:20260604T220000
DTSTAMP:20260424T094449
CREATED:20241218T024304Z
LAST-MODIFIED:20251212T033435Z
UID:10024980-1780599600-1780610400@outonthetownli.com
SUMMARY:🎉 BINGO AT THE BREWERY! 🎉
DESCRIPTION:Favorite0Join us every Thursday at 7 PM for a fun-filled night of Bingo! 🍺\nBuy a pint\, get a Bingo card and play for fabulous prizes! 🏆 \n📍 Where: @PortJeffBrewing\, 22 Mill Creek Rd\n🕖 When: Thursdays at 7 PM \nDon’t miss out on the fun – BINGO and pints await! 🍻
URL:https://outonthetownli.com/event/%f0%9f%8e%89-bingo-at-the-brewery-%f0%9f%8e%89/2026-06-04/
LOCATION:PORT JEFF BREWING COMPANY\, 22 Mill Creek Rd\, Port Jefferson\, 11777
CATEGORIES:Game Night,Night Life
ATTACH;FMTTYPE=image/png:https://outonthetownli.com/wp-content/uploads/2024/12/𝘽𝙄𝙉𝙂𝙊-𝘼𝙩-𝙏𝙝𝙚-𝘽𝙧𝙚𝙬𝙚𝙧𝙮-thursdays.png
END:VEVENT
BEGIN:VEVENT
DTSTART;TZID=America/New_York:20260605T120000
DTEND;TZID=America/New_York:20260605T200000
DTSTAMP:20260424T094449
CREATED:20240919T122040Z
LAST-MODIFIED:20251221T183604Z
UID:10023076-1780660800-1780689600@outonthetownli.com
SUMMARY:Riverhead Ciderhouse
DESCRIPTION:Favorite0🎉 Get ready for a jam-packed calendar of entertainment at Riverhead Ciderhouse! From brain-bending Trivia Nights to the toe-tapping tunes of Dueling Pianos and amazing Live Music\, we’ve got it all. Check out our upcoming schedule and plan your nights out with us! 🍎🎶
URL:https://outonthetownli.com/event/riverhead-ciderhouse/2026-06-05/
LOCATION:Riverhead Ciderhouse\, 2711 Sound Ave\, Calverton\, 11933
CATEGORIES:Creative Activities,Game Night,Live Music,Night Life
ATTACH;FMTTYPE=image/png:https://outonthetownli.com/wp-content/uploads/2024/09/Capture-12.png
END:VEVENT
BEGIN:VEVENT
DTSTART;TZID=America/New_York:20260606T120000
DTEND;TZID=America/New_York:20260606T200000
DTSTAMP:20260424T094449
CREATED:20240919T122040Z
LAST-MODIFIED:20251221T183604Z
UID:10023077-1780747200-1780776000@outonthetownli.com
SUMMARY:Riverhead Ciderhouse
DESCRIPTION:Favorite0🎉 Get ready for a jam-packed calendar of entertainment at Riverhead Ciderhouse! From brain-bending Trivia Nights to the toe-tapping tunes of Dueling Pianos and amazing Live Music\, we’ve got it all. Check out our upcoming schedule and plan your nights out with us! 🍎🎶
URL:https://outonthetownli.com/event/riverhead-ciderhouse/2026-06-06/
LOCATION:Riverhead Ciderhouse\, 2711 Sound Ave\, Calverton\, 11933
CATEGORIES:Creative Activities,Game Night,Live Music,Night Life
ATTACH;FMTTYPE=image/png:https://outonthetownli.com/wp-content/uploads/2024/09/Capture-12.png
END:VEVENT
BEGIN:VEVENT
DTSTART;TZID=America/New_York:20260607T120000
DTEND;TZID=America/New_York:20260607T200000
DTSTAMP:20260424T094449
CREATED:20240919T122040Z
LAST-MODIFIED:20251221T183604Z
UID:10023078-1780833600-1780862400@outonthetownli.com
SUMMARY:Riverhead Ciderhouse
DESCRIPTION:Favorite0🎉 Get ready for a jam-packed calendar of entertainment at Riverhead Ciderhouse! From brain-bending Trivia Nights to the toe-tapping tunes of Dueling Pianos and amazing Live Music\, we’ve got it all. Check out our upcoming schedule and plan your nights out with us! 🍎🎶
URL:https://outonthetownli.com/event/riverhead-ciderhouse/2026-06-07/
LOCATION:Riverhead Ciderhouse\, 2711 Sound Ave\, Calverton\, 11933
CATEGORIES:Creative Activities,Game Night,Live Music,Night Life
ATTACH;FMTTYPE=image/png:https://outonthetownli.com/wp-content/uploads/2024/09/Capture-12.png
END:VEVENT
BEGIN:VEVENT
DTSTART;TZID=America/New_York:20260608T120000
DTEND;TZID=America/New_York:20260608T200000
DTSTAMP:20260424T094449
CREATED:20240919T122040Z
LAST-MODIFIED:20251221T183604Z
UID:10023079-1780920000-1780948800@outonthetownli.com
SUMMARY:Riverhead Ciderhouse
DESCRIPTION:Favorite0🎉 Get ready for a jam-packed calendar of entertainment at Riverhead Ciderhouse! From brain-bending Trivia Nights to the toe-tapping tunes of Dueling Pianos and amazing Live Music\, we’ve got it all. Check out our upcoming schedule and plan your nights out with us! 🍎🎶
URL:https://outonthetownli.com/event/riverhead-ciderhouse/2026-06-08/
LOCATION:Riverhead Ciderhouse\, 2711 Sound Ave\, Calverton\, 11933
CATEGORIES:Creative Activities,Game Night,Live Music,Night Life
ATTACH;FMTTYPE=image/png:https://outonthetownli.com/wp-content/uploads/2024/09/Capture-12.png
END:VEVENT
BEGIN:VEVENT
DTSTART;TZID=America/New_York:20260609T120000
DTEND;TZID=America/New_York:20260609T200000
DTSTAMP:20260424T094449
CREATED:20240919T122040Z
LAST-MODIFIED:20251221T183604Z
UID:10023080-1781006400-1781035200@outonthetownli.com
SUMMARY:Riverhead Ciderhouse
DESCRIPTION:Favorite0🎉 Get ready for a jam-packed calendar of entertainment at Riverhead Ciderhouse! From brain-bending Trivia Nights to the toe-tapping tunes of Dueling Pianos and amazing Live Music\, we’ve got it all. Check out our upcoming schedule and plan your nights out with us! 🍎🎶
URL:https://outonthetownli.com/event/riverhead-ciderhouse/2026-06-09/
LOCATION:Riverhead Ciderhouse\, 2711 Sound Ave\, Calverton\, 11933
CATEGORIES:Creative Activities,Game Night,Live Music,Night Life
ATTACH;FMTTYPE=image/png:https://outonthetownli.com/wp-content/uploads/2024/09/Capture-12.png
END:VEVENT
BEGIN:VEVENT
DTSTART;TZID=America/New_York:20260609T190000
DTEND;TZID=America/New_York:20260609T220000
DTSTAMP:20260424T094449
CREATED:20250415T191233Z
LAST-MODIFIED:20251210T014119Z
UID:10023733-1781031600-1781042400@outonthetownli.com
SUMMARY:Trivia Tuesdays at Great South Bay Brewery! 🍻
DESCRIPTION:Favorite0\nGrab your team and join us every Tuesday at 7 PM for a night of brain-busting fun\, cold beers\, and great vibes. \n🏆 Prizes for top teams\n🍺 Craft beer on tap\n🌮 Rotating food vendors \n📍 Great South Bay Brewery – Bay Shore\nBring your A-game and let’s get quizzical!
URL:https://outonthetownli.com/event/trivia-tuesdays-at-great-south-bay-brewery-%f0%9f%8d%bb/2026-06-09/
LOCATION:Great South Bay Brewery\, 25 Drexel Drive\, Bay Shore\, 11706
CATEGORIES:Game Night
ATTACH;FMTTYPE=image/png:https://outonthetownli.com/wp-content/uploads/2025/04/4-15-25-Trivia-Tuesdays.png
END:VEVENT
BEGIN:VEVENT
DTSTART;TZID=America/New_York:20260610T120000
DTEND;TZID=America/New_York:20260610T200000
DTSTAMP:20260424T094449
CREATED:20240919T122040Z
LAST-MODIFIED:20251221T183604Z
UID:10023081-1781092800-1781121600@outonthetownli.com
SUMMARY:Riverhead Ciderhouse
DESCRIPTION:Favorite0🎉 Get ready for a jam-packed calendar of entertainment at Riverhead Ciderhouse! From brain-bending Trivia Nights to the toe-tapping tunes of Dueling Pianos and amazing Live Music\, we’ve got it all. Check out our upcoming schedule and plan your nights out with us! 🍎🎶
URL:https://outonthetownli.com/event/riverhead-ciderhouse/2026-06-10/
LOCATION:Riverhead Ciderhouse\, 2711 Sound Ave\, Calverton\, 11933
CATEGORIES:Creative Activities,Game Night,Live Music,Night Life
ATTACH;FMTTYPE=image/png:https://outonthetownli.com/wp-content/uploads/2024/09/Capture-12.png
END:VEVENT
BEGIN:VEVENT
DTSTART;TZID=America/New_York:20260611T120000
DTEND;TZID=America/New_York:20260611T200000
DTSTAMP:20260424T094449
CREATED:20240919T122040Z
LAST-MODIFIED:20251221T183604Z
UID:10023082-1781179200-1781208000@outonthetownli.com
SUMMARY:Riverhead Ciderhouse
DESCRIPTION:Favorite0🎉 Get ready for a jam-packed calendar of entertainment at Riverhead Ciderhouse! From brain-bending Trivia Nights to the toe-tapping tunes of Dueling Pianos and amazing Live Music\, we’ve got it all. Check out our upcoming schedule and plan your nights out with us! 🍎🎶
URL:https://outonthetownli.com/event/riverhead-ciderhouse/2026-06-11/
LOCATION:Riverhead Ciderhouse\, 2711 Sound Ave\, Calverton\, 11933
CATEGORIES:Creative Activities,Game Night,Live Music,Night Life
ATTACH;FMTTYPE=image/png:https://outonthetownli.com/wp-content/uploads/2024/09/Capture-12.png
END:VEVENT
BEGIN:VEVENT
DTSTART;TZID=America/New_York:20260611T190000
DTEND;TZID=America/New_York:20260611T220000
DTSTAMP:20260424T094449
CREATED:20241218T024304Z
LAST-MODIFIED:20251212T033435Z
UID:10024981-1781204400-1781215200@outonthetownli.com
SUMMARY:🎉 BINGO AT THE BREWERY! 🎉
DESCRIPTION:Favorite0Join us every Thursday at 7 PM for a fun-filled night of Bingo! 🍺\nBuy a pint\, get a Bingo card and play for fabulous prizes! 🏆 \n📍 Where: @PortJeffBrewing\, 22 Mill Creek Rd\n🕖 When: Thursdays at 7 PM \nDon’t miss out on the fun – BINGO and pints await! 🍻
URL:https://outonthetownli.com/event/%f0%9f%8e%89-bingo-at-the-brewery-%f0%9f%8e%89/2026-06-11/
LOCATION:PORT JEFF BREWING COMPANY\, 22 Mill Creek Rd\, Port Jefferson\, 11777
CATEGORIES:Game Night,Night Life
ATTACH;FMTTYPE=image/png:https://outonthetownli.com/wp-content/uploads/2024/12/𝘽𝙄𝙉𝙂𝙊-𝘼𝙩-𝙏𝙝𝙚-𝘽𝙧𝙚𝙬𝙚𝙧𝙮-thursdays.png
END:VEVENT
BEGIN:VEVENT
DTSTART;TZID=America/New_York:20260612T120000
DTEND;TZID=America/New_York:20260612T200000
DTSTAMP:20260424T094449
CREATED:20240919T122040Z
LAST-MODIFIED:20251221T183604Z
UID:10023083-1781265600-1781294400@outonthetownli.com
SUMMARY:Riverhead Ciderhouse
DESCRIPTION:Favorite0🎉 Get ready for a jam-packed calendar of entertainment at Riverhead Ciderhouse! From brain-bending Trivia Nights to the toe-tapping tunes of Dueling Pianos and amazing Live Music\, we’ve got it all. Check out our upcoming schedule and plan your nights out with us! 🍎🎶
URL:https://outonthetownli.com/event/riverhead-ciderhouse/2026-06-12/
LOCATION:Riverhead Ciderhouse\, 2711 Sound Ave\, Calverton\, 11933
CATEGORIES:Creative Activities,Game Night,Live Music,Night Life
ATTACH;FMTTYPE=image/png:https://outonthetownli.com/wp-content/uploads/2024/09/Capture-12.png
END:VEVENT
BEGIN:VEVENT
DTSTART;TZID=America/New_York:20260613T120000
DTEND;TZID=America/New_York:20260613T200000
DTSTAMP:20260424T094449
CREATED:20240919T122040Z
LAST-MODIFIED:20251221T183604Z
UID:10023084-1781352000-1781380800@outonthetownli.com
SUMMARY:Riverhead Ciderhouse
DESCRIPTION:Favorite0🎉 Get ready for a jam-packed calendar of entertainment at Riverhead Ciderhouse! From brain-bending Trivia Nights to the toe-tapping tunes of Dueling Pianos and amazing Live Music\, we’ve got it all. Check out our upcoming schedule and plan your nights out with us! 🍎🎶
URL:https://outonthetownli.com/event/riverhead-ciderhouse/2026-06-13/
LOCATION:Riverhead Ciderhouse\, 2711 Sound Ave\, Calverton\, 11933
CATEGORIES:Creative Activities,Game Night,Live Music,Night Life
ATTACH;FMTTYPE=image/png:https://outonthetownli.com/wp-content/uploads/2024/09/Capture-12.png
END:VEVENT
BEGIN:VEVENT
DTSTART;TZID=America/New_York:20260614T120000
DTEND;TZID=America/New_York:20260614T200000
DTSTAMP:20260424T094449
CREATED:20240919T122040Z
LAST-MODIFIED:20251221T183604Z
UID:10023085-1781438400-1781467200@outonthetownli.com
SUMMARY:Riverhead Ciderhouse
DESCRIPTION:Favorite0🎉 Get ready for a jam-packed calendar of entertainment at Riverhead Ciderhouse! From brain-bending Trivia Nights to the toe-tapping tunes of Dueling Pianos and amazing Live Music\, we’ve got it all. Check out our upcoming schedule and plan your nights out with us! 🍎🎶
URL:https://outonthetownli.com/event/riverhead-ciderhouse/2026-06-14/
LOCATION:Riverhead Ciderhouse\, 2711 Sound Ave\, Calverton\, 11933
CATEGORIES:Creative Activities,Game Night,Live Music,Night Life
ATTACH;FMTTYPE=image/png:https://outonthetownli.com/wp-content/uploads/2024/09/Capture-12.png
END:VEVENT
BEGIN:VEVENT
DTSTART;TZID=America/New_York:20260615T120000
DTEND;TZID=America/New_York:20260615T200000
DTSTAMP:20260424T094449
CREATED:20240919T122040Z
LAST-MODIFIED:20251221T183604Z
UID:10023086-1781524800-1781553600@outonthetownli.com
SUMMARY:Riverhead Ciderhouse
DESCRIPTION:Favorite0🎉 Get ready for a jam-packed calendar of entertainment at Riverhead Ciderhouse! From brain-bending Trivia Nights to the toe-tapping tunes of Dueling Pianos and amazing Live Music\, we’ve got it all. Check out our upcoming schedule and plan your nights out with us! 🍎🎶
URL:https://outonthetownli.com/event/riverhead-ciderhouse/2026-06-15/
LOCATION:Riverhead Ciderhouse\, 2711 Sound Ave\, Calverton\, 11933
CATEGORIES:Creative Activities,Game Night,Live Music,Night Life
ATTACH;FMTTYPE=image/png:https://outonthetownli.com/wp-content/uploads/2024/09/Capture-12.png
END:VEVENT
BEGIN:VEVENT
DTSTART;TZID=America/New_York:20260616T120000
DTEND;TZID=America/New_York:20260616T200000
DTSTAMP:20260424T094449
CREATED:20240919T122040Z
LAST-MODIFIED:20251221T183604Z
UID:10023087-1781611200-1781640000@outonthetownli.com
SUMMARY:Riverhead Ciderhouse
DESCRIPTION:Favorite0🎉 Get ready for a jam-packed calendar of entertainment at Riverhead Ciderhouse! From brain-bending Trivia Nights to the toe-tapping tunes of Dueling Pianos and amazing Live Music\, we’ve got it all. Check out our upcoming schedule and plan your nights out with us! 🍎🎶
URL:https://outonthetownli.com/event/riverhead-ciderhouse/2026-06-16/
LOCATION:Riverhead Ciderhouse\, 2711 Sound Ave\, Calverton\, 11933
CATEGORIES:Creative Activities,Game Night,Live Music,Night Life
ATTACH;FMTTYPE=image/png:https://outonthetownli.com/wp-content/uploads/2024/09/Capture-12.png
END:VEVENT
BEGIN:VEVENT
DTSTART;TZID=America/New_York:20260616T190000
DTEND;TZID=America/New_York:20260616T220000
DTSTAMP:20260424T094449
CREATED:20250415T191233Z
LAST-MODIFIED:20251210T014119Z
UID:10023734-1781636400-1781647200@outonthetownli.com
SUMMARY:Trivia Tuesdays at Great South Bay Brewery! 🍻
DESCRIPTION:Favorite0\nGrab your team and join us every Tuesday at 7 PM for a night of brain-busting fun\, cold beers\, and great vibes. \n🏆 Prizes for top teams\n🍺 Craft beer on tap\n🌮 Rotating food vendors \n📍 Great South Bay Brewery – Bay Shore\nBring your A-game and let’s get quizzical!
URL:https://outonthetownli.com/event/trivia-tuesdays-at-great-south-bay-brewery-%f0%9f%8d%bb/2026-06-16/
LOCATION:Great South Bay Brewery\, 25 Drexel Drive\, Bay Shore\, 11706
CATEGORIES:Game Night
ATTACH;FMTTYPE=image/png:https://outonthetownli.com/wp-content/uploads/2025/04/4-15-25-Trivia-Tuesdays.png
END:VEVENT
BEGIN:VEVENT
DTSTART;TZID=America/New_York:20260617T120000
DTEND;TZID=America/New_York:20260617T200000
DTSTAMP:20260424T094449
CREATED:20240919T122040Z
LAST-MODIFIED:20251221T183604Z
UID:10023088-1781697600-1781726400@outonthetownli.com
SUMMARY:Riverhead Ciderhouse
DESCRIPTION:Favorite0🎉 Get ready for a jam-packed calendar of entertainment at Riverhead Ciderhouse! From brain-bending Trivia Nights to the toe-tapping tunes of Dueling Pianos and amazing Live Music\, we’ve got it all. Check out our upcoming schedule and plan your nights out with us! 🍎🎶
URL:https://outonthetownli.com/event/riverhead-ciderhouse/2026-06-17/
LOCATION:Riverhead Ciderhouse\, 2711 Sound Ave\, Calverton\, 11933
CATEGORIES:Creative Activities,Game Night,Live Music,Night Life
ATTACH;FMTTYPE=image/png:https://outonthetownli.com/wp-content/uploads/2024/09/Capture-12.png
END:VEVENT
BEGIN:VEVENT
DTSTART;TZID=America/New_York:20260618T120000
DTEND;TZID=America/New_York:20260618T200000
DTSTAMP:20260424T094449
CREATED:20240919T122040Z
LAST-MODIFIED:20251221T183604Z
UID:10023089-1781784000-1781812800@outonthetownli.com
SUMMARY:Riverhead Ciderhouse
DESCRIPTION:Favorite0🎉 Get ready for a jam-packed calendar of entertainment at Riverhead Ciderhouse! From brain-bending Trivia Nights to the toe-tapping tunes of Dueling Pianos and amazing Live Music\, we’ve got it all. Check out our upcoming schedule and plan your nights out with us! 🍎🎶
URL:https://outonthetownli.com/event/riverhead-ciderhouse/2026-06-18/
LOCATION:Riverhead Ciderhouse\, 2711 Sound Ave\, Calverton\, 11933
CATEGORIES:Creative Activities,Game Night,Live Music,Night Life
ATTACH;FMTTYPE=image/png:https://outonthetownli.com/wp-content/uploads/2024/09/Capture-12.png
END:VEVENT
BEGIN:VEVENT
DTSTART;TZID=America/New_York:20260618T190000
DTEND;TZID=America/New_York:20260618T220000
DTSTAMP:20260424T094449
CREATED:20241218T024304Z
LAST-MODIFIED:20251212T033435Z
UID:10024982-1781809200-1781820000@outonthetownli.com
SUMMARY:🎉 BINGO AT THE BREWERY! 🎉
DESCRIPTION:Favorite0Join us every Thursday at 7 PM for a fun-filled night of Bingo! 🍺\nBuy a pint\, get a Bingo card and play for fabulous prizes! 🏆 \n📍 Where: @PortJeffBrewing\, 22 Mill Creek Rd\n🕖 When: Thursdays at 7 PM \nDon’t miss out on the fun – BINGO and pints await! 🍻
URL:https://outonthetownli.com/event/%f0%9f%8e%89-bingo-at-the-brewery-%f0%9f%8e%89/2026-06-18/
LOCATION:PORT JEFF BREWING COMPANY\, 22 Mill Creek Rd\, Port Jefferson\, 11777
CATEGORIES:Game Night,Night Life
ATTACH;FMTTYPE=image/png:https://outonthetownli.com/wp-content/uploads/2024/12/𝘽𝙄𝙉𝙂𝙊-𝘼𝙩-𝙏𝙝𝙚-𝘽𝙧𝙚𝙬𝙚𝙧𝙮-thursdays.png
END:VEVENT
BEGIN:VEVENT
DTSTART;TZID=America/New_York:20260619T120000
DTEND;TZID=America/New_York:20260619T200000
DTSTAMP:20260424T094449
CREATED:20240919T122040Z
LAST-MODIFIED:20251221T183604Z
UID:10023090-1781870400-1781899200@outonthetownli.com
SUMMARY:Riverhead Ciderhouse
DESCRIPTION:Favorite0🎉 Get ready for a jam-packed calendar of entertainment at Riverhead Ciderhouse! From brain-bending Trivia Nights to the toe-tapping tunes of Dueling Pianos and amazing Live Music\, we’ve got it all. Check out our upcoming schedule and plan your nights out with us! 🍎🎶
URL:https://outonthetownli.com/event/riverhead-ciderhouse/2026-06-19/
LOCATION:Riverhead Ciderhouse\, 2711 Sound Ave\, Calverton\, 11933
CATEGORIES:Creative Activities,Game Night,Live Music,Night Life
ATTACH;FMTTYPE=image/png:https://outonthetownli.com/wp-content/uploads/2024/09/Capture-12.png
END:VEVENT
BEGIN:VEVENT
DTSTART;TZID=America/New_York:20260620T120000
DTEND;TZID=America/New_York:20260620T200000
DTSTAMP:20260424T094449
CREATED:20240919T122040Z
LAST-MODIFIED:20251221T183604Z
UID:10023091-1781956800-1781985600@outonthetownli.com
SUMMARY:Riverhead Ciderhouse
DESCRIPTION:Favorite0🎉 Get ready for a jam-packed calendar of entertainment at Riverhead Ciderhouse! From brain-bending Trivia Nights to the toe-tapping tunes of Dueling Pianos and amazing Live Music\, we’ve got it all. Check out our upcoming schedule and plan your nights out with us! 🍎🎶
URL:https://outonthetownli.com/event/riverhead-ciderhouse/2026-06-20/
LOCATION:Riverhead Ciderhouse\, 2711 Sound Ave\, Calverton\, 11933
CATEGORIES:Creative Activities,Game Night,Live Music,Night Life
ATTACH;FMTTYPE=image/png:https://outonthetownli.com/wp-content/uploads/2024/09/Capture-12.png
END:VEVENT
BEGIN:VEVENT
DTSTART;TZID=America/New_York:20260621T120000
DTEND;TZID=America/New_York:20260621T200000
DTSTAMP:20260424T094449
CREATED:20240919T122040Z
LAST-MODIFIED:20251221T183604Z
UID:10023092-1782043200-1782072000@outonthetownli.com
SUMMARY:Riverhead Ciderhouse
DESCRIPTION:Favorite0🎉 Get ready for a jam-packed calendar of entertainment at Riverhead Ciderhouse! From brain-bending Trivia Nights to the toe-tapping tunes of Dueling Pianos and amazing Live Music\, we’ve got it all. Check out our upcoming schedule and plan your nights out with us! 🍎🎶
URL:https://outonthetownli.com/event/riverhead-ciderhouse/2026-06-21/
LOCATION:Riverhead Ciderhouse\, 2711 Sound Ave\, Calverton\, 11933
CATEGORIES:Creative Activities,Game Night,Live Music,Night Life
ATTACH;FMTTYPE=image/png:https://outonthetownli.com/wp-content/uploads/2024/09/Capture-12.png
END:VEVENT
BEGIN:VEVENT
DTSTART;TZID=America/New_York:20260622T120000
DTEND;TZID=America/New_York:20260622T200000
DTSTAMP:20260424T094449
CREATED:20240919T122040Z
LAST-MODIFIED:20251221T183604Z
UID:10023093-1782129600-1782158400@outonthetownli.com
SUMMARY:Riverhead Ciderhouse
DESCRIPTION:Favorite0🎉 Get ready for a jam-packed calendar of entertainment at Riverhead Ciderhouse! From brain-bending Trivia Nights to the toe-tapping tunes of Dueling Pianos and amazing Live Music\, we’ve got it all. Check out our upcoming schedule and plan your nights out with us! 🍎🎶
URL:https://outonthetownli.com/event/riverhead-ciderhouse/2026-06-22/
LOCATION:Riverhead Ciderhouse\, 2711 Sound Ave\, Calverton\, 11933
CATEGORIES:Creative Activities,Game Night,Live Music,Night Life
ATTACH;FMTTYPE=image/png:https://outonthetownli.com/wp-content/uploads/2024/09/Capture-12.png
END:VEVENT
BEGIN:VEVENT
DTSTART;TZID=America/New_York:20260623T120000
DTEND;TZID=America/New_York:20260623T200000
DTSTAMP:20260424T094449
CREATED:20240919T122040Z
LAST-MODIFIED:20251221T183604Z
UID:10023094-1782216000-1782244800@outonthetownli.com
SUMMARY:Riverhead Ciderhouse
DESCRIPTION:Favorite0🎉 Get ready for a jam-packed calendar of entertainment at Riverhead Ciderhouse! From brain-bending Trivia Nights to the toe-tapping tunes of Dueling Pianos and amazing Live Music\, we’ve got it all. Check out our upcoming schedule and plan your nights out with us! 🍎🎶
URL:https://outonthetownli.com/event/riverhead-ciderhouse/2026-06-23/
LOCATION:Riverhead Ciderhouse\, 2711 Sound Ave\, Calverton\, 11933
CATEGORIES:Creative Activities,Game Night,Live Music,Night Life
ATTACH;FMTTYPE=image/png:https://outonthetownli.com/wp-content/uploads/2024/09/Capture-12.png
END:VEVENT
BEGIN:VEVENT
DTSTART;TZID=America/New_York:20260623T190000
DTEND;TZID=America/New_York:20260623T220000
DTSTAMP:20260424T094449
CREATED:20250415T191233Z
LAST-MODIFIED:20251210T014119Z
UID:10023735-1782241200-1782252000@outonthetownli.com
SUMMARY:Trivia Tuesdays at Great South Bay Brewery! 🍻
DESCRIPTION:Favorite0\nGrab your team and join us every Tuesday at 7 PM for a night of brain-busting fun\, cold beers\, and great vibes. \n🏆 Prizes for top teams\n🍺 Craft beer on tap\n🌮 Rotating food vendors \n📍 Great South Bay Brewery – Bay Shore\nBring your A-game and let’s get quizzical!
URL:https://outonthetownli.com/event/trivia-tuesdays-at-great-south-bay-brewery-%f0%9f%8d%bb/2026-06-23/
LOCATION:Great South Bay Brewery\, 25 Drexel Drive\, Bay Shore\, 11706
CATEGORIES:Game Night
ATTACH;FMTTYPE=image/png:https://outonthetownli.com/wp-content/uploads/2025/04/4-15-25-Trivia-Tuesdays.png
END:VEVENT
END:VCALENDAR