BEGIN:VCALENDAR
VERSION:2.0
PRODID:-//Out on the Town - ECPv6.15.20//NONSGML v1.0//EN
CALSCALE:GREGORIAN
METHOD:PUBLISH
X-WR-CALNAME:Out on the Town
X-ORIGINAL-URL:https://outonthetownli.com
X-WR-CALDESC:Events for Out on the Town
REFRESH-INTERVAL;VALUE=DURATION:PT1H
X-Robots-Tag:noindex
X-PUBLISHED-TTL:PT1H
BEGIN:VTIMEZONE
TZID:America/New_York
BEGIN:DAYLIGHT
TZOFFSETFROM:-0500
TZOFFSETTO:-0400
TZNAME:EDT
DTSTART:20250309T070000
END:DAYLIGHT
BEGIN:STANDARD
TZOFFSETFROM:-0400
TZOFFSETTO:-0500
TZNAME:EST
DTSTART:20251102T060000
END:STANDARD
BEGIN:DAYLIGHT
TZOFFSETFROM:-0500
TZOFFSETTO:-0400
TZNAME:EDT
DTSTART:20260308T070000
END:DAYLIGHT
BEGIN:STANDARD
TZOFFSETFROM:-0400
TZOFFSETTO:-0500
TZNAME:EST
DTSTART:20261101T060000
END:STANDARD
BEGIN:DAYLIGHT
TZOFFSETFROM:-0500
TZOFFSETTO:-0400
TZNAME:EDT
DTSTART:20270314T070000
END:DAYLIGHT
BEGIN:STANDARD
TZOFFSETFROM:-0400
TZOFFSETTO:-0500
TZNAME:EST
DTSTART:20271107T060000
END:STANDARD
END:VTIMEZONE
BEGIN:VEVENT
DTSTART;TZID=America/New_York:20260701T120000
DTEND;TZID=America/New_York:20260701T200000
DTSTAMP:20260424T120634
CREATED:20240919T122040Z
LAST-MODIFIED:20251221T183604Z
UID:10023102-1782907200-1782936000@outonthetownli.com
SUMMARY:Riverhead Ciderhouse
DESCRIPTION:Favorite0🎉 Get ready for a jam-packed calendar of entertainment at Riverhead Ciderhouse! From brain-bending Trivia Nights to the toe-tapping tunes of Dueling Pianos and amazing Live Music\, we’ve got it all. Check out our upcoming schedule and plan your nights out with us! 🍎🎶
URL:https://outonthetownli.com/event/riverhead-ciderhouse/2026-07-01/
LOCATION:Riverhead Ciderhouse\, 2711 Sound Ave\, Calverton\, 11933
CATEGORIES:Creative Activities,Game Night,Live Music,Night Life
ATTACH;FMTTYPE=image/png:https://outonthetownli.com/wp-content/uploads/2024/09/Capture-12.png
END:VEVENT
BEGIN:VEVENT
DTSTART;TZID=America/New_York:20260702T120000
DTEND;TZID=America/New_York:20260702T200000
DTSTAMP:20260424T120634
CREATED:20240919T122040Z
LAST-MODIFIED:20251221T183604Z
UID:10023103-1782993600-1783022400@outonthetownli.com
SUMMARY:Riverhead Ciderhouse
DESCRIPTION:Favorite0🎉 Get ready for a jam-packed calendar of entertainment at Riverhead Ciderhouse! From brain-bending Trivia Nights to the toe-tapping tunes of Dueling Pianos and amazing Live Music\, we’ve got it all. Check out our upcoming schedule and plan your nights out with us! 🍎🎶
URL:https://outonthetownli.com/event/riverhead-ciderhouse/2026-07-02/
LOCATION:Riverhead Ciderhouse\, 2711 Sound Ave\, Calverton\, 11933
CATEGORIES:Creative Activities,Game Night,Live Music,Night Life
ATTACH;FMTTYPE=image/png:https://outonthetownli.com/wp-content/uploads/2024/09/Capture-12.png
END:VEVENT
BEGIN:VEVENT
DTSTART;TZID=America/New_York:20260702T190000
DTEND;TZID=America/New_York:20260702T220000
DTSTAMP:20260424T120634
CREATED:20241218T024304Z
LAST-MODIFIED:20251212T033435Z
UID:10024984-1783018800-1783029600@outonthetownli.com
SUMMARY:🎉 BINGO AT THE BREWERY! 🎉
DESCRIPTION:Favorite0Join us every Thursday at 7 PM for a fun-filled night of Bingo! 🍺\nBuy a pint\, get a Bingo card and play for fabulous prizes! 🏆 \n📍 Where: @PortJeffBrewing\, 22 Mill Creek Rd\n🕖 When: Thursdays at 7 PM \nDon’t miss out on the fun – BINGO and pints await! 🍻
URL:https://outonthetownli.com/event/%f0%9f%8e%89-bingo-at-the-brewery-%f0%9f%8e%89/2026-07-02/
LOCATION:PORT JEFF BREWING COMPANY\, 22 Mill Creek Rd\, Port Jefferson\, 11777
CATEGORIES:Game Night,Night Life
ATTACH;FMTTYPE=image/png:https://outonthetownli.com/wp-content/uploads/2024/12/𝘽𝙄𝙉𝙂𝙊-𝘼𝙩-𝙏𝙝𝙚-𝘽𝙧𝙚𝙬𝙚𝙧𝙮-thursdays.png
END:VEVENT
BEGIN:VEVENT
DTSTART;TZID=America/New_York:20260703T120000
DTEND;TZID=America/New_York:20260703T200000
DTSTAMP:20260424T120634
CREATED:20240919T122040Z
LAST-MODIFIED:20251221T183604Z
UID:10023104-1783080000-1783108800@outonthetownli.com
SUMMARY:Riverhead Ciderhouse
DESCRIPTION:Favorite0🎉 Get ready for a jam-packed calendar of entertainment at Riverhead Ciderhouse! From brain-bending Trivia Nights to the toe-tapping tunes of Dueling Pianos and amazing Live Music\, we’ve got it all. Check out our upcoming schedule and plan your nights out with us! 🍎🎶
URL:https://outonthetownli.com/event/riverhead-ciderhouse/2026-07-03/
LOCATION:Riverhead Ciderhouse\, 2711 Sound Ave\, Calverton\, 11933
CATEGORIES:Creative Activities,Game Night,Live Music,Night Life
ATTACH;FMTTYPE=image/png:https://outonthetownli.com/wp-content/uploads/2024/09/Capture-12.png
END:VEVENT
BEGIN:VEVENT
DTSTART;TZID=America/New_York:20260704T120000
DTEND;TZID=America/New_York:20260704T200000
DTSTAMP:20260424T120634
CREATED:20240919T122040Z
LAST-MODIFIED:20251221T183604Z
UID:10023105-1783166400-1783195200@outonthetownli.com
SUMMARY:Riverhead Ciderhouse
DESCRIPTION:Favorite0🎉 Get ready for a jam-packed calendar of entertainment at Riverhead Ciderhouse! From brain-bending Trivia Nights to the toe-tapping tunes of Dueling Pianos and amazing Live Music\, we’ve got it all. Check out our upcoming schedule and plan your nights out with us! 🍎🎶
URL:https://outonthetownli.com/event/riverhead-ciderhouse/2026-07-04/
LOCATION:Riverhead Ciderhouse\, 2711 Sound Ave\, Calverton\, 11933
CATEGORIES:Creative Activities,Game Night,Live Music,Night Life
ATTACH;FMTTYPE=image/png:https://outonthetownli.com/wp-content/uploads/2024/09/Capture-12.png
END:VEVENT
BEGIN:VEVENT
DTSTART;TZID=America/New_York:20260705T120000
DTEND;TZID=America/New_York:20260705T200000
DTSTAMP:20260424T120634
CREATED:20240919T122040Z
LAST-MODIFIED:20251221T183604Z
UID:10023106-1783252800-1783281600@outonthetownli.com
SUMMARY:Riverhead Ciderhouse
DESCRIPTION:Favorite0🎉 Get ready for a jam-packed calendar of entertainment at Riverhead Ciderhouse! From brain-bending Trivia Nights to the toe-tapping tunes of Dueling Pianos and amazing Live Music\, we’ve got it all. Check out our upcoming schedule and plan your nights out with us! 🍎🎶
URL:https://outonthetownli.com/event/riverhead-ciderhouse/2026-07-05/
LOCATION:Riverhead Ciderhouse\, 2711 Sound Ave\, Calverton\, 11933
CATEGORIES:Creative Activities,Game Night,Live Music,Night Life
ATTACH;FMTTYPE=image/png:https://outonthetownli.com/wp-content/uploads/2024/09/Capture-12.png
END:VEVENT
BEGIN:VEVENT
DTSTART;TZID=America/New_York:20260706T120000
DTEND;TZID=America/New_York:20260706T200000
DTSTAMP:20260424T120634
CREATED:20240919T122040Z
LAST-MODIFIED:20251221T183604Z
UID:10023107-1783339200-1783368000@outonthetownli.com
SUMMARY:Riverhead Ciderhouse
DESCRIPTION:Favorite0🎉 Get ready for a jam-packed calendar of entertainment at Riverhead Ciderhouse! From brain-bending Trivia Nights to the toe-tapping tunes of Dueling Pianos and amazing Live Music\, we’ve got it all. Check out our upcoming schedule and plan your nights out with us! 🍎🎶
URL:https://outonthetownli.com/event/riverhead-ciderhouse/2026-07-06/
LOCATION:Riverhead Ciderhouse\, 2711 Sound Ave\, Calverton\, 11933
CATEGORIES:Creative Activities,Game Night,Live Music,Night Life
ATTACH;FMTTYPE=image/png:https://outonthetownli.com/wp-content/uploads/2024/09/Capture-12.png
END:VEVENT
BEGIN:VEVENT
DTSTART;TZID=America/New_York:20260707T120000
DTEND;TZID=America/New_York:20260707T200000
DTSTAMP:20260424T120635
CREATED:20240919T122040Z
LAST-MODIFIED:20251221T183604Z
UID:10023108-1783425600-1783454400@outonthetownli.com
SUMMARY:Riverhead Ciderhouse
DESCRIPTION:Favorite0🎉 Get ready for a jam-packed calendar of entertainment at Riverhead Ciderhouse! From brain-bending Trivia Nights to the toe-tapping tunes of Dueling Pianos and amazing Live Music\, we’ve got it all. Check out our upcoming schedule and plan your nights out with us! 🍎🎶
URL:https://outonthetownli.com/event/riverhead-ciderhouse/2026-07-07/
LOCATION:Riverhead Ciderhouse\, 2711 Sound Ave\, Calverton\, 11933
CATEGORIES:Creative Activities,Game Night,Live Music,Night Life
ATTACH;FMTTYPE=image/png:https://outonthetownli.com/wp-content/uploads/2024/09/Capture-12.png
END:VEVENT
BEGIN:VEVENT
DTSTART;TZID=America/New_York:20260707T190000
DTEND;TZID=America/New_York:20260707T220000
DTSTAMP:20260424T120635
CREATED:20250415T191233Z
LAST-MODIFIED:20251210T014119Z
UID:10023737-1783450800-1783461600@outonthetownli.com
SUMMARY:Trivia Tuesdays at Great South Bay Brewery! 🍻
DESCRIPTION:Favorite0\nGrab your team and join us every Tuesday at 7 PM for a night of brain-busting fun\, cold beers\, and great vibes. \n🏆 Prizes for top teams\n🍺 Craft beer on tap\n🌮 Rotating food vendors \n📍 Great South Bay Brewery – Bay Shore\nBring your A-game and let’s get quizzical!
URL:https://outonthetownli.com/event/trivia-tuesdays-at-great-south-bay-brewery-%f0%9f%8d%bb/2026-07-07/
LOCATION:Great South Bay Brewery\, 25 Drexel Drive\, Bay Shore\, 11706
CATEGORIES:Game Night
ATTACH;FMTTYPE=image/png:https://outonthetownli.com/wp-content/uploads/2025/04/4-15-25-Trivia-Tuesdays.png
END:VEVENT
BEGIN:VEVENT
DTSTART;TZID=America/New_York:20260708T120000
DTEND;TZID=America/New_York:20260708T200000
DTSTAMP:20260424T120635
CREATED:20240919T122040Z
LAST-MODIFIED:20251221T183604Z
UID:10023109-1783512000-1783540800@outonthetownli.com
SUMMARY:Riverhead Ciderhouse
DESCRIPTION:Favorite0🎉 Get ready for a jam-packed calendar of entertainment at Riverhead Ciderhouse! From brain-bending Trivia Nights to the toe-tapping tunes of Dueling Pianos and amazing Live Music\, we’ve got it all. Check out our upcoming schedule and plan your nights out with us! 🍎🎶
URL:https://outonthetownli.com/event/riverhead-ciderhouse/2026-07-08/
LOCATION:Riverhead Ciderhouse\, 2711 Sound Ave\, Calverton\, 11933
CATEGORIES:Creative Activities,Game Night,Live Music,Night Life
ATTACH;FMTTYPE=image/png:https://outonthetownli.com/wp-content/uploads/2024/09/Capture-12.png
END:VEVENT
BEGIN:VEVENT
DTSTART;TZID=America/New_York:20260709T120000
DTEND;TZID=America/New_York:20260709T200000
DTSTAMP:20260424T120635
CREATED:20240919T122040Z
LAST-MODIFIED:20251221T183604Z
UID:10023110-1783598400-1783627200@outonthetownli.com
SUMMARY:Riverhead Ciderhouse
DESCRIPTION:Favorite0🎉 Get ready for a jam-packed calendar of entertainment at Riverhead Ciderhouse! From brain-bending Trivia Nights to the toe-tapping tunes of Dueling Pianos and amazing Live Music\, we’ve got it all. Check out our upcoming schedule and plan your nights out with us! 🍎🎶
URL:https://outonthetownli.com/event/riverhead-ciderhouse/2026-07-09/
LOCATION:Riverhead Ciderhouse\, 2711 Sound Ave\, Calverton\, 11933
CATEGORIES:Creative Activities,Game Night,Live Music,Night Life
ATTACH;FMTTYPE=image/png:https://outonthetownli.com/wp-content/uploads/2024/09/Capture-12.png
END:VEVENT
BEGIN:VEVENT
DTSTART;TZID=America/New_York:20260709T190000
DTEND;TZID=America/New_York:20260709T220000
DTSTAMP:20260424T120635
CREATED:20241218T024304Z
LAST-MODIFIED:20251212T033435Z
UID:10024985-1783623600-1783634400@outonthetownli.com
SUMMARY:🎉 BINGO AT THE BREWERY! 🎉
DESCRIPTION:Favorite0Join us every Thursday at 7 PM for a fun-filled night of Bingo! 🍺\nBuy a pint\, get a Bingo card and play for fabulous prizes! 🏆 \n📍 Where: @PortJeffBrewing\, 22 Mill Creek Rd\n🕖 When: Thursdays at 7 PM \nDon’t miss out on the fun – BINGO and pints await! 🍻
URL:https://outonthetownli.com/event/%f0%9f%8e%89-bingo-at-the-brewery-%f0%9f%8e%89/2026-07-09/
LOCATION:PORT JEFF BREWING COMPANY\, 22 Mill Creek Rd\, Port Jefferson\, 11777
CATEGORIES:Game Night,Night Life
ATTACH;FMTTYPE=image/png:https://outonthetownli.com/wp-content/uploads/2024/12/𝘽𝙄𝙉𝙂𝙊-𝘼𝙩-𝙏𝙝𝙚-𝘽𝙧𝙚𝙬𝙚𝙧𝙮-thursdays.png
END:VEVENT
BEGIN:VEVENT
DTSTART;TZID=America/New_York:20260710T120000
DTEND;TZID=America/New_York:20260710T200000
DTSTAMP:20260424T120635
CREATED:20240919T122040Z
LAST-MODIFIED:20251221T183604Z
UID:10023111-1783684800-1783713600@outonthetownli.com
SUMMARY:Riverhead Ciderhouse
DESCRIPTION:Favorite0🎉 Get ready for a jam-packed calendar of entertainment at Riverhead Ciderhouse! From brain-bending Trivia Nights to the toe-tapping tunes of Dueling Pianos and amazing Live Music\, we’ve got it all. Check out our upcoming schedule and plan your nights out with us! 🍎🎶
URL:https://outonthetownli.com/event/riverhead-ciderhouse/2026-07-10/
LOCATION:Riverhead Ciderhouse\, 2711 Sound Ave\, Calverton\, 11933
CATEGORIES:Creative Activities,Game Night,Live Music,Night Life
ATTACH;FMTTYPE=image/png:https://outonthetownli.com/wp-content/uploads/2024/09/Capture-12.png
END:VEVENT
BEGIN:VEVENT
DTSTART;TZID=America/New_York:20260711T120000
DTEND;TZID=America/New_York:20260711T200000
DTSTAMP:20260424T120635
CREATED:20240919T122040Z
LAST-MODIFIED:20251221T183604Z
UID:10023112-1783771200-1783800000@outonthetownli.com
SUMMARY:Riverhead Ciderhouse
DESCRIPTION:Favorite0🎉 Get ready for a jam-packed calendar of entertainment at Riverhead Ciderhouse! From brain-bending Trivia Nights to the toe-tapping tunes of Dueling Pianos and amazing Live Music\, we’ve got it all. Check out our upcoming schedule and plan your nights out with us! 🍎🎶
URL:https://outonthetownli.com/event/riverhead-ciderhouse/2026-07-11/
LOCATION:Riverhead Ciderhouse\, 2711 Sound Ave\, Calverton\, 11933
CATEGORIES:Creative Activities,Game Night,Live Music,Night Life
ATTACH;FMTTYPE=image/png:https://outonthetownli.com/wp-content/uploads/2024/09/Capture-12.png
END:VEVENT
BEGIN:VEVENT
DTSTART;TZID=America/New_York:20260712T120000
DTEND;TZID=America/New_York:20260712T200000
DTSTAMP:20260424T120635
CREATED:20240919T122040Z
LAST-MODIFIED:20251221T183604Z
UID:10023113-1783857600-1783886400@outonthetownli.com
SUMMARY:Riverhead Ciderhouse
DESCRIPTION:Favorite0🎉 Get ready for a jam-packed calendar of entertainment at Riverhead Ciderhouse! From brain-bending Trivia Nights to the toe-tapping tunes of Dueling Pianos and amazing Live Music\, we’ve got it all. Check out our upcoming schedule and plan your nights out with us! 🍎🎶
URL:https://outonthetownli.com/event/riverhead-ciderhouse/2026-07-12/
LOCATION:Riverhead Ciderhouse\, 2711 Sound Ave\, Calverton\, 11933
CATEGORIES:Creative Activities,Game Night,Live Music,Night Life
ATTACH;FMTTYPE=image/png:https://outonthetownli.com/wp-content/uploads/2024/09/Capture-12.png
END:VEVENT
BEGIN:VEVENT
DTSTART;TZID=America/New_York:20260713T120000
DTEND;TZID=America/New_York:20260713T200000
DTSTAMP:20260424T120635
CREATED:20240919T122040Z
LAST-MODIFIED:20251221T183604Z
UID:10023114-1783944000-1783972800@outonthetownli.com
SUMMARY:Riverhead Ciderhouse
DESCRIPTION:Favorite0🎉 Get ready for a jam-packed calendar of entertainment at Riverhead Ciderhouse! From brain-bending Trivia Nights to the toe-tapping tunes of Dueling Pianos and amazing Live Music\, we’ve got it all. Check out our upcoming schedule and plan your nights out with us! 🍎🎶
URL:https://outonthetownli.com/event/riverhead-ciderhouse/2026-07-13/
LOCATION:Riverhead Ciderhouse\, 2711 Sound Ave\, Calverton\, 11933
CATEGORIES:Creative Activities,Game Night,Live Music,Night Life
ATTACH;FMTTYPE=image/png:https://outonthetownli.com/wp-content/uploads/2024/09/Capture-12.png
END:VEVENT
BEGIN:VEVENT
DTSTART;TZID=America/New_York:20260714T120000
DTEND;TZID=America/New_York:20260714T200000
DTSTAMP:20260424T120635
CREATED:20240919T122040Z
LAST-MODIFIED:20251221T183604Z
UID:10023115-1784030400-1784059200@outonthetownli.com
SUMMARY:Riverhead Ciderhouse
DESCRIPTION:Favorite0🎉 Get ready for a jam-packed calendar of entertainment at Riverhead Ciderhouse! From brain-bending Trivia Nights to the toe-tapping tunes of Dueling Pianos and amazing Live Music\, we’ve got it all. Check out our upcoming schedule and plan your nights out with us! 🍎🎶
URL:https://outonthetownli.com/event/riverhead-ciderhouse/2026-07-14/
LOCATION:Riverhead Ciderhouse\, 2711 Sound Ave\, Calverton\, 11933
CATEGORIES:Creative Activities,Game Night,Live Music,Night Life
ATTACH;FMTTYPE=image/png:https://outonthetownli.com/wp-content/uploads/2024/09/Capture-12.png
END:VEVENT
BEGIN:VEVENT
DTSTART;TZID=America/New_York:20260714T190000
DTEND;TZID=America/New_York:20260714T220000
DTSTAMP:20260424T120635
CREATED:20250415T191233Z
LAST-MODIFIED:20251210T014119Z
UID:10023738-1784055600-1784066400@outonthetownli.com
SUMMARY:Trivia Tuesdays at Great South Bay Brewery! 🍻
DESCRIPTION:Favorite0\nGrab your team and join us every Tuesday at 7 PM for a night of brain-busting fun\, cold beers\, and great vibes. \n🏆 Prizes for top teams\n🍺 Craft beer on tap\n🌮 Rotating food vendors \n📍 Great South Bay Brewery – Bay Shore\nBring your A-game and let’s get quizzical!
URL:https://outonthetownli.com/event/trivia-tuesdays-at-great-south-bay-brewery-%f0%9f%8d%bb/2026-07-14/
LOCATION:Great South Bay Brewery\, 25 Drexel Drive\, Bay Shore\, 11706
CATEGORIES:Game Night
ATTACH;FMTTYPE=image/png:https://outonthetownli.com/wp-content/uploads/2025/04/4-15-25-Trivia-Tuesdays.png
END:VEVENT
BEGIN:VEVENT
DTSTART;TZID=America/New_York:20260715T120000
DTEND;TZID=America/New_York:20260715T200000
DTSTAMP:20260424T120635
CREATED:20240919T122040Z
LAST-MODIFIED:20251221T183604Z
UID:10023116-1784116800-1784145600@outonthetownli.com
SUMMARY:Riverhead Ciderhouse
DESCRIPTION:Favorite0🎉 Get ready for a jam-packed calendar of entertainment at Riverhead Ciderhouse! From brain-bending Trivia Nights to the toe-tapping tunes of Dueling Pianos and amazing Live Music\, we’ve got it all. Check out our upcoming schedule and plan your nights out with us! 🍎🎶
URL:https://outonthetownli.com/event/riverhead-ciderhouse/2026-07-15/
LOCATION:Riverhead Ciderhouse\, 2711 Sound Ave\, Calverton\, 11933
CATEGORIES:Creative Activities,Game Night,Live Music,Night Life
ATTACH;FMTTYPE=image/png:https://outonthetownli.com/wp-content/uploads/2024/09/Capture-12.png
END:VEVENT
BEGIN:VEVENT
DTSTART;TZID=America/New_York:20260716T120000
DTEND;TZID=America/New_York:20260716T200000
DTSTAMP:20260424T120635
CREATED:20240919T122040Z
LAST-MODIFIED:20251221T183604Z
UID:10023117-1784203200-1784232000@outonthetownli.com
SUMMARY:Riverhead Ciderhouse
DESCRIPTION:Favorite0🎉 Get ready for a jam-packed calendar of entertainment at Riverhead Ciderhouse! From brain-bending Trivia Nights to the toe-tapping tunes of Dueling Pianos and amazing Live Music\, we’ve got it all. Check out our upcoming schedule and plan your nights out with us! 🍎🎶
URL:https://outonthetownli.com/event/riverhead-ciderhouse/2026-07-16/
LOCATION:Riverhead Ciderhouse\, 2711 Sound Ave\, Calverton\, 11933
CATEGORIES:Creative Activities,Game Night,Live Music,Night Life
ATTACH;FMTTYPE=image/png:https://outonthetownli.com/wp-content/uploads/2024/09/Capture-12.png
END:VEVENT
BEGIN:VEVENT
DTSTART;TZID=America/New_York:20260716T190000
DTEND;TZID=America/New_York:20260716T220000
DTSTAMP:20260424T120635
CREATED:20241218T024304Z
LAST-MODIFIED:20251212T033435Z
UID:10024986-1784228400-1784239200@outonthetownli.com
SUMMARY:🎉 BINGO AT THE BREWERY! 🎉
DESCRIPTION:Favorite0Join us every Thursday at 7 PM for a fun-filled night of Bingo! 🍺\nBuy a pint\, get a Bingo card and play for fabulous prizes! 🏆 \n📍 Where: @PortJeffBrewing\, 22 Mill Creek Rd\n🕖 When: Thursdays at 7 PM \nDon’t miss out on the fun – BINGO and pints await! 🍻
URL:https://outonthetownli.com/event/%f0%9f%8e%89-bingo-at-the-brewery-%f0%9f%8e%89/2026-07-16/
LOCATION:PORT JEFF BREWING COMPANY\, 22 Mill Creek Rd\, Port Jefferson\, 11777
CATEGORIES:Game Night,Night Life
ATTACH;FMTTYPE=image/png:https://outonthetownli.com/wp-content/uploads/2024/12/𝘽𝙄𝙉𝙂𝙊-𝘼𝙩-𝙏𝙝𝙚-𝘽𝙧𝙚𝙬𝙚𝙧𝙮-thursdays.png
END:VEVENT
BEGIN:VEVENT
DTSTART;TZID=America/New_York:20260717T120000
DTEND;TZID=America/New_York:20260717T200000
DTSTAMP:20260424T120635
CREATED:20240919T122040Z
LAST-MODIFIED:20251221T183604Z
UID:10023118-1784289600-1784318400@outonthetownli.com
SUMMARY:Riverhead Ciderhouse
DESCRIPTION:Favorite0🎉 Get ready for a jam-packed calendar of entertainment at Riverhead Ciderhouse! From brain-bending Trivia Nights to the toe-tapping tunes of Dueling Pianos and amazing Live Music\, we’ve got it all. Check out our upcoming schedule and plan your nights out with us! 🍎🎶
URL:https://outonthetownli.com/event/riverhead-ciderhouse/2026-07-17/
LOCATION:Riverhead Ciderhouse\, 2711 Sound Ave\, Calverton\, 11933
CATEGORIES:Creative Activities,Game Night,Live Music,Night Life
ATTACH;FMTTYPE=image/png:https://outonthetownli.com/wp-content/uploads/2024/09/Capture-12.png
END:VEVENT
BEGIN:VEVENT
DTSTART;TZID=America/New_York:20260718T120000
DTEND;TZID=America/New_York:20260718T200000
DTSTAMP:20260424T120635
CREATED:20240919T122040Z
LAST-MODIFIED:20251221T183604Z
UID:10023119-1784376000-1784404800@outonthetownli.com
SUMMARY:Riverhead Ciderhouse
DESCRIPTION:Favorite0🎉 Get ready for a jam-packed calendar of entertainment at Riverhead Ciderhouse! From brain-bending Trivia Nights to the toe-tapping tunes of Dueling Pianos and amazing Live Music\, we’ve got it all. Check out our upcoming schedule and plan your nights out with us! 🍎🎶
URL:https://outonthetownli.com/event/riverhead-ciderhouse/2026-07-18/
LOCATION:Riverhead Ciderhouse\, 2711 Sound Ave\, Calverton\, 11933
CATEGORIES:Creative Activities,Game Night,Live Music,Night Life
ATTACH;FMTTYPE=image/png:https://outonthetownli.com/wp-content/uploads/2024/09/Capture-12.png
END:VEVENT
BEGIN:VEVENT
DTSTART;TZID=America/New_York:20260719T120000
DTEND;TZID=America/New_York:20260719T200000
DTSTAMP:20260424T120635
CREATED:20240919T122040Z
LAST-MODIFIED:20251221T183604Z
UID:10023120-1784462400-1784491200@outonthetownli.com
SUMMARY:Riverhead Ciderhouse
DESCRIPTION:Favorite0🎉 Get ready for a jam-packed calendar of entertainment at Riverhead Ciderhouse! From brain-bending Trivia Nights to the toe-tapping tunes of Dueling Pianos and amazing Live Music\, we’ve got it all. Check out our upcoming schedule and plan your nights out with us! 🍎🎶
URL:https://outonthetownli.com/event/riverhead-ciderhouse/2026-07-19/
LOCATION:Riverhead Ciderhouse\, 2711 Sound Ave\, Calverton\, 11933
CATEGORIES:Creative Activities,Game Night,Live Music,Night Life
ATTACH;FMTTYPE=image/png:https://outonthetownli.com/wp-content/uploads/2024/09/Capture-12.png
END:VEVENT
BEGIN:VEVENT
DTSTART;TZID=America/New_York:20260720T120000
DTEND;TZID=America/New_York:20260720T200000
DTSTAMP:20260424T120635
CREATED:20240919T122040Z
LAST-MODIFIED:20251221T183604Z
UID:10023121-1784548800-1784577600@outonthetownli.com
SUMMARY:Riverhead Ciderhouse
DESCRIPTION:Favorite0🎉 Get ready for a jam-packed calendar of entertainment at Riverhead Ciderhouse! From brain-bending Trivia Nights to the toe-tapping tunes of Dueling Pianos and amazing Live Music\, we’ve got it all. Check out our upcoming schedule and plan your nights out with us! 🍎🎶
URL:https://outonthetownli.com/event/riverhead-ciderhouse/2026-07-20/
LOCATION:Riverhead Ciderhouse\, 2711 Sound Ave\, Calverton\, 11933
CATEGORIES:Creative Activities,Game Night,Live Music,Night Life
ATTACH;FMTTYPE=image/png:https://outonthetownli.com/wp-content/uploads/2024/09/Capture-12.png
END:VEVENT
BEGIN:VEVENT
DTSTART;TZID=America/New_York:20260721T120000
DTEND;TZID=America/New_York:20260721T200000
DTSTAMP:20260424T120635
CREATED:20240919T122040Z
LAST-MODIFIED:20251221T183604Z
UID:10023122-1784635200-1784664000@outonthetownli.com
SUMMARY:Riverhead Ciderhouse
DESCRIPTION:Favorite0🎉 Get ready for a jam-packed calendar of entertainment at Riverhead Ciderhouse! From brain-bending Trivia Nights to the toe-tapping tunes of Dueling Pianos and amazing Live Music\, we’ve got it all. Check out our upcoming schedule and plan your nights out with us! 🍎🎶
URL:https://outonthetownli.com/event/riverhead-ciderhouse/2026-07-21/
LOCATION:Riverhead Ciderhouse\, 2711 Sound Ave\, Calverton\, 11933
CATEGORIES:Creative Activities,Game Night,Live Music,Night Life
ATTACH;FMTTYPE=image/png:https://outonthetownli.com/wp-content/uploads/2024/09/Capture-12.png
END:VEVENT
BEGIN:VEVENT
DTSTART;TZID=America/New_York:20260721T190000
DTEND;TZID=America/New_York:20260721T220000
DTSTAMP:20260424T120635
CREATED:20250415T191233Z
LAST-MODIFIED:20251210T014119Z
UID:10023739-1784660400-1784671200@outonthetownli.com
SUMMARY:Trivia Tuesdays at Great South Bay Brewery! 🍻
DESCRIPTION:Favorite0\nGrab your team and join us every Tuesday at 7 PM for a night of brain-busting fun\, cold beers\, and great vibes. \n🏆 Prizes for top teams\n🍺 Craft beer on tap\n🌮 Rotating food vendors \n📍 Great South Bay Brewery – Bay Shore\nBring your A-game and let’s get quizzical!
URL:https://outonthetownli.com/event/trivia-tuesdays-at-great-south-bay-brewery-%f0%9f%8d%bb/2026-07-21/
LOCATION:Great South Bay Brewery\, 25 Drexel Drive\, Bay Shore\, 11706
CATEGORIES:Game Night
ATTACH;FMTTYPE=image/png:https://outonthetownli.com/wp-content/uploads/2025/04/4-15-25-Trivia-Tuesdays.png
END:VEVENT
BEGIN:VEVENT
DTSTART;TZID=America/New_York:20260722T120000
DTEND;TZID=America/New_York:20260722T200000
DTSTAMP:20260424T120635
CREATED:20240919T122040Z
LAST-MODIFIED:20251221T183604Z
UID:10023123-1784721600-1784750400@outonthetownli.com
SUMMARY:Riverhead Ciderhouse
DESCRIPTION:Favorite0🎉 Get ready for a jam-packed calendar of entertainment at Riverhead Ciderhouse! From brain-bending Trivia Nights to the toe-tapping tunes of Dueling Pianos and amazing Live Music\, we’ve got it all. Check out our upcoming schedule and plan your nights out with us! 🍎🎶
URL:https://outonthetownli.com/event/riverhead-ciderhouse/2026-07-22/
LOCATION:Riverhead Ciderhouse\, 2711 Sound Ave\, Calverton\, 11933
CATEGORIES:Creative Activities,Game Night,Live Music,Night Life
ATTACH;FMTTYPE=image/png:https://outonthetownli.com/wp-content/uploads/2024/09/Capture-12.png
END:VEVENT
BEGIN:VEVENT
DTSTART;TZID=America/New_York:20260723T120000
DTEND;TZID=America/New_York:20260723T200000
DTSTAMP:20260424T120635
CREATED:20240919T122040Z
LAST-MODIFIED:20251221T183604Z
UID:10023124-1784808000-1784836800@outonthetownli.com
SUMMARY:Riverhead Ciderhouse
DESCRIPTION:Favorite0🎉 Get ready for a jam-packed calendar of entertainment at Riverhead Ciderhouse! From brain-bending Trivia Nights to the toe-tapping tunes of Dueling Pianos and amazing Live Music\, we’ve got it all. Check out our upcoming schedule and plan your nights out with us! 🍎🎶
URL:https://outonthetownli.com/event/riverhead-ciderhouse/2026-07-23/
LOCATION:Riverhead Ciderhouse\, 2711 Sound Ave\, Calverton\, 11933
CATEGORIES:Creative Activities,Game Night,Live Music,Night Life
ATTACH;FMTTYPE=image/png:https://outonthetownli.com/wp-content/uploads/2024/09/Capture-12.png
END:VEVENT
BEGIN:VEVENT
DTSTART;TZID=America/New_York:20260723T190000
DTEND;TZID=America/New_York:20260723T220000
DTSTAMP:20260424T120635
CREATED:20241218T024304Z
LAST-MODIFIED:20251212T033435Z
UID:10024987-1784833200-1784844000@outonthetownli.com
SUMMARY:🎉 BINGO AT THE BREWERY! 🎉
DESCRIPTION:Favorite0Join us every Thursday at 7 PM for a fun-filled night of Bingo! 🍺\nBuy a pint\, get a Bingo card and play for fabulous prizes! 🏆 \n📍 Where: @PortJeffBrewing\, 22 Mill Creek Rd\n🕖 When: Thursdays at 7 PM \nDon’t miss out on the fun – BINGO and pints await! 🍻
URL:https://outonthetownli.com/event/%f0%9f%8e%89-bingo-at-the-brewery-%f0%9f%8e%89/2026-07-23/
LOCATION:PORT JEFF BREWING COMPANY\, 22 Mill Creek Rd\, Port Jefferson\, 11777
CATEGORIES:Game Night,Night Life
ATTACH;FMTTYPE=image/png:https://outonthetownli.com/wp-content/uploads/2024/12/𝘽𝙄𝙉𝙂𝙊-𝘼𝙩-𝙏𝙝𝙚-𝘽𝙧𝙚𝙬𝙚𝙧𝙮-thursdays.png
END:VEVENT
END:VCALENDAR