BEGIN:VCALENDAR
VERSION:2.0
PRODID:-//Out on the Town - ECPv6.15.19//NONSGML v1.0//EN
CALSCALE:GREGORIAN
METHOD:PUBLISH
X-ORIGINAL-URL:https://outonthetownli.com
X-WR-CALDESC:Events for Out on the Town
REFRESH-INTERVAL;VALUE=DURATION:PT1H
X-Robots-Tag:noindex
X-PUBLISHED-TTL:PT1H
BEGIN:VTIMEZONE
TZID:America/New_York
BEGIN:DAYLIGHT
TZOFFSETFROM:-0500
TZOFFSETTO:-0400
TZNAME:EDT
DTSTART:20250309T070000
END:DAYLIGHT
BEGIN:STANDARD
TZOFFSETFROM:-0400
TZOFFSETTO:-0500
TZNAME:EST
DTSTART:20251102T060000
END:STANDARD
BEGIN:DAYLIGHT
TZOFFSETFROM:-0500
TZOFFSETTO:-0400
TZNAME:EDT
DTSTART:20260308T070000
END:DAYLIGHT
BEGIN:STANDARD
TZOFFSETFROM:-0400
TZOFFSETTO:-0500
TZNAME:EST
DTSTART:20261101T060000
END:STANDARD
BEGIN:DAYLIGHT
TZOFFSETFROM:-0500
TZOFFSETTO:-0400
TZNAME:EDT
DTSTART:20270314T070000
END:DAYLIGHT
BEGIN:STANDARD
TZOFFSETFROM:-0400
TZOFFSETTO:-0500
TZNAME:EST
DTSTART:20271107T060000
END:STANDARD
END:VTIMEZONE
BEGIN:VEVENT
DTSTART;TZID=America/New_York:20260424T120000
DTEND;TZID=America/New_York:20260424T200000
DTSTAMP:20260424T060155
CREATED:20240919T122040Z
LAST-MODIFIED:20251221T183604Z
UID:10023034-1777032000-1777060800@outonthetownli.com
SUMMARY:Riverhead Ciderhouse
DESCRIPTION:Favorite0🎉 Get ready for a jam-packed calendar of entertainment at Riverhead Ciderhouse! From brain-bending Trivia Nights to the toe-tapping tunes of Dueling Pianos and amazing Live Music\, we’ve got it all. Check out our upcoming schedule and plan your nights out with us! 🍎🎶
URL:https://outonthetownli.com/event/riverhead-ciderhouse/2026-04-24/
LOCATION:Riverhead Ciderhouse\, 2711 Sound Ave\, Calverton\, 11933
CATEGORIES:Creative Activities,Game Night,Live Music,Night Life
ATTACH;FMTTYPE=image/png:https://outonthetownli.com/wp-content/uploads/2024/09/Capture-12.png
END:VEVENT
BEGIN:VEVENT
DTSTART;TZID=America/New_York:20260425T120000
DTEND;TZID=America/New_York:20260425T200000
DTSTAMP:20260424T060155
CREATED:20240919T122040Z
LAST-MODIFIED:20251221T183604Z
UID:10023035-1777118400-1777147200@outonthetownli.com
SUMMARY:Riverhead Ciderhouse
DESCRIPTION:Favorite0🎉 Get ready for a jam-packed calendar of entertainment at Riverhead Ciderhouse! From brain-bending Trivia Nights to the toe-tapping tunes of Dueling Pianos and amazing Live Music\, we’ve got it all. Check out our upcoming schedule and plan your nights out with us! 🍎🎶
URL:https://outonthetownli.com/event/riverhead-ciderhouse/2026-04-25/
LOCATION:Riverhead Ciderhouse\, 2711 Sound Ave\, Calverton\, 11933
CATEGORIES:Creative Activities,Game Night,Live Music,Night Life
ATTACH;FMTTYPE=image/png:https://outonthetownli.com/wp-content/uploads/2024/09/Capture-12.png
END:VEVENT
BEGIN:VEVENT
DTSTART;TZID=America/New_York:20260426T120000
DTEND;TZID=America/New_York:20260426T200000
DTSTAMP:20260424T060155
CREATED:20240919T122040Z
LAST-MODIFIED:20251221T183604Z
UID:10023036-1777204800-1777233600@outonthetownli.com
SUMMARY:Riverhead Ciderhouse
DESCRIPTION:Favorite0🎉 Get ready for a jam-packed calendar of entertainment at Riverhead Ciderhouse! From brain-bending Trivia Nights to the toe-tapping tunes of Dueling Pianos and amazing Live Music\, we’ve got it all. Check out our upcoming schedule and plan your nights out with us! 🍎🎶
URL:https://outonthetownli.com/event/riverhead-ciderhouse/2026-04-26/
LOCATION:Riverhead Ciderhouse\, 2711 Sound Ave\, Calverton\, 11933
CATEGORIES:Creative Activities,Game Night,Live Music,Night Life
ATTACH;FMTTYPE=image/png:https://outonthetownli.com/wp-content/uploads/2024/09/Capture-12.png
END:VEVENT
BEGIN:VEVENT
DTSTART;TZID=America/New_York:20260427T120000
DTEND;TZID=America/New_York:20260427T200000
DTSTAMP:20260424T060155
CREATED:20240919T122040Z
LAST-MODIFIED:20251221T183604Z
UID:10023037-1777291200-1777320000@outonthetownli.com
SUMMARY:Riverhead Ciderhouse
DESCRIPTION:Favorite0🎉 Get ready for a jam-packed calendar of entertainment at Riverhead Ciderhouse! From brain-bending Trivia Nights to the toe-tapping tunes of Dueling Pianos and amazing Live Music\, we’ve got it all. Check out our upcoming schedule and plan your nights out with us! 🍎🎶
URL:https://outonthetownli.com/event/riverhead-ciderhouse/2026-04-27/
LOCATION:Riverhead Ciderhouse\, 2711 Sound Ave\, Calverton\, 11933
CATEGORIES:Creative Activities,Game Night,Live Music,Night Life
ATTACH;FMTTYPE=image/png:https://outonthetownli.com/wp-content/uploads/2024/09/Capture-12.png
END:VEVENT
BEGIN:VEVENT
DTSTART;TZID=America/New_York:20260428T120000
DTEND;TZID=America/New_York:20260428T200000
DTSTAMP:20260424T060155
CREATED:20240919T122040Z
LAST-MODIFIED:20251221T183604Z
UID:10023038-1777377600-1777406400@outonthetownli.com
SUMMARY:Riverhead Ciderhouse
DESCRIPTION:Favorite0🎉 Get ready for a jam-packed calendar of entertainment at Riverhead Ciderhouse! From brain-bending Trivia Nights to the toe-tapping tunes of Dueling Pianos and amazing Live Music\, we’ve got it all. Check out our upcoming schedule and plan your nights out with us! 🍎🎶
URL:https://outonthetownli.com/event/riverhead-ciderhouse/2026-04-28/
LOCATION:Riverhead Ciderhouse\, 2711 Sound Ave\, Calverton\, 11933
CATEGORIES:Creative Activities,Game Night,Live Music,Night Life
ATTACH;FMTTYPE=image/png:https://outonthetownli.com/wp-content/uploads/2024/09/Capture-12.png
END:VEVENT
BEGIN:VEVENT
DTSTART;TZID=America/New_York:20260428T190000
DTEND;TZID=America/New_York:20260428T220000
DTSTAMP:20260424T060155
CREATED:20250415T191233Z
LAST-MODIFIED:20251210T014119Z
UID:10023727-1777402800-1777413600@outonthetownli.com
SUMMARY:Trivia Tuesdays at Great South Bay Brewery! 🍻
DESCRIPTION:Favorite0\nGrab your team and join us every Tuesday at 7 PM for a night of brain-busting fun\, cold beers\, and great vibes. \n🏆 Prizes for top teams\n🍺 Craft beer on tap\n🌮 Rotating food vendors \n📍 Great South Bay Brewery – Bay Shore\nBring your A-game and let’s get quizzical!
URL:https://outonthetownli.com/event/trivia-tuesdays-at-great-south-bay-brewery-%f0%9f%8d%bb/2026-04-28/
LOCATION:Great South Bay Brewery\, 25 Drexel Drive\, Bay Shore\, 11706
CATEGORIES:Game Night
ATTACH;FMTTYPE=image/png:https://outonthetownli.com/wp-content/uploads/2025/04/4-15-25-Trivia-Tuesdays.png
END:VEVENT
BEGIN:VEVENT
DTSTART;TZID=America/New_York:20260429T120000
DTEND;TZID=America/New_York:20260429T200000
DTSTAMP:20260424T060155
CREATED:20240919T122040Z
LAST-MODIFIED:20251221T183604Z
UID:10023039-1777464000-1777492800@outonthetownli.com
SUMMARY:Riverhead Ciderhouse
DESCRIPTION:Favorite0🎉 Get ready for a jam-packed calendar of entertainment at Riverhead Ciderhouse! From brain-bending Trivia Nights to the toe-tapping tunes of Dueling Pianos and amazing Live Music\, we’ve got it all. Check out our upcoming schedule and plan your nights out with us! 🍎🎶
URL:https://outonthetownli.com/event/riverhead-ciderhouse/2026-04-29/
LOCATION:Riverhead Ciderhouse\, 2711 Sound Ave\, Calverton\, 11933
CATEGORIES:Creative Activities,Game Night,Live Music,Night Life
ATTACH;FMTTYPE=image/png:https://outonthetownli.com/wp-content/uploads/2024/09/Capture-12.png
END:VEVENT
BEGIN:VEVENT
DTSTART;TZID=America/New_York:20260430T120000
DTEND;TZID=America/New_York:20260430T200000
DTSTAMP:20260424T060155
CREATED:20240919T122040Z
LAST-MODIFIED:20251221T183604Z
UID:10023040-1777550400-1777579200@outonthetownli.com
SUMMARY:Riverhead Ciderhouse
DESCRIPTION:Favorite0🎉 Get ready for a jam-packed calendar of entertainment at Riverhead Ciderhouse! From brain-bending Trivia Nights to the toe-tapping tunes of Dueling Pianos and amazing Live Music\, we’ve got it all. Check out our upcoming schedule and plan your nights out with us! 🍎🎶
URL:https://outonthetownli.com/event/riverhead-ciderhouse/2026-04-30/
LOCATION:Riverhead Ciderhouse\, 2711 Sound Ave\, Calverton\, 11933
CATEGORIES:Creative Activities,Game Night,Live Music,Night Life
ATTACH;FMTTYPE=image/png:https://outonthetownli.com/wp-content/uploads/2024/09/Capture-12.png
END:VEVENT
BEGIN:VEVENT
DTSTART;TZID=America/New_York:20260430T190000
DTEND;TZID=America/New_York:20260430T220000
DTSTAMP:20260424T060155
CREATED:20241218T024304Z
LAST-MODIFIED:20251212T033435Z
UID:10024975-1777575600-1777586400@outonthetownli.com
SUMMARY:🎉 BINGO AT THE BREWERY! 🎉
DESCRIPTION:Favorite0Join us every Thursday at 7 PM for a fun-filled night of Bingo! 🍺\nBuy a pint\, get a Bingo card and play for fabulous prizes! 🏆 \n📍 Where: @PortJeffBrewing\, 22 Mill Creek Rd\n🕖 When: Thursdays at 7 PM \nDon’t miss out on the fun – BINGO and pints await! 🍻
URL:https://outonthetownli.com/event/%f0%9f%8e%89-bingo-at-the-brewery-%f0%9f%8e%89/2026-04-30/
LOCATION:PORT JEFF BREWING COMPANY\, 22 Mill Creek Rd\, Port Jefferson\, 11777
CATEGORIES:Game Night,Night Life
ATTACH;FMTTYPE=image/png:https://outonthetownli.com/wp-content/uploads/2024/12/𝘽𝙄𝙉𝙂𝙊-𝘼𝙩-𝙏𝙝𝙚-𝘽𝙧𝙚𝙬𝙚𝙧𝙮-thursdays.png
END:VEVENT
END:VCALENDAR