BEGIN:VCALENDAR
VERSION:2.0
PRODID:-//Out on the Town - ECPv6.15.20//NONSGML v1.0//EN
CALSCALE:GREGORIAN
METHOD:PUBLISH
X-WR-CALNAME:Out on the Town
X-ORIGINAL-URL:https://outonthetownli.com
X-WR-CALDESC:Events for Out on the Town
REFRESH-INTERVAL;VALUE=DURATION:PT1H
X-Robots-Tag:noindex
X-PUBLISHED-TTL:PT1H
BEGIN:VTIMEZONE
TZID:America/New_York
BEGIN:DAYLIGHT
TZOFFSETFROM:-0500
TZOFFSETTO:-0400
TZNAME:EDT
DTSTART:20250309T070000
END:DAYLIGHT
BEGIN:STANDARD
TZOFFSETFROM:-0400
TZOFFSETTO:-0500
TZNAME:EST
DTSTART:20251102T060000
END:STANDARD
BEGIN:DAYLIGHT
TZOFFSETFROM:-0500
TZOFFSETTO:-0400
TZNAME:EDT
DTSTART:20260308T070000
END:DAYLIGHT
BEGIN:STANDARD
TZOFFSETFROM:-0400
TZOFFSETTO:-0500
TZNAME:EST
DTSTART:20261101T060000
END:STANDARD
BEGIN:DAYLIGHT
TZOFFSETFROM:-0500
TZOFFSETTO:-0400
TZNAME:EDT
DTSTART:20270314T070000
END:DAYLIGHT
BEGIN:STANDARD
TZOFFSETFROM:-0400
TZOFFSETTO:-0500
TZNAME:EST
DTSTART:20271107T060000
END:STANDARD
END:VTIMEZONE
BEGIN:VEVENT
DTSTART;TZID=America/New_York:20260421T190000
DTEND;TZID=America/New_York:20260421T200000
DTSTAMP:20260424T151650
CREATED:20250515T055921Z
LAST-MODIFIED:20251224T163536Z
UID:10026230-1776798000-1776801600@outonthetownli.com
SUMMARY:Not Your Grandma’s Bingo Night!
DESCRIPTION:🎉 Join us every Tuesday at 7PM for Boozy Bingo at Flanagan’s! 🍻 \nWe’re talking:\n✨ Liquor basket giveaways\n🍹 Killer drink specials\n🎶 Live music starting at 7:30PM \nYour midweek party starts here — come for the bingo\, stay for the booze and beats!
URL:https://outonthetownli.com/event/not-your-grandmas-bingo-night/2026-04-21/
LOCATION:Flanagan’s Pub\, 451 Hawkins Ave\, Ronkonkoma\, 11779
CATEGORIES:Game Night,Night Life
ATTACH;FMTTYPE=image/png:https://outonthetownli.com/wp-content/uploads/2025/05/Boozy-Bingo-Tuesdays.png
END:VEVENT
BEGIN:VEVENT
DTSTART;TZID=America/New_York:20260417T183000
DTEND;TZID=America/New_York:20260417T210000
DTSTAMP:20260424T151650
CREATED:20260406T194609Z
LAST-MODIFIED:20260406T194609Z
UID:10026876-1776450600-1776459600@outonthetownli.com
SUMMARY:Something fun is coming to Flanagan’s! 👀
DESCRIPTION:Join us Friday\, April 17 at 6:30 PM for an 80s-themed Murder Mystery Party 🕺🎭 \nDress up\, bring your crew\, enjoy some great food\, and work together to crack the case… 🧩\nWho did it? You’ll have to find out! \nThis is definitely not your average night out 🔥
URL:https://outonthetownli.com/event/something-fun-is-coming-to-flanagans-%f0%9f%91%80/
LOCATION:Flanagan’s Pub\, 451 Hawkins Ave\, Ronkonkoma\, 11779
CATEGORIES:Creative Activities
ATTACH;FMTTYPE=image/png:https://outonthetownli.com/wp-content/uploads/2026/04/4-17-26-Murder-Mystery-Party.png
END:VEVENT
BEGIN:VEVENT
DTSTART;TZID=America/New_York:20260417T183000
DTEND;TZID=America/New_York:20260417T210000
DTSTAMP:20260424T151650
CREATED:20260331T120059Z
LAST-MODIFIED:20260331T120059Z
UID:10026851-1776450600-1776459600@outonthetownli.com
SUMMARY:Something suspicious is coming to Flanagan’s… 👀🔎
DESCRIPTION:Join us for a thrilling Murder Mystery Party where nothing is as it seems! \n📅 Friday\, April 17th\n🕡 6:30 PM \n🕵️‍♀️ Follow the clues\, question the suspects\, and uncover the truth before the killer is revealed… if you can! \n🍽️ Enjoy a delicious 3-course meal\n💲 $85 per person \n🎟 Tickets must be purchased in-house at Flanagan’s\n⚠️ Limited seating available \nBring your crew\, put your detective skills to the test\, and get ready for a night full of mystery\, suspense\, and surprises! 🔍✨
URL:https://outonthetownli.com/event/something-suspicious-is-coming-to-flanagans-%f0%9f%91%80%f0%9f%94%8e/
LOCATION:Flanagan’s Pub\, 451 Hawkins Ave\, Ronkonkoma\, 11779
CATEGORIES:Bands,Live Music
ATTACH;FMTTYPE=image/png:https://outonthetownli.com/wp-content/uploads/2026/03/4-17-26-Murder-Mystery-Party.png
END:VEVENT
BEGIN:VEVENT
DTSTART;TZID=America/New_York:20260417T170000
DTEND;TZID=America/New_York:20260417T233000
DTSTAMP:20260424T151650
CREATED:20251222T194432Z
LAST-MODIFIED:20251223T015813Z
UID:10026157-1776445200-1776468600@outonthetownli.com
SUMMARY:🍻 FRIDAY HAPPY HOUR + LIVE MUSIC
DESCRIPTION:Unwind with Friday Happy Hour specials and stay for live music starting in the evening!\nGreat drinks\, great food\, and great vibes — all in one place. \n🎶 Live Music Every Friday Night\nSupport local artists and kick off your weekend right. \n🍔 LATE-NIGHT KITCHEN \n🕘 Fridays | 9:00 PM – 12:00 AM\nCraving something tasty after dark? Our kitchen stays open late every Friday — come grab your favorite bites while you enjoy the show!
URL:https://outonthetownli.com/event/%f0%9f%8d%bb-friday-happy-hour-live-music/2026-04-17/
LOCATION:Flanagan’s Pub\, 451 Hawkins Ave\, Ronkonkoma\, 11779
CATEGORIES:Bands,Live Music
ATTACH;FMTTYPE=image/png:https://outonthetownli.com/wp-content/uploads/2025/12/Live-Music-Friday-Night.png
END:VEVENT
BEGIN:VEVENT
DTSTART;TZID=America/New_York:20260411T200000
DTEND;TZID=America/New_York:20260411T233000
DTSTAMP:20260424T151650
CREATED:20260402T153904Z
LAST-MODIFIED:20260402T153904Z
UID:10026866-1775937600-1775950200@outonthetownli.com
SUMMARY:🎶✨ Save the Date – Freestyle Night! ✨🎶
DESCRIPTION:Get ready for a night of throwbacks\, dancing\, and nothing but good vibes! \n📅 Saturday\, April 11\n📍 Flanagan’s Pub\n🕗 8PM \n🎧 Music by DJ Jeff Nec \nRound up your friends\, warm up your best moves\, and hit the dance floor for a fun-filled night at the pub! 💃🕺 \nDon’t miss it—great music\, great company\, and a night you won’t forget! 🍻
URL:https://outonthetownli.com/event/%f0%9f%8e%b6%e2%9c%a8-save-the-date-freestyle-night-%e2%9c%a8%f0%9f%8e%b6/
LOCATION:Flanagan’s Pub\, 451 Hawkins Ave\, Ronkonkoma\, 11779
CATEGORIES:Bands,Live Music
ATTACH;FMTTYPE=image/png:https://outonthetownli.com/wp-content/uploads/2026/04/4-11-26-Freestyle-Night.png
END:VEVENT
BEGIN:VEVENT
DTSTART;TZID=America/New_York:20260328T190000
DTEND;TZID=America/New_York:20260328T220000
DTSTAMP:20260424T151650
CREATED:20260315T141555Z
LAST-MODIFIED:20260315T141555Z
UID:10026765-1774724400-1774735200@outonthetownli.com
SUMMARY:✨🎤 Decades of Divas – Live at Flanagan’s Pub! 🎤✨
DESCRIPTION:Get ready for a big night out at Decades of Divas on Saturday\, March 28th starting at 7 PM! \nThis Valerie Rose production brings the magic of legendary divas to the stage with amazing performances inspired by:\n💫 Cher\n🎤 Lady Gaga\n👑 Madonna\n🎶 Stevie\n🌹 Adele \nExpect incredible vocals\, dazzling performances\, and a night full of your favorite hits spanning generations. \n📅 Saturday\, March 28\, 2026\n⏰ Show Starts: 7 PM\n📍 Flanagan’s Pub \n☎️ Reservations recommended — call to reserve your table! \nGather your friends and get ready for an unforgettable night of music and diva energy! ✨
URL:https://outonthetownli.com/event/%e2%9c%a8%f0%9f%8e%a4-decades-of-divas-live-at-flanagans-pub-%f0%9f%8e%a4%e2%9c%a8/
LOCATION:Flanagan’s Pub\, 451 Hawkins Ave\, Ronkonkoma\, 11779
CATEGORIES:Night Life
ATTACH;FMTTYPE=image/png:https://outonthetownli.com/wp-content/uploads/2026/03/3-28-26-Decades-of-Divas.png
END:VEVENT
BEGIN:VEVENT
DTSTART;TZID=America/New_York:20260327T190000
DTEND;TZID=America/New_York:20260327T220000
DTSTAMP:20260424T151650
CREATED:20260315T141542Z
LAST-MODIFIED:20260315T141542Z
UID:10026766-1774638000-1774648800@outonthetownli.com
SUMMARY:🎶 Live Music at Flanagan’s Pub! 🍻
DESCRIPTION:We’re closing out March with The Como Brothers live on stage! Start your weekend the right way with great music\, good food\, and your favorite drinks. \n📅 Friday\, March 27\, 2026\n⏰ 7 PM\n📍 Flanagan’s Pub \nThe perfect start to the weekend — grab some friends and join us for a great night of live music! 🎸
URL:https://outonthetownli.com/event/%f0%9f%8e%b6-live-music-at-flanagans-pub-%f0%9f%8d%bb/
LOCATION:Flanagan’s Pub\, 451 Hawkins Ave\, Ronkonkoma\, 11779
CATEGORIES:Bands,Live Music
ATTACH;FMTTYPE=image/png:https://outonthetownli.com/wp-content/uploads/2026/03/3-27-26-Como-Brothers.png
END:VEVENT
END:VCALENDAR