BEGIN:VCALENDAR
VERSION:2.0
PRODID:-//Out on the Town - ECPv6.15.20//NONSGML v1.0//EN
CALSCALE:GREGORIAN
METHOD:PUBLISH
X-ORIGINAL-URL:https://outonthetownli.com
X-WR-CALDESC:Events for Out on the Town
REFRESH-INTERVAL;VALUE=DURATION:PT1H
X-Robots-Tag:noindex
X-PUBLISHED-TTL:PT1H
BEGIN:VTIMEZONE
TZID:America/New_York
BEGIN:DAYLIGHT
TZOFFSETFROM:-0500
TZOFFSETTO:-0400
TZNAME:EDT
DTSTART:20250309T070000
END:DAYLIGHT
BEGIN:STANDARD
TZOFFSETFROM:-0400
TZOFFSETTO:-0500
TZNAME:EST
DTSTART:20251102T060000
END:STANDARD
BEGIN:DAYLIGHT
TZOFFSETFROM:-0500
TZOFFSETTO:-0400
TZNAME:EDT
DTSTART:20260308T070000
END:DAYLIGHT
BEGIN:STANDARD
TZOFFSETFROM:-0400
TZOFFSETTO:-0500
TZNAME:EST
DTSTART:20261101T060000
END:STANDARD
BEGIN:DAYLIGHT
TZOFFSETFROM:-0500
TZOFFSETTO:-0400
TZNAME:EDT
DTSTART:20270314T070000
END:DAYLIGHT
BEGIN:STANDARD
TZOFFSETFROM:-0400
TZOFFSETTO:-0500
TZNAME:EST
DTSTART:20271107T060000
END:STANDARD
END:VTIMEZONE
BEGIN:VEVENT
DTSTART;TZID=America/New_York:20260423T190000
DTEND;TZID=America/New_York:20260423T210000
DTSTAMP:20260425T094308
CREATED:20250823T035745Z
LAST-MODIFIED:20251212T033152Z
UID:10024912-1776970800-1776978000@outonthetownli.com
SUMMARY:🎉 Thursday Trivia Night at Moriches Field Brewing Co. 🍻
DESCRIPTION:📍 Moriches Field Brewing Co.\n🕖 Every Thursday | 7:00 PM – 8:45 PM \nFor over 4 years\, we’ve been perfecting the art of a fun\, laid-back trivia night — and you’re invited! Each week brings a new set of clever questions\, great prizes\, and plenty of laughs. Pair that with our delicious MFBC craft beer\, and you’ve got the recipe for a perfect Thursday evening. \nBring your friends\, your smarts\, and your sense of humor — and we’ll take care of the rest. 🍺🧠🎁 \nNo cover. Just fun.\nLet’s make Thursday your favorite night of the week!
URL:https://outonthetownli.com/event/%f0%9f%8e%89-thursday-trivia-night-at-moriches-field-brewing-co-%f0%9f%8d%bb/2026-04-23/
LOCATION:Moriches Field Brewing Co\, 1 Wilcox Avenue\, Center Moriches\, 11934
CATEGORIES:Game Night
ATTACH;FMTTYPE=image/png:https://outonthetownli.com/wp-content/uploads/2025/08/8-28-25-trivia-night-thursdays-August.png
END:VEVENT
BEGIN:VEVENT
DTSTART;TZID=America/New_York:20260328T190000
DTEND;TZID=America/New_York:20260328T220000
DTSTAMP:20260425T094308
CREATED:20260304T162316Z
LAST-MODIFIED:20260304T162316Z
UID:10026688-1774724400-1774735200@outonthetownli.com
SUMMARY:🎤 Karaoke Night is Back! 🎤
DESCRIPTION:Saturday\, March 28th | 7–10PM \nIt’s your time to shine at MFBC Karaoke Night! Whether you’re a rockstar or a shower-singer superstar\, grab the mic and bring the energy. 🌟 \nAmazing craft beer + big performances = an unforgettable night. \nWho’s taking the stage first? 🎶🍺
URL:https://outonthetownli.com/event/%f0%9f%8e%a4-karaoke-night-is-back-%f0%9f%8e%a4/
LOCATION:Moriches Field Brewing Co\, 1 Wilcox Avenue\, Center Moriches\, 11934
CATEGORIES:Karaoke,Live Music
ATTACH;FMTTYPE=image/png:https://outonthetownli.com/wp-content/uploads/2026/03/March-2026-3.png
END:VEVENT
END:VCALENDAR